BEGIN:VCALENDAR
VERSION:2.0
PRODID:-//Myrtle Learning - ECPv6.15.3//NONSGML v1.0//EN
CALSCALE:GREGORIAN
METHOD:PUBLISH
X-WR-CALNAME:Myrtle Learning
X-ORIGINAL-URL:https://myrtlelearning.com
X-WR-CALDESC:Events for Myrtle Learning
REFRESH-INTERVAL;VALUE=DURATION:PT1H
X-Robots-Tag:noindex
X-PUBLISHED-TTL:PT1H
BEGIN:VTIMEZONE
TZID:UTC
BEGIN:STANDARD
TZOFFSETFROM:+0000
TZOFFSETTO:+0000
TZNAME:UTC
DTSTART:20260101T000000
END:STANDARD
END:VTIMEZONE
BEGIN:VEVENT
DTSTART;TZID=UTC:20260426T093000
DTEND;TZID=UTC:20260426T113000
DTSTAMP:20260426T011904
CREATED:20260425T133531Z
LAST-MODIFIED:20260425T133533Z
UID:10103620-1777195800-1777203000@myrtlelearning.com
SUMMARY:26GE Myrtle 4
DESCRIPTION:26GE Myrtle 4  \nThese group is made of students preparing for their GCSE exams in 2026 \nSelect the button below to join the lesson online
URL:https://myrtlelearning.com/event/26ge-myrtle-4-2/
LOCATION:Online Session\, 25 Pattens Gardens\, Rochester\, Other\, ME1 2QP\, United Kingdom
CATEGORIES:26GE Myrtle 4
ATTACH;FMTTYPE=image/jpeg:https://myrtlelearning.com/wp-content/uploads/2023/08/myrtle-icon-whitejpg.jpg
ORGANIZER;CN="Abbie":MAILTO:barnesab@myrtlelearning.com
END:VEVENT
BEGIN:VEVENT
DTSTART;TZID=UTC:20260426T150000
DTEND;TZID=UTC:20260426T160000
DTSTAMP:20260426T011904
CREATED:20250302T104438Z
LAST-MODIFIED:20250302T104540Z
UID:10068090-1777215600-1777219200@myrtlelearning.com
SUMMARY:30EP Myrtle 1 ENG
DESCRIPTION:30EP Myrtle 1 ENG \nThese group is made of students preparing to improve their attainment in primary school \nSelect the button below to join the lesson online
URL:https://myrtlelearning.com/event/30ep-myrtle-1-eng/2026-04-26/
LOCATION:Online Session\, 25 Pattens Gardens\, Rochester\, Other\, ME1 2QP\, United Kingdom
CATEGORIES:30EP Myrtle 1 ENG
ATTACH;FMTTYPE=image/jpeg:https://myrtlelearning.com/wp-content/uploads/2023/08/myrtle-icon-whitejpg.jpg
END:VEVENT
END:VCALENDAR