BEGIN:VCALENDAR
VERSION:2.0
PRODID:-//Myrtle Learning - ECPv6.15.3//NONSGML v1.0//EN
CALSCALE:GREGORIAN
METHOD:PUBLISH
X-ORIGINAL-URL:https://myrtlelearning.com
X-WR-CALDESC:Events for Myrtle Learning
REFRESH-INTERVAL;VALUE=DURATION:PT1H
X-Robots-Tag:noindex
X-PUBLISHED-TTL:PT1H
BEGIN:VTIMEZONE
TZID:UTC
BEGIN:STANDARD
TZOFFSETFROM:+0000
TZOFFSETTO:+0000
TZNAME:UTC
DTSTART:20250101T000000
END:STANDARD
END:VTIMEZONE
BEGIN:VEVENT
DTSTART;TZID=UTC:20250701T150000
DTEND;TZID=UTC:20250701T160000
DTSTAMP:20260421T153917
CREATED:20250307T110655Z
LAST-MODIFIED:20250307T110823Z
UID:10068308-1751382000-1751385600@myrtlelearning.com
SUMMARY:30EP Myrtle 1 Ma
DESCRIPTION:30EP Myrtle 1 Ma \nThese group is made of students preparing to improve their attainment in primary school \nSelect the button below to join the lesson online
URL:https://myrtlelearning.com/event/30ep-myrtle-1-ma-2/2025-07-01/
LOCATION:Online Session\, 25 Pattens Gardens\, Rochester\, Other\, ME1 2QP\, United Kingdom
CATEGORIES:11Plus Summer 22,30EP Myrtle 1 Ma
ATTACH;FMTTYPE=image/jpeg:https://myrtlelearning.com/wp-content/uploads/2023/08/myrtle-icon-whitejpg.jpg
END:VEVENT
BEGIN:VEVENT
DTSTART;TZID=UTC:20250708T150000
DTEND;TZID=UTC:20250708T160000
DTSTAMP:20260421T153917
CREATED:20250307T110655Z
LAST-MODIFIED:20250307T110823Z
UID:10068309-1751986800-1751990400@myrtlelearning.com
SUMMARY:30EP Myrtle 1 Ma
DESCRIPTION:30EP Myrtle 1 Ma \nThese group is made of students preparing to improve their attainment in primary school \nSelect the button below to join the lesson online
URL:https://myrtlelearning.com/event/30ep-myrtle-1-ma-2/2025-07-08/
LOCATION:Online Session\, 25 Pattens Gardens\, Rochester\, Other\, ME1 2QP\, United Kingdom
CATEGORIES:11Plus Summer 22,30EP Myrtle 1 Ma
ATTACH;FMTTYPE=image/jpeg:https://myrtlelearning.com/wp-content/uploads/2023/08/myrtle-icon-whitejpg.jpg
END:VEVENT
BEGIN:VEVENT
DTSTART;TZID=UTC:20250715T150000
DTEND;TZID=UTC:20250715T160000
DTSTAMP:20260421T153917
CREATED:20250307T110655Z
LAST-MODIFIED:20250307T110823Z
UID:10068310-1752591600-1752595200@myrtlelearning.com
SUMMARY:30EP Myrtle 1 Ma
DESCRIPTION:30EP Myrtle 1 Ma \nThese group is made of students preparing to improve their attainment in primary school \nSelect the button below to join the lesson online
URL:https://myrtlelearning.com/event/30ep-myrtle-1-ma-2/2025-07-15/
LOCATION:Online Session\, 25 Pattens Gardens\, Rochester\, Other\, ME1 2QP\, United Kingdom
CATEGORIES:11Plus Summer 22,30EP Myrtle 1 Ma
ATTACH;FMTTYPE=image/jpeg:https://myrtlelearning.com/wp-content/uploads/2023/08/myrtle-icon-whitejpg.jpg
END:VEVENT
BEGIN:VEVENT
DTSTART;TZID=UTC:20250722T150000
DTEND;TZID=UTC:20250722T160000
DTSTAMP:20260421T153917
CREATED:20250307T110655Z
LAST-MODIFIED:20250307T110823Z
UID:10068311-1753196400-1753200000@myrtlelearning.com
SUMMARY:30EP Myrtle 1 Ma
DESCRIPTION:30EP Myrtle 1 Ma \nThese group is made of students preparing to improve their attainment in primary school \nSelect the button below to join the lesson online
URL:https://myrtlelearning.com/event/30ep-myrtle-1-ma-2/2025-07-22/
LOCATION:Online Session\, 25 Pattens Gardens\, Rochester\, Other\, ME1 2QP\, United Kingdom
CATEGORIES:11Plus Summer 22,30EP Myrtle 1 Ma
ATTACH;FMTTYPE=image/jpeg:https://myrtlelearning.com/wp-content/uploads/2023/08/myrtle-icon-whitejpg.jpg
END:VEVENT
BEGIN:VEVENT
DTSTART;TZID=UTC:20250729T150000
DTEND;TZID=UTC:20250729T160000
DTSTAMP:20260421T153917
CREATED:20250307T110655Z
LAST-MODIFIED:20250307T110823Z
UID:10068312-1753801200-1753804800@myrtlelearning.com
SUMMARY:30EP Myrtle 1 Ma
DESCRIPTION:30EP Myrtle 1 Ma \nThese group is made of students preparing to improve their attainment in primary school \nSelect the button below to join the lesson online
URL:https://myrtlelearning.com/event/30ep-myrtle-1-ma-2/2025-07-29/
LOCATION:Online Session\, 25 Pattens Gardens\, Rochester\, Other\, ME1 2QP\, United Kingdom
CATEGORIES:11Plus Summer 22,30EP Myrtle 1 Ma
ATTACH;FMTTYPE=image/jpeg:https://myrtlelearning.com/wp-content/uploads/2023/08/myrtle-icon-whitejpg.jpg
END:VEVENT
END:VCALENDAR