BEGIN:VCALENDAR
VERSION:2.0
PRODID:-//Myrtle Learning - ECPv6.15.3//NONSGML v1.0//EN
CALSCALE:GREGORIAN
METHOD:PUBLISH
X-ORIGINAL-URL:https://myrtlelearning.com
X-WR-CALDESC:Events for Myrtle Learning
REFRESH-INTERVAL;VALUE=DURATION:PT1H
X-Robots-Tag:noindex
X-PUBLISHED-TTL:PT1H
BEGIN:VTIMEZONE
TZID:UTC
BEGIN:STANDARD
TZOFFSETFROM:+0000
TZOFFSETTO:+0000
TZNAME:UTC
DTSTART:20250101T000000
END:STANDARD
END:VTIMEZONE
BEGIN:VEVENT
DTSTART;TZID=UTC:20251202T150000
DTEND;TZID=UTC:20251202T160000
DTSTAMP:20260421T082012
CREATED:20250307T110655Z
LAST-MODIFIED:20250307T110823Z
UID:10068330-1764687600-1764691200@myrtlelearning.com
SUMMARY:30EP Myrtle 1 Ma
DESCRIPTION:30EP Myrtle 1 Ma \nThese group is made of students preparing to improve their attainment in primary school \nSelect the button below to join the lesson online
URL:https://myrtlelearning.com/event/30ep-myrtle-1-ma-2/2025-12-02/
LOCATION:Online Session\, 25 Pattens Gardens\, Rochester\, Other\, ME1 2QP\, United Kingdom
CATEGORIES:11Plus Summer 22,30EP Myrtle 1 Ma
ATTACH;FMTTYPE=image/jpeg:https://myrtlelearning.com/wp-content/uploads/2023/08/myrtle-icon-whitejpg.jpg
END:VEVENT
BEGIN:VEVENT
DTSTART;TZID=UTC:20251209T150000
DTEND;TZID=UTC:20251209T160000
DTSTAMP:20260421T082012
CREATED:20250307T110655Z
LAST-MODIFIED:20250307T110823Z
UID:10068331-1765292400-1765296000@myrtlelearning.com
SUMMARY:30EP Myrtle 1 Ma
DESCRIPTION:30EP Myrtle 1 Ma \nThese group is made of students preparing to improve their attainment in primary school \nSelect the button below to join the lesson online
URL:https://myrtlelearning.com/event/30ep-myrtle-1-ma-2/2025-12-09/
LOCATION:Online Session\, 25 Pattens Gardens\, Rochester\, Other\, ME1 2QP\, United Kingdom
CATEGORIES:11Plus Summer 22,30EP Myrtle 1 Ma
ATTACH;FMTTYPE=image/jpeg:https://myrtlelearning.com/wp-content/uploads/2023/08/myrtle-icon-whitejpg.jpg
END:VEVENT
BEGIN:VEVENT
DTSTART;TZID=UTC:20251216T150000
DTEND;TZID=UTC:20251216T160000
DTSTAMP:20260421T082012
CREATED:20250307T110655Z
LAST-MODIFIED:20250307T110823Z
UID:10068332-1765897200-1765900800@myrtlelearning.com
SUMMARY:30EP Myrtle 1 Ma
DESCRIPTION:30EP Myrtle 1 Ma \nThese group is made of students preparing to improve their attainment in primary school \nSelect the button below to join the lesson online
URL:https://myrtlelearning.com/event/30ep-myrtle-1-ma-2/2025-12-16/
LOCATION:Online Session\, 25 Pattens Gardens\, Rochester\, Other\, ME1 2QP\, United Kingdom
CATEGORIES:11Plus Summer 22,30EP Myrtle 1 Ma
ATTACH;FMTTYPE=image/jpeg:https://myrtlelearning.com/wp-content/uploads/2023/08/myrtle-icon-whitejpg.jpg
END:VEVENT
BEGIN:VEVENT
DTSTART;TZID=UTC:20251223T150000
DTEND;TZID=UTC:20251223T160000
DTSTAMP:20260421T082012
CREATED:20250307T110655Z
LAST-MODIFIED:20250307T110823Z
UID:10068333-1766502000-1766505600@myrtlelearning.com
SUMMARY:30EP Myrtle 1 Ma
DESCRIPTION:30EP Myrtle 1 Ma \nThese group is made of students preparing to improve their attainment in primary school \nSelect the button below to join the lesson online
URL:https://myrtlelearning.com/event/30ep-myrtle-1-ma-2/2025-12-23/
LOCATION:Online Session\, 25 Pattens Gardens\, Rochester\, Other\, ME1 2QP\, United Kingdom
CATEGORIES:11Plus Summer 22,30EP Myrtle 1 Ma
ATTACH;FMTTYPE=image/jpeg:https://myrtlelearning.com/wp-content/uploads/2023/08/myrtle-icon-whitejpg.jpg
END:VEVENT
BEGIN:VEVENT
DTSTART;TZID=UTC:20251230T150000
DTEND;TZID=UTC:20251230T160000
DTSTAMP:20260421T082012
CREATED:20250307T110655Z
LAST-MODIFIED:20250307T110823Z
UID:10068334-1767106800-1767110400@myrtlelearning.com
SUMMARY:30EP Myrtle 1 Ma
DESCRIPTION:30EP Myrtle 1 Ma \nThese group is made of students preparing to improve their attainment in primary school \nSelect the button below to join the lesson online
URL:https://myrtlelearning.com/event/30ep-myrtle-1-ma-2/2025-12-30/
LOCATION:Online Session\, 25 Pattens Gardens\, Rochester\, Other\, ME1 2QP\, United Kingdom
CATEGORIES:11Plus Summer 22,30EP Myrtle 1 Ma
ATTACH;FMTTYPE=image/jpeg:https://myrtlelearning.com/wp-content/uploads/2023/08/myrtle-icon-whitejpg.jpg
END:VEVENT
END:VCALENDAR