BEGIN:VCALENDAR
VERSION:2.0
PRODID:-//Myrtle Learning - ECPv6.15.3//NONSGML v1.0//EN
CALSCALE:GREGORIAN
METHOD:PUBLISH
X-ORIGINAL-URL:https://myrtlelearning.com
X-WR-CALDESC:Events for Myrtle Learning
REFRESH-INTERVAL;VALUE=DURATION:PT1H
X-Robots-Tag:noindex
X-PUBLISHED-TTL:PT1H
BEGIN:VTIMEZONE
TZID:UTC
BEGIN:STANDARD
TZOFFSETFROM:+0000
TZOFFSETTO:+0000
TZNAME:UTC
DTSTART:20260101T000000
END:STANDARD
END:VTIMEZONE
BEGIN:VEVENT
DTSTART;TZID=UTC:20260306T083000
DTEND;TZID=UTC:20260306T130000
DTSTAMP:20260420T211646
CREATED:20240229T104150Z
LAST-MODIFIED:20240229T104150Z
UID:10033909-1772785800-1772802000@myrtlelearning.com
SUMMARY:24CH Myrtle 2
DESCRIPTION:24ACH Myrtle 2 \nThese group is made of students preparing for their A Level Chemistry exams in 2024 \nSelect the button below to join the lesson online
URL:https://myrtlelearning.com/event/24ch-myrtle-2/2026-03-06/
LOCATION:Online Session\, 25 Pattens Gardens\, Rochester\, Other\, ME1 2QP\, United Kingdom
CATEGORIES:24ACH Myrtle 2
ATTACH;FMTTYPE=image/jpeg:https://myrtlelearning.com/wp-content/uploads/2023/08/myrtle-icon-whitejpg.jpg
END:VEVENT
BEGIN:VEVENT
DTSTART;TZID=UTC:20260313T083000
DTEND;TZID=UTC:20260313T130000
DTSTAMP:20260420T211646
CREATED:20240229T104150Z
LAST-MODIFIED:20240229T104150Z
UID:10033910-1773390600-1773406800@myrtlelearning.com
SUMMARY:24CH Myrtle 2
DESCRIPTION:24ACH Myrtle 2 \nThese group is made of students preparing for their A Level Chemistry exams in 2024 \nSelect the button below to join the lesson online
URL:https://myrtlelearning.com/event/24ch-myrtle-2/2026-03-13/
LOCATION:Online Session\, 25 Pattens Gardens\, Rochester\, Other\, ME1 2QP\, United Kingdom
CATEGORIES:24ACH Myrtle 2
ATTACH;FMTTYPE=image/jpeg:https://myrtlelearning.com/wp-content/uploads/2023/08/myrtle-icon-whitejpg.jpg
END:VEVENT
BEGIN:VEVENT
DTSTART;TZID=UTC:20260320T083000
DTEND;TZID=UTC:20260320T130000
DTSTAMP:20260420T211646
CREATED:20240229T104150Z
LAST-MODIFIED:20240229T104150Z
UID:10033911-1773995400-1774011600@myrtlelearning.com
SUMMARY:24CH Myrtle 2
DESCRIPTION:24ACH Myrtle 2 \nThese group is made of students preparing for their A Level Chemistry exams in 2024 \nSelect the button below to join the lesson online
URL:https://myrtlelearning.com/event/24ch-myrtle-2/2026-03-20/
LOCATION:Online Session\, 25 Pattens Gardens\, Rochester\, Other\, ME1 2QP\, United Kingdom
CATEGORIES:24ACH Myrtle 2
ATTACH;FMTTYPE=image/jpeg:https://myrtlelearning.com/wp-content/uploads/2023/08/myrtle-icon-whitejpg.jpg
END:VEVENT
BEGIN:VEVENT
DTSTART;TZID=UTC:20260327T083000
DTEND;TZID=UTC:20260327T130000
DTSTAMP:20260420T211646
CREATED:20240229T104150Z
LAST-MODIFIED:20240229T104150Z
UID:10033912-1774600200-1774616400@myrtlelearning.com
SUMMARY:24CH Myrtle 2
DESCRIPTION:24ACH Myrtle 2 \nThese group is made of students preparing for their A Level Chemistry exams in 2024 \nSelect the button below to join the lesson online
URL:https://myrtlelearning.com/event/24ch-myrtle-2/2026-03-27/
LOCATION:Online Session\, 25 Pattens Gardens\, Rochester\, Other\, ME1 2QP\, United Kingdom
CATEGORIES:24ACH Myrtle 2
ATTACH;FMTTYPE=image/jpeg:https://myrtlelearning.com/wp-content/uploads/2023/08/myrtle-icon-whitejpg.jpg
END:VEVENT
END:VCALENDAR