BEGIN:VCALENDAR
VERSION:2.0
PRODID:-//Myrtle Learning - ECPv6.15.3//NONSGML v1.0//EN
CALSCALE:GREGORIAN
METHOD:PUBLISH
X-ORIGINAL-URL:https://myrtlelearning.com
X-WR-CALDESC:Events for Myrtle Learning
REFRESH-INTERVAL;VALUE=DURATION:PT1H
X-Robots-Tag:noindex
X-PUBLISHED-TTL:PT1H
BEGIN:VTIMEZONE
TZID:UTC
BEGIN:STANDARD
TZOFFSETFROM:+0000
TZOFFSETTO:+0000
TZNAME:UTC
DTSTART:20270101T000000
END:STANDARD
END:VTIMEZONE
BEGIN:VEVENT
DTSTART;TZID=UTC:20270305T083000
DTEND;TZID=UTC:20270305T130000
DTSTAMP:20260421T191354
CREATED:20240229T104150Z
LAST-MODIFIED:20240229T104150Z
UID:10033961-1804235400-1804251600@myrtlelearning.com
SUMMARY:24CH Myrtle 2
DESCRIPTION:24ACH Myrtle 2 \nThese group is made of students preparing for their A Level Chemistry exams in 2024 \nSelect the button below to join the lesson online
URL:https://myrtlelearning.com/event/24ch-myrtle-2/2027-03-05/
LOCATION:Online Session\, 25 Pattens Gardens\, Rochester\, Other\, ME1 2QP\, United Kingdom
CATEGORIES:24ACH Myrtle 2
ATTACH;FMTTYPE=image/jpeg:https://myrtlelearning.com/wp-content/uploads/2023/08/myrtle-icon-whitejpg.jpg
END:VEVENT
BEGIN:VEVENT
DTSTART;TZID=UTC:20270312T083000
DTEND;TZID=UTC:20270312T130000
DTSTAMP:20260421T191354
CREATED:20240229T104150Z
LAST-MODIFIED:20240229T104150Z
UID:10033962-1804840200-1804856400@myrtlelearning.com
SUMMARY:24CH Myrtle 2
DESCRIPTION:24ACH Myrtle 2 \nThese group is made of students preparing for their A Level Chemistry exams in 2024 \nSelect the button below to join the lesson online
URL:https://myrtlelearning.com/event/24ch-myrtle-2/2027-03-12/
LOCATION:Online Session\, 25 Pattens Gardens\, Rochester\, Other\, ME1 2QP\, United Kingdom
CATEGORIES:24ACH Myrtle 2
ATTACH;FMTTYPE=image/jpeg:https://myrtlelearning.com/wp-content/uploads/2023/08/myrtle-icon-whitejpg.jpg
END:VEVENT
BEGIN:VEVENT
DTSTART;TZID=UTC:20270319T083000
DTEND;TZID=UTC:20270319T130000
DTSTAMP:20260421T191354
CREATED:20240229T104150Z
LAST-MODIFIED:20240229T104150Z
UID:10033963-1805445000-1805461200@myrtlelearning.com
SUMMARY:24CH Myrtle 2
DESCRIPTION:24ACH Myrtle 2 \nThese group is made of students preparing for their A Level Chemistry exams in 2024 \nSelect the button below to join the lesson online
URL:https://myrtlelearning.com/event/24ch-myrtle-2/2027-03-19/
LOCATION:Online Session\, 25 Pattens Gardens\, Rochester\, Other\, ME1 2QP\, United Kingdom
CATEGORIES:24ACH Myrtle 2
ATTACH;FMTTYPE=image/jpeg:https://myrtlelearning.com/wp-content/uploads/2023/08/myrtle-icon-whitejpg.jpg
END:VEVENT
BEGIN:VEVENT
DTSTART;TZID=UTC:20270326T083000
DTEND;TZID=UTC:20270326T130000
DTSTAMP:20260421T191354
CREATED:20240229T104150Z
LAST-MODIFIED:20240229T104150Z
UID:10033964-1806049800-1806066000@myrtlelearning.com
SUMMARY:24CH Myrtle 2
DESCRIPTION:24ACH Myrtle 2 \nThese group is made of students preparing for their A Level Chemistry exams in 2024 \nSelect the button below to join the lesson online
URL:https://myrtlelearning.com/event/24ch-myrtle-2/2027-03-26/
LOCATION:Online Session\, 25 Pattens Gardens\, Rochester\, Other\, ME1 2QP\, United Kingdom
CATEGORIES:24ACH Myrtle 2
ATTACH;FMTTYPE=image/jpeg:https://myrtlelearning.com/wp-content/uploads/2023/08/myrtle-icon-whitejpg.jpg
END:VEVENT
END:VCALENDAR