BEGIN:VCALENDAR
VERSION:2.0
PRODID:-//Myrtle Learning - ECPv6.15.3//NONSGML v1.0//EN
CALSCALE:GREGORIAN
METHOD:PUBLISH
X-WR-CALNAME:Myrtle Learning
X-ORIGINAL-URL:https://myrtlelearning.com
X-WR-CALDESC:Events for Myrtle Learning
REFRESH-INTERVAL;VALUE=DURATION:PT1H
X-Robots-Tag:noindex
X-PUBLISHED-TTL:PT1H
BEGIN:VTIMEZONE
TZID:UTC
BEGIN:STANDARD
TZOFFSETFROM:+0000
TZOFFSETTO:+0000
TZNAME:UTC
DTSTART:20260101T000000
END:STANDARD
END:VTIMEZONE
BEGIN:VEVENT
DTSTART;TZID=UTC:20260806T170000
DTEND;TZID=UTC:20260806T190000
DTSTAMP:20260423T233948
CREATED:20231207T184546Z
LAST-MODIFIED:20231207T184546Z
UID:10029289-1786035600-1786042800@myrtlelearning.com
SUMMARY:24EP Myrtle 1 EVR
DESCRIPTION:24EP Myrtle 1 EVR \nThese group is made of students preparing for their 11Plus exams in 2024 \nSelect the button below to join the lesson online
URL:https://myrtlelearning.com/event/24ep-myrtle-1-evr/2026-08-06/
LOCATION:Myrtle Learning Centre\, Pattens Gardens\, Rochester\, Kent\, ME1 2QP\, United Kingdom
CATEGORIES:24EP Myrtle 1 EVR
ATTACH;FMTTYPE=image/jpeg:https://myrtlelearning.com/wp-content/uploads/2023/08/myrtle-icon-whitejpg.jpg
END:VEVENT
BEGIN:VEVENT
DTSTART;TZID=UTC:20260813T170000
DTEND;TZID=UTC:20260813T190000
DTSTAMP:20260423T233948
CREATED:20231207T184546Z
LAST-MODIFIED:20231207T184546Z
UID:10029290-1786640400-1786647600@myrtlelearning.com
SUMMARY:24EP Myrtle 1 EVR
DESCRIPTION:24EP Myrtle 1 EVR \nThese group is made of students preparing for their 11Plus exams in 2024 \nSelect the button below to join the lesson online
URL:https://myrtlelearning.com/event/24ep-myrtle-1-evr/2026-08-13/
LOCATION:Myrtle Learning Centre\, Pattens Gardens\, Rochester\, Kent\, ME1 2QP\, United Kingdom
CATEGORIES:24EP Myrtle 1 EVR
ATTACH;FMTTYPE=image/jpeg:https://myrtlelearning.com/wp-content/uploads/2023/08/myrtle-icon-whitejpg.jpg
END:VEVENT
BEGIN:VEVENT
DTSTART;TZID=UTC:20260820T170000
DTEND;TZID=UTC:20260820T190000
DTSTAMP:20260423T233948
CREATED:20231207T184546Z
LAST-MODIFIED:20231207T184546Z
UID:10029291-1787245200-1787252400@myrtlelearning.com
SUMMARY:24EP Myrtle 1 EVR
DESCRIPTION:24EP Myrtle 1 EVR \nThese group is made of students preparing for their 11Plus exams in 2024 \nSelect the button below to join the lesson online
URL:https://myrtlelearning.com/event/24ep-myrtle-1-evr/2026-08-20/
LOCATION:Myrtle Learning Centre\, Pattens Gardens\, Rochester\, Kent\, ME1 2QP\, United Kingdom
CATEGORIES:24EP Myrtle 1 EVR
ATTACH;FMTTYPE=image/jpeg:https://myrtlelearning.com/wp-content/uploads/2023/08/myrtle-icon-whitejpg.jpg
END:VEVENT
BEGIN:VEVENT
DTSTART;TZID=UTC:20260827T170000
DTEND;TZID=UTC:20260827T190000
DTSTAMP:20260423T233948
CREATED:20231207T184546Z
LAST-MODIFIED:20231207T184546Z
UID:10029292-1787850000-1787857200@myrtlelearning.com
SUMMARY:24EP Myrtle 1 EVR
DESCRIPTION:24EP Myrtle 1 EVR \nThese group is made of students preparing for their 11Plus exams in 2024 \nSelect the button below to join the lesson online
URL:https://myrtlelearning.com/event/24ep-myrtle-1-evr/2026-08-27/
LOCATION:Myrtle Learning Centre\, Pattens Gardens\, Rochester\, Kent\, ME1 2QP\, United Kingdom
CATEGORIES:24EP Myrtle 1 EVR
ATTACH;FMTTYPE=image/jpeg:https://myrtlelearning.com/wp-content/uploads/2023/08/myrtle-icon-whitejpg.jpg
END:VEVENT
END:VCALENDAR