BEGIN:VCALENDAR
VERSION:2.0
PRODID:-//Myrtle Learning - ECPv6.15.3//NONSGML v1.0//EN
CALSCALE:GREGORIAN
METHOD:PUBLISH
X-WR-CALNAME:Myrtle Learning
X-ORIGINAL-URL:https://myrtlelearning.com
X-WR-CALDESC:Events for Myrtle Learning
REFRESH-INTERVAL;VALUE=DURATION:PT1H
X-Robots-Tag:noindex
X-PUBLISHED-TTL:PT1H
BEGIN:VTIMEZONE
TZID:UTC
BEGIN:STANDARD
TZOFFSETFROM:+0000
TZOFFSETTO:+0000
TZNAME:UTC
DTSTART:20280101T000000
END:STANDARD
END:VTIMEZONE
BEGIN:VEVENT
DTSTART;TZID=UTC:20280106T170000
DTEND;TZID=UTC:20280106T190000
DTSTAMP:20260425T123215
CREATED:20231207T184546Z
LAST-MODIFIED:20231207T184546Z
UID:10029363-1830790800-1830798000@myrtlelearning.com
SUMMARY:24EP Myrtle 1 EVR
DESCRIPTION:24EP Myrtle 1 EVR \nThese group is made of students preparing for their 11Plus exams in 2024 \nSelect the button below to join the lesson online
URL:https://myrtlelearning.com/event/24ep-myrtle-1-evr/2028-01-06/
LOCATION:Myrtle Learning Centre\, Pattens Gardens\, Rochester\, Kent\, ME1 2QP\, United Kingdom
CATEGORIES:24EP Myrtle 1 EVR
ATTACH;FMTTYPE=image/jpeg:https://myrtlelearning.com/wp-content/uploads/2023/08/myrtle-icon-whitejpg.jpg
END:VEVENT
BEGIN:VEVENT
DTSTART;TZID=UTC:20280113T170000
DTEND;TZID=UTC:20280113T190000
DTSTAMP:20260425T123215
CREATED:20231207T184546Z
LAST-MODIFIED:20231207T184546Z
UID:10029364-1831395600-1831402800@myrtlelearning.com
SUMMARY:24EP Myrtle 1 EVR
DESCRIPTION:24EP Myrtle 1 EVR \nThese group is made of students preparing for their 11Plus exams in 2024 \nSelect the button below to join the lesson online
URL:https://myrtlelearning.com/event/24ep-myrtle-1-evr/2028-01-13/
LOCATION:Myrtle Learning Centre\, Pattens Gardens\, Rochester\, Kent\, ME1 2QP\, United Kingdom
CATEGORIES:24EP Myrtle 1 EVR
ATTACH;FMTTYPE=image/jpeg:https://myrtlelearning.com/wp-content/uploads/2023/08/myrtle-icon-whitejpg.jpg
END:VEVENT
BEGIN:VEVENT
DTSTART;TZID=UTC:20280120T170000
DTEND;TZID=UTC:20280120T190000
DTSTAMP:20260425T123215
CREATED:20231207T184546Z
LAST-MODIFIED:20231207T184546Z
UID:10029365-1832000400-1832007600@myrtlelearning.com
SUMMARY:24EP Myrtle 1 EVR
DESCRIPTION:24EP Myrtle 1 EVR \nThese group is made of students preparing for their 11Plus exams in 2024 \nSelect the button below to join the lesson online
URL:https://myrtlelearning.com/event/24ep-myrtle-1-evr/2028-01-20/
LOCATION:Myrtle Learning Centre\, Pattens Gardens\, Rochester\, Kent\, ME1 2QP\, United Kingdom
CATEGORIES:24EP Myrtle 1 EVR
ATTACH;FMTTYPE=image/jpeg:https://myrtlelearning.com/wp-content/uploads/2023/08/myrtle-icon-whitejpg.jpg
END:VEVENT
BEGIN:VEVENT
DTSTART;TZID=UTC:20280127T170000
DTEND;TZID=UTC:20280127T190000
DTSTAMP:20260425T123215
CREATED:20231207T184546Z
LAST-MODIFIED:20231207T184546Z
UID:10029366-1832605200-1832612400@myrtlelearning.com
SUMMARY:24EP Myrtle 1 EVR
DESCRIPTION:24EP Myrtle 1 EVR \nThese group is made of students preparing for their 11Plus exams in 2024 \nSelect the button below to join the lesson online
URL:https://myrtlelearning.com/event/24ep-myrtle-1-evr/2028-01-27/
LOCATION:Myrtle Learning Centre\, Pattens Gardens\, Rochester\, Kent\, ME1 2QP\, United Kingdom
CATEGORIES:24EP Myrtle 1 EVR
ATTACH;FMTTYPE=image/jpeg:https://myrtlelearning.com/wp-content/uploads/2023/08/myrtle-icon-whitejpg.jpg
END:VEVENT
END:VCALENDAR