BEGIN:VCALENDAR
VERSION:2.0
PRODID:-//Myrtle Learning - ECPv6.15.3//NONSGML v1.0//EN
CALSCALE:GREGORIAN
METHOD:PUBLISH
X-ORIGINAL-URL:https://myrtlelearning.com
X-WR-CALDESC:Events for Myrtle Learning
REFRESH-INTERVAL;VALUE=DURATION:PT1H
X-Robots-Tag:noindex
X-PUBLISHED-TTL:PT1H
BEGIN:VTIMEZONE
TZID:UTC
BEGIN:STANDARD
TZOFFSETFROM:+0000
TZOFFSETTO:+0000
TZNAME:UTC
DTSTART:20280101T000000
END:STANDARD
END:VTIMEZONE
BEGIN:VEVENT
DTSTART;TZID=UTC:20280203T170000
DTEND;TZID=UTC:20280203T190000
DTSTAMP:20260425T161852
CREATED:20231207T184546Z
LAST-MODIFIED:20231207T184546Z
UID:10029367-1833210000-1833217200@myrtlelearning.com
SUMMARY:24EP Myrtle 1 EVR
DESCRIPTION:24EP Myrtle 1 EVR \nThese group is made of students preparing for their 11Plus exams in 2024 \nSelect the button below to join the lesson online
URL:https://myrtlelearning.com/event/24ep-myrtle-1-evr/2028-02-03/
LOCATION:Myrtle Learning Centre\, Pattens Gardens\, Rochester\, Kent\, ME1 2QP\, United Kingdom
CATEGORIES:24EP Myrtle 1 EVR
ATTACH;FMTTYPE=image/jpeg:https://myrtlelearning.com/wp-content/uploads/2023/08/myrtle-icon-whitejpg.jpg
END:VEVENT
BEGIN:VEVENT
DTSTART;TZID=UTC:20280210T170000
DTEND;TZID=UTC:20280210T190000
DTSTAMP:20260425T161852
CREATED:20231207T184546Z
LAST-MODIFIED:20231207T184546Z
UID:10029368-1833814800-1833822000@myrtlelearning.com
SUMMARY:24EP Myrtle 1 EVR
DESCRIPTION:24EP Myrtle 1 EVR \nThese group is made of students preparing for their 11Plus exams in 2024 \nSelect the button below to join the lesson online
URL:https://myrtlelearning.com/event/24ep-myrtle-1-evr/2028-02-10/
LOCATION:Myrtle Learning Centre\, Pattens Gardens\, Rochester\, Kent\, ME1 2QP\, United Kingdom
CATEGORIES:24EP Myrtle 1 EVR
ATTACH;FMTTYPE=image/jpeg:https://myrtlelearning.com/wp-content/uploads/2023/08/myrtle-icon-whitejpg.jpg
END:VEVENT
BEGIN:VEVENT
DTSTART;TZID=UTC:20280217T170000
DTEND;TZID=UTC:20280217T190000
DTSTAMP:20260425T161852
CREATED:20231207T184546Z
LAST-MODIFIED:20231207T184546Z
UID:10029369-1834419600-1834426800@myrtlelearning.com
SUMMARY:24EP Myrtle 1 EVR
DESCRIPTION:24EP Myrtle 1 EVR \nThese group is made of students preparing for their 11Plus exams in 2024 \nSelect the button below to join the lesson online
URL:https://myrtlelearning.com/event/24ep-myrtle-1-evr/2028-02-17/
LOCATION:Myrtle Learning Centre\, Pattens Gardens\, Rochester\, Kent\, ME1 2QP\, United Kingdom
CATEGORIES:24EP Myrtle 1 EVR
ATTACH;FMTTYPE=image/jpeg:https://myrtlelearning.com/wp-content/uploads/2023/08/myrtle-icon-whitejpg.jpg
END:VEVENT
BEGIN:VEVENT
DTSTART;TZID=UTC:20280224T170000
DTEND;TZID=UTC:20280224T190000
DTSTAMP:20260425T161852
CREATED:20231207T184546Z
LAST-MODIFIED:20231207T184546Z
UID:10029370-1835024400-1835031600@myrtlelearning.com
SUMMARY:24EP Myrtle 1 EVR
DESCRIPTION:24EP Myrtle 1 EVR \nThese group is made of students preparing for their 11Plus exams in 2024 \nSelect the button below to join the lesson online
URL:https://myrtlelearning.com/event/24ep-myrtle-1-evr/2028-02-24/
LOCATION:Myrtle Learning Centre\, Pattens Gardens\, Rochester\, Kent\, ME1 2QP\, United Kingdom
CATEGORIES:24EP Myrtle 1 EVR
ATTACH;FMTTYPE=image/jpeg:https://myrtlelearning.com/wp-content/uploads/2023/08/myrtle-icon-whitejpg.jpg
END:VEVENT
END:VCALENDAR