BEGIN:VCALENDAR
VERSION:2.0
PRODID:-//Myrtle Learning - ECPv6.15.3//NONSGML v1.0//EN
CALSCALE:GREGORIAN
METHOD:PUBLISH
X-WR-CALNAME:Myrtle Learning
X-ORIGINAL-URL:https://myrtlelearning.com
X-WR-CALDESC:Events for Myrtle Learning
REFRESH-INTERVAL;VALUE=DURATION:PT1H
X-Robots-Tag:noindex
X-PUBLISHED-TTL:PT1H
BEGIN:VTIMEZONE
TZID:UTC
BEGIN:STANDARD
TZOFFSETFROM:+0000
TZOFFSETTO:+0000
TZNAME:UTC
DTSTART:20230101T000000
END:STANDARD
END:VTIMEZONE
BEGIN:VEVENT
DTSTART;TZID=UTC:20230302T170000
DTEND;TZID=UTC:20230302T190000
DTSTAMP:20260423T112343
CREATED:20221231T103345Z
LAST-MODIFIED:20231105T175633Z
UID:10017777-1677776400-1677783600@myrtlelearning.com
SUMMARY:24EP Myrtle 2 EVR
DESCRIPTION:This lesson covers all the topics for 11 plus CEM and GL assessments \nSelect the button below to join the lesson online
URL:https://myrtlelearning.com/event/11plus-year-4-myrtle-2/2023-03-02/
LOCATION:Myrtle Learning Centre\, Pattens Gardens\, Rochester\, Kent\, ME1 2QP\, United Kingdom
CATEGORIES:24EP Myrtle 2 EVR
ATTACH;FMTTYPE=image/jpeg:https://myrtlelearning.com/wp-content/uploads/2023/08/myrtle-icon-whitejpg.jpg
END:VEVENT
BEGIN:VEVENT
DTSTART;TZID=UTC:20230309T170000
DTEND;TZID=UTC:20230309T190000
DTSTAMP:20260423T112343
CREATED:20221231T103345Z
LAST-MODIFIED:20231105T175633Z
UID:10017778-1678381200-1678388400@myrtlelearning.com
SUMMARY:24EP Myrtle 2 EVR
DESCRIPTION:This lesson covers all the topics for 11 plus CEM and GL assessments \nSelect the button below to join the lesson online
URL:https://myrtlelearning.com/event/11plus-year-4-myrtle-2/2023-03-09/
LOCATION:Myrtle Learning Centre\, Pattens Gardens\, Rochester\, Kent\, ME1 2QP\, United Kingdom
CATEGORIES:24EP Myrtle 2 EVR
ATTACH;FMTTYPE=image/jpeg:https://myrtlelearning.com/wp-content/uploads/2023/08/myrtle-icon-whitejpg.jpg
END:VEVENT
BEGIN:VEVENT
DTSTART;TZID=UTC:20230316T170000
DTEND;TZID=UTC:20230316T190000
DTSTAMP:20260423T112343
CREATED:20221231T103345Z
LAST-MODIFIED:20231105T175633Z
UID:10017779-1678986000-1678993200@myrtlelearning.com
SUMMARY:24EP Myrtle 2 EVR
DESCRIPTION:This lesson covers all the topics for 11 plus CEM and GL assessments \nSelect the button below to join the lesson online
URL:https://myrtlelearning.com/event/11plus-year-4-myrtle-2/2023-03-16/
LOCATION:Myrtle Learning Centre\, Pattens Gardens\, Rochester\, Kent\, ME1 2QP\, United Kingdom
CATEGORIES:24EP Myrtle 2 EVR
ATTACH;FMTTYPE=image/jpeg:https://myrtlelearning.com/wp-content/uploads/2023/08/myrtle-icon-whitejpg.jpg
END:VEVENT
BEGIN:VEVENT
DTSTART;TZID=UTC:20230323T170000
DTEND;TZID=UTC:20230323T190000
DTSTAMP:20260423T112343
CREATED:20221231T103345Z
LAST-MODIFIED:20231105T175633Z
UID:10017780-1679590800-1679598000@myrtlelearning.com
SUMMARY:24EP Myrtle 2 EVR
DESCRIPTION:This lesson covers all the topics for 11 plus CEM and GL assessments \nSelect the button below to join the lesson online
URL:https://myrtlelearning.com/event/11plus-year-4-myrtle-2/2023-03-23/
LOCATION:Myrtle Learning Centre\, Pattens Gardens\, Rochester\, Kent\, ME1 2QP\, United Kingdom
CATEGORIES:24EP Myrtle 2 EVR
ATTACH;FMTTYPE=image/jpeg:https://myrtlelearning.com/wp-content/uploads/2023/08/myrtle-icon-whitejpg.jpg
END:VEVENT
BEGIN:VEVENT
DTSTART;TZID=UTC:20230330T170000
DTEND;TZID=UTC:20230330T190000
DTSTAMP:20260423T112343
CREATED:20221231T103345Z
LAST-MODIFIED:20231105T175633Z
UID:10017781-1680195600-1680202800@myrtlelearning.com
SUMMARY:24EP Myrtle 2 EVR
DESCRIPTION:This lesson covers all the topics for 11 plus CEM and GL assessments \nSelect the button below to join the lesson online
URL:https://myrtlelearning.com/event/11plus-year-4-myrtle-2/2023-03-30/
LOCATION:Myrtle Learning Centre\, Pattens Gardens\, Rochester\, Kent\, ME1 2QP\, United Kingdom
CATEGORIES:24EP Myrtle 2 EVR
ATTACH;FMTTYPE=image/jpeg:https://myrtlelearning.com/wp-content/uploads/2023/08/myrtle-icon-whitejpg.jpg
END:VEVENT
END:VCALENDAR