BEGIN:VCALENDAR
VERSION:2.0
PRODID:-//Myrtle Learning - ECPv6.15.3//NONSGML v1.0//EN
CALSCALE:GREGORIAN
METHOD:PUBLISH
X-WR-CALNAME:Myrtle Learning
X-ORIGINAL-URL:https://myrtlelearning.com
X-WR-CALDESC:Events for Myrtle Learning
REFRESH-INTERVAL;VALUE=DURATION:PT1H
X-Robots-Tag:noindex
X-PUBLISHED-TTL:PT1H
BEGIN:VTIMEZONE
TZID:UTC
BEGIN:STANDARD
TZOFFSETFROM:+0000
TZOFFSETTO:+0000
TZNAME:UTC
DTSTART:20240101T000000
END:STANDARD
END:VTIMEZONE
BEGIN:VEVENT
DTSTART;TZID=UTC:20240104T170000
DTEND;TZID=UTC:20240104T190000
DTSTAMP:20260422T220011
CREATED:20221231T103345Z
LAST-MODIFIED:20231105T175633Z
UID:10017821-1704387600-1704394800@myrtlelearning.com
SUMMARY:24EP Myrtle 2 EVR
DESCRIPTION:This lesson covers all the topics for 11 plus CEM and GL assessments \nSelect the button below to join the lesson online
URL:https://myrtlelearning.com/event/11plus-year-4-myrtle-2/2024-01-04/
LOCATION:Myrtle Learning Centre\, Pattens Gardens\, Rochester\, Kent\, ME1 2QP\, United Kingdom
CATEGORIES:24EP Myrtle 2 EVR
ATTACH;FMTTYPE=image/jpeg:https://myrtlelearning.com/wp-content/uploads/2023/08/myrtle-icon-whitejpg.jpg
END:VEVENT
BEGIN:VEVENT
DTSTART;TZID=UTC:20240111T170000
DTEND;TZID=UTC:20240111T190000
DTSTAMP:20260422T220011
CREATED:20221231T103345Z
LAST-MODIFIED:20231105T175633Z
UID:10017822-1704992400-1704999600@myrtlelearning.com
SUMMARY:24EP Myrtle 2 EVR
DESCRIPTION:This lesson covers all the topics for 11 plus CEM and GL assessments \nSelect the button below to join the lesson online
URL:https://myrtlelearning.com/event/11plus-year-4-myrtle-2/2024-01-11/
LOCATION:Myrtle Learning Centre\, Pattens Gardens\, Rochester\, Kent\, ME1 2QP\, United Kingdom
CATEGORIES:24EP Myrtle 2 EVR
ATTACH;FMTTYPE=image/jpeg:https://myrtlelearning.com/wp-content/uploads/2023/08/myrtle-icon-whitejpg.jpg
END:VEVENT
BEGIN:VEVENT
DTSTART;TZID=UTC:20240118T170000
DTEND;TZID=UTC:20240118T190000
DTSTAMP:20260422T220011
CREATED:20221231T103345Z
LAST-MODIFIED:20231105T175633Z
UID:10017823-1705597200-1705604400@myrtlelearning.com
SUMMARY:24EP Myrtle 2 EVR
DESCRIPTION:This lesson covers all the topics for 11 plus CEM and GL assessments \nSelect the button below to join the lesson online
URL:https://myrtlelearning.com/event/11plus-year-4-myrtle-2/2024-01-18/
LOCATION:Myrtle Learning Centre\, Pattens Gardens\, Rochester\, Kent\, ME1 2QP\, United Kingdom
CATEGORIES:24EP Myrtle 2 EVR
ATTACH;FMTTYPE=image/jpeg:https://myrtlelearning.com/wp-content/uploads/2023/08/myrtle-icon-whitejpg.jpg
END:VEVENT
BEGIN:VEVENT
DTSTART;TZID=UTC:20240125T170000
DTEND;TZID=UTC:20240125T190000
DTSTAMP:20260422T220011
CREATED:20221231T103345Z
LAST-MODIFIED:20231105T175633Z
UID:10017824-1706202000-1706209200@myrtlelearning.com
SUMMARY:24EP Myrtle 2 EVR
DESCRIPTION:This lesson covers all the topics for 11 plus CEM and GL assessments \nSelect the button below to join the lesson online
URL:https://myrtlelearning.com/event/11plus-year-4-myrtle-2/2024-01-25/
LOCATION:Myrtle Learning Centre\, Pattens Gardens\, Rochester\, Kent\, ME1 2QP\, United Kingdom
CATEGORIES:24EP Myrtle 2 EVR
ATTACH;FMTTYPE=image/jpeg:https://myrtlelearning.com/wp-content/uploads/2023/08/myrtle-icon-whitejpg.jpg
END:VEVENT
END:VCALENDAR