BEGIN:VCALENDAR
VERSION:2.0
PRODID:-//Myrtle Learning - ECPv6.15.3//NONSGML v1.0//EN
CALSCALE:GREGORIAN
METHOD:PUBLISH
X-ORIGINAL-URL:https://myrtlelearning.com
X-WR-CALDESC:Events for Myrtle Learning
REFRESH-INTERVAL;VALUE=DURATION:PT1H
X-Robots-Tag:noindex
X-PUBLISHED-TTL:PT1H
BEGIN:VTIMEZONE
TZID:UTC
BEGIN:STANDARD
TZOFFSETFROM:+0000
TZOFFSETTO:+0000
TZNAME:UTC
DTSTART:20240101T000000
END:STANDARD
END:VTIMEZONE
BEGIN:VEVENT
DTSTART;TZID=UTC:20240704T170000
DTEND;TZID=UTC:20240704T190000
DTSTAMP:20260422T145544
CREATED:20221231T103345Z
LAST-MODIFIED:20231105T175633Z
UID:10017847-1720112400-1720119600@myrtlelearning.com
SUMMARY:24EP Myrtle 2 EVR
DESCRIPTION:This lesson covers all the topics for 11 plus CEM and GL assessments \nSelect the button below to join the lesson online
URL:https://myrtlelearning.com/event/11plus-year-4-myrtle-2/2024-07-04/
LOCATION:Myrtle Learning Centre\, Pattens Gardens\, Rochester\, Kent\, ME1 2QP\, United Kingdom
CATEGORIES:24EP Myrtle 2 EVR
ATTACH;FMTTYPE=image/jpeg:https://myrtlelearning.com/wp-content/uploads/2023/08/myrtle-icon-whitejpg.jpg
END:VEVENT
BEGIN:VEVENT
DTSTART;TZID=UTC:20240711T170000
DTEND;TZID=UTC:20240711T190000
DTSTAMP:20260422T145544
CREATED:20221231T103345Z
LAST-MODIFIED:20231105T175633Z
UID:10017848-1720717200-1720724400@myrtlelearning.com
SUMMARY:24EP Myrtle 2 EVR
DESCRIPTION:This lesson covers all the topics for 11 plus CEM and GL assessments \nSelect the button below to join the lesson online
URL:https://myrtlelearning.com/event/11plus-year-4-myrtle-2/2024-07-11/
LOCATION:Myrtle Learning Centre\, Pattens Gardens\, Rochester\, Kent\, ME1 2QP\, United Kingdom
CATEGORIES:24EP Myrtle 2 EVR
ATTACH;FMTTYPE=image/jpeg:https://myrtlelearning.com/wp-content/uploads/2023/08/myrtle-icon-whitejpg.jpg
END:VEVENT
BEGIN:VEVENT
DTSTART;TZID=UTC:20240718T170000
DTEND;TZID=UTC:20240718T190000
DTSTAMP:20260422T145544
CREATED:20221231T103345Z
LAST-MODIFIED:20231105T175633Z
UID:10017849-1721322000-1721329200@myrtlelearning.com
SUMMARY:24EP Myrtle 2 EVR
DESCRIPTION:This lesson covers all the topics for 11 plus CEM and GL assessments \nSelect the button below to join the lesson online
URL:https://myrtlelearning.com/event/11plus-year-4-myrtle-2/2024-07-18/
LOCATION:Myrtle Learning Centre\, Pattens Gardens\, Rochester\, Kent\, ME1 2QP\, United Kingdom
CATEGORIES:24EP Myrtle 2 EVR
ATTACH;FMTTYPE=image/jpeg:https://myrtlelearning.com/wp-content/uploads/2023/08/myrtle-icon-whitejpg.jpg
END:VEVENT
BEGIN:VEVENT
DTSTART;TZID=UTC:20240725T170000
DTEND;TZID=UTC:20240725T190000
DTSTAMP:20260422T145544
CREATED:20221231T103345Z
LAST-MODIFIED:20231105T175633Z
UID:10017850-1721926800-1721934000@myrtlelearning.com
SUMMARY:24EP Myrtle 2 EVR
DESCRIPTION:This lesson covers all the topics for 11 plus CEM and GL assessments \nSelect the button below to join the lesson online
URL:https://myrtlelearning.com/event/11plus-year-4-myrtle-2/2024-07-25/
LOCATION:Myrtle Learning Centre\, Pattens Gardens\, Rochester\, Kent\, ME1 2QP\, United Kingdom
CATEGORIES:24EP Myrtle 2 EVR
ATTACH;FMTTYPE=image/jpeg:https://myrtlelearning.com/wp-content/uploads/2023/08/myrtle-icon-whitejpg.jpg
END:VEVENT
END:VCALENDAR