BEGIN:VCALENDAR
VERSION:2.0
PRODID:-//Myrtle Learning - ECPv6.15.3//NONSGML v1.0//EN
CALSCALE:GREGORIAN
METHOD:PUBLISH
X-WR-CALNAME:Myrtle Learning
X-ORIGINAL-URL:https://myrtlelearning.com
X-WR-CALDESC:Events for Myrtle Learning
REFRESH-INTERVAL;VALUE=DURATION:PT1H
X-Robots-Tag:noindex
X-PUBLISHED-TTL:PT1H
BEGIN:VTIMEZONE
TZID:UTC
BEGIN:STANDARD
TZOFFSETFROM:+0000
TZOFFSETTO:+0000
TZNAME:UTC
DTSTART:20250101T000000
END:STANDARD
END:VTIMEZONE
BEGIN:VEVENT
DTSTART;TZID=UTC:20250102T170000
DTEND;TZID=UTC:20250102T190000
DTSTAMP:20260422T033330
CREATED:20221231T103345Z
LAST-MODIFIED:20231105T175633Z
UID:10017873-1735837200-1735844400@myrtlelearning.com
SUMMARY:24EP Myrtle 2 EVR
DESCRIPTION:This lesson covers all the topics for 11 plus CEM and GL assessments \nSelect the button below to join the lesson online
URL:https://myrtlelearning.com/event/11plus-year-4-myrtle-2/2025-01-02/
LOCATION:Myrtle Learning Centre\, Pattens Gardens\, Rochester\, Kent\, ME1 2QP\, United Kingdom
CATEGORIES:24EP Myrtle 2 EVR
ATTACH;FMTTYPE=image/jpeg:https://myrtlelearning.com/wp-content/uploads/2023/08/myrtle-icon-whitejpg.jpg
END:VEVENT
BEGIN:VEVENT
DTSTART;TZID=UTC:20250109T170000
DTEND;TZID=UTC:20250109T190000
DTSTAMP:20260422T033330
CREATED:20221231T103345Z
LAST-MODIFIED:20231105T175633Z
UID:10017874-1736442000-1736449200@myrtlelearning.com
SUMMARY:24EP Myrtle 2 EVR
DESCRIPTION:This lesson covers all the topics for 11 plus CEM and GL assessments \nSelect the button below to join the lesson online
URL:https://myrtlelearning.com/event/11plus-year-4-myrtle-2/2025-01-09/
LOCATION:Myrtle Learning Centre\, Pattens Gardens\, Rochester\, Kent\, ME1 2QP\, United Kingdom
CATEGORIES:24EP Myrtle 2 EVR
ATTACH;FMTTYPE=image/jpeg:https://myrtlelearning.com/wp-content/uploads/2023/08/myrtle-icon-whitejpg.jpg
END:VEVENT
BEGIN:VEVENT
DTSTART;TZID=UTC:20250116T170000
DTEND;TZID=UTC:20250116T190000
DTSTAMP:20260422T033330
CREATED:20221231T103345Z
LAST-MODIFIED:20231105T175633Z
UID:10017875-1737046800-1737054000@myrtlelearning.com
SUMMARY:24EP Myrtle 2 EVR
DESCRIPTION:This lesson covers all the topics for 11 plus CEM and GL assessments \nSelect the button below to join the lesson online
URL:https://myrtlelearning.com/event/11plus-year-4-myrtle-2/2025-01-16/
LOCATION:Myrtle Learning Centre\, Pattens Gardens\, Rochester\, Kent\, ME1 2QP\, United Kingdom
CATEGORIES:24EP Myrtle 2 EVR
ATTACH;FMTTYPE=image/jpeg:https://myrtlelearning.com/wp-content/uploads/2023/08/myrtle-icon-whitejpg.jpg
END:VEVENT
BEGIN:VEVENT
DTSTART;TZID=UTC:20250123T170000
DTEND;TZID=UTC:20250123T190000
DTSTAMP:20260422T033330
CREATED:20221231T103345Z
LAST-MODIFIED:20231105T175633Z
UID:10017876-1737651600-1737658800@myrtlelearning.com
SUMMARY:24EP Myrtle 2 EVR
DESCRIPTION:This lesson covers all the topics for 11 plus CEM and GL assessments \nSelect the button below to join the lesson online
URL:https://myrtlelearning.com/event/11plus-year-4-myrtle-2/2025-01-23/
LOCATION:Myrtle Learning Centre\, Pattens Gardens\, Rochester\, Kent\, ME1 2QP\, United Kingdom
CATEGORIES:24EP Myrtle 2 EVR
ATTACH;FMTTYPE=image/jpeg:https://myrtlelearning.com/wp-content/uploads/2023/08/myrtle-icon-whitejpg.jpg
END:VEVENT
BEGIN:VEVENT
DTSTART;TZID=UTC:20250130T170000
DTEND;TZID=UTC:20250130T190000
DTSTAMP:20260422T033330
CREATED:20221231T103345Z
LAST-MODIFIED:20231105T175633Z
UID:10017877-1738256400-1738263600@myrtlelearning.com
SUMMARY:24EP Myrtle 2 EVR
DESCRIPTION:This lesson covers all the topics for 11 plus CEM and GL assessments \nSelect the button below to join the lesson online
URL:https://myrtlelearning.com/event/11plus-year-4-myrtle-2/2025-01-30/
LOCATION:Myrtle Learning Centre\, Pattens Gardens\, Rochester\, Kent\, ME1 2QP\, United Kingdom
CATEGORIES:24EP Myrtle 2 EVR
ATTACH;FMTTYPE=image/jpeg:https://myrtlelearning.com/wp-content/uploads/2023/08/myrtle-icon-whitejpg.jpg
END:VEVENT
END:VCALENDAR