BEGIN:VCALENDAR
VERSION:2.0
PRODID:-//Myrtle Learning - ECPv6.15.3//NONSGML v1.0//EN
CALSCALE:GREGORIAN
METHOD:PUBLISH
X-ORIGINAL-URL:https://myrtlelearning.com
X-WR-CALDESC:Events for Myrtle Learning
REFRESH-INTERVAL;VALUE=DURATION:PT1H
X-Robots-Tag:noindex
X-PUBLISHED-TTL:PT1H
BEGIN:VTIMEZONE
TZID:UTC
BEGIN:STANDARD
TZOFFSETFROM:+0000
TZOFFSETTO:+0000
TZNAME:UTC
DTSTART:20260101T000000
END:STANDARD
END:VTIMEZONE
BEGIN:VEVENT
DTSTART;TZID=UTC:20260101T170000
DTEND;TZID=UTC:20260101T190000
DTSTAMP:20260421T053225
CREATED:20221231T103345Z
LAST-MODIFIED:20231105T175633Z
UID:10017925-1767286800-1767294000@myrtlelearning.com
SUMMARY:24EP Myrtle 2 EVR
DESCRIPTION:This lesson covers all the topics for 11 plus CEM and GL assessments \nSelect the button below to join the lesson online
URL:https://myrtlelearning.com/event/11plus-year-4-myrtle-2/2026-01-01/
LOCATION:Myrtle Learning Centre\, Pattens Gardens\, Rochester\, Kent\, ME1 2QP\, United Kingdom
CATEGORIES:24EP Myrtle 2 EVR
ATTACH;FMTTYPE=image/jpeg:https://myrtlelearning.com/wp-content/uploads/2023/08/myrtle-icon-whitejpg.jpg
END:VEVENT
BEGIN:VEVENT
DTSTART;TZID=UTC:20260108T170000
DTEND;TZID=UTC:20260108T190000
DTSTAMP:20260421T053225
CREATED:20221231T103345Z
LAST-MODIFIED:20231105T175633Z
UID:10017926-1767891600-1767898800@myrtlelearning.com
SUMMARY:24EP Myrtle 2 EVR
DESCRIPTION:This lesson covers all the topics for 11 plus CEM and GL assessments \nSelect the button below to join the lesson online
URL:https://myrtlelearning.com/event/11plus-year-4-myrtle-2/2026-01-08/
LOCATION:Myrtle Learning Centre\, Pattens Gardens\, Rochester\, Kent\, ME1 2QP\, United Kingdom
CATEGORIES:24EP Myrtle 2 EVR
ATTACH;FMTTYPE=image/jpeg:https://myrtlelearning.com/wp-content/uploads/2023/08/myrtle-icon-whitejpg.jpg
END:VEVENT
BEGIN:VEVENT
DTSTART;TZID=UTC:20260115T170000
DTEND;TZID=UTC:20260115T190000
DTSTAMP:20260421T053225
CREATED:20221231T103345Z
LAST-MODIFIED:20231105T175633Z
UID:10017927-1768496400-1768503600@myrtlelearning.com
SUMMARY:24EP Myrtle 2 EVR
DESCRIPTION:This lesson covers all the topics for 11 plus CEM and GL assessments \nSelect the button below to join the lesson online
URL:https://myrtlelearning.com/event/11plus-year-4-myrtle-2/2026-01-15/
LOCATION:Myrtle Learning Centre\, Pattens Gardens\, Rochester\, Kent\, ME1 2QP\, United Kingdom
CATEGORIES:24EP Myrtle 2 EVR
ATTACH;FMTTYPE=image/jpeg:https://myrtlelearning.com/wp-content/uploads/2023/08/myrtle-icon-whitejpg.jpg
END:VEVENT
BEGIN:VEVENT
DTSTART;TZID=UTC:20260122T170000
DTEND;TZID=UTC:20260122T190000
DTSTAMP:20260421T053225
CREATED:20221231T103345Z
LAST-MODIFIED:20231105T175633Z
UID:10017928-1769101200-1769108400@myrtlelearning.com
SUMMARY:24EP Myrtle 2 EVR
DESCRIPTION:This lesson covers all the topics for 11 plus CEM and GL assessments \nSelect the button below to join the lesson online
URL:https://myrtlelearning.com/event/11plus-year-4-myrtle-2/2026-01-22/
LOCATION:Myrtle Learning Centre\, Pattens Gardens\, Rochester\, Kent\, ME1 2QP\, United Kingdom
CATEGORIES:24EP Myrtle 2 EVR
ATTACH;FMTTYPE=image/jpeg:https://myrtlelearning.com/wp-content/uploads/2023/08/myrtle-icon-whitejpg.jpg
END:VEVENT
BEGIN:VEVENT
DTSTART;TZID=UTC:20260129T170000
DTEND;TZID=UTC:20260129T190000
DTSTAMP:20260421T053225
CREATED:20221231T103345Z
LAST-MODIFIED:20231105T175633Z
UID:10017929-1769706000-1769713200@myrtlelearning.com
SUMMARY:24EP Myrtle 2 EVR
DESCRIPTION:This lesson covers all the topics for 11 plus CEM and GL assessments \nSelect the button below to join the lesson online
URL:https://myrtlelearning.com/event/11plus-year-4-myrtle-2/2026-01-29/
LOCATION:Myrtle Learning Centre\, Pattens Gardens\, Rochester\, Kent\, ME1 2QP\, United Kingdom
CATEGORIES:24EP Myrtle 2 EVR
ATTACH;FMTTYPE=image/jpeg:https://myrtlelearning.com/wp-content/uploads/2023/08/myrtle-icon-whitejpg.jpg
END:VEVENT
END:VCALENDAR