BEGIN:VCALENDAR
VERSION:2.0
PRODID:-//Myrtle Learning - ECPv6.15.3//NONSGML v1.0//EN
CALSCALE:GREGORIAN
METHOD:PUBLISH
X-ORIGINAL-URL:https://myrtlelearning.com
X-WR-CALDESC:Events for Myrtle Learning
REFRESH-INTERVAL;VALUE=DURATION:PT1H
X-Robots-Tag:noindex
X-PUBLISHED-TTL:PT1H
BEGIN:VTIMEZONE
TZID:UTC
BEGIN:STANDARD
TZOFFSETFROM:+0000
TZOFFSETTO:+0000
TZNAME:UTC
DTSTART:20240101T000000
END:STANDARD
END:VTIMEZONE
BEGIN:VEVENT
DTSTART;TZID=UTC:20240102T170000
DTEND;TZID=UTC:20240102T180000
DTSTAMP:20260422T114813
CREATED:20231108T135501Z
LAST-MODIFIED:20231108T135502Z
UID:10024975-1704214800-1704218400@myrtlelearning.com
SUMMARY:24EP Myrtle 2 Ma
DESCRIPTION:24EP Myrtle 2 \nThese group is made of students preparing for their 11Plus exams in 2024 \nSelect the button below to join the lesson online
URL:https://myrtlelearning.com/event/24ep-myrtle-2-ma-2/2024-01-02/
LOCATION:Myrtle Learning Centre\, Pattens Gardens\, Rochester\, Kent\, ME1 2QP\, United Kingdom
CATEGORIES:24EP Myrtle 2 Ma
ATTACH;FMTTYPE=image/jpeg:https://myrtlelearning.com/wp-content/uploads/2023/08/myrtle-icon-whitejpg.jpg
END:VEVENT
BEGIN:VEVENT
DTSTART;TZID=UTC:20240109T170000
DTEND;TZID=UTC:20240109T180000
DTSTAMP:20260422T114813
CREATED:20231108T135501Z
LAST-MODIFIED:20231108T135502Z
UID:10024976-1704819600-1704823200@myrtlelearning.com
SUMMARY:24EP Myrtle 2 Ma
DESCRIPTION:24EP Myrtle 2 \nThese group is made of students preparing for their 11Plus exams in 2024 \nSelect the button below to join the lesson online
URL:https://myrtlelearning.com/event/24ep-myrtle-2-ma-2/2024-01-09/
LOCATION:Myrtle Learning Centre\, Pattens Gardens\, Rochester\, Kent\, ME1 2QP\, United Kingdom
CATEGORIES:24EP Myrtle 2 Ma
ATTACH;FMTTYPE=image/jpeg:https://myrtlelearning.com/wp-content/uploads/2023/08/myrtle-icon-whitejpg.jpg
END:VEVENT
BEGIN:VEVENT
DTSTART;TZID=UTC:20240116T170000
DTEND;TZID=UTC:20240116T180000
DTSTAMP:20260422T114813
CREATED:20231108T135501Z
LAST-MODIFIED:20231108T135502Z
UID:10024977-1705424400-1705428000@myrtlelearning.com
SUMMARY:24EP Myrtle 2 Ma
DESCRIPTION:24EP Myrtle 2 \nThese group is made of students preparing for their 11Plus exams in 2024 \nSelect the button below to join the lesson online
URL:https://myrtlelearning.com/event/24ep-myrtle-2-ma-2/2024-01-16/
LOCATION:Myrtle Learning Centre\, Pattens Gardens\, Rochester\, Kent\, ME1 2QP\, United Kingdom
CATEGORIES:24EP Myrtle 2 Ma
ATTACH;FMTTYPE=image/jpeg:https://myrtlelearning.com/wp-content/uploads/2023/08/myrtle-icon-whitejpg.jpg
END:VEVENT
BEGIN:VEVENT
DTSTART;TZID=UTC:20240123T170000
DTEND;TZID=UTC:20240123T180000
DTSTAMP:20260422T114813
CREATED:20231108T135501Z
LAST-MODIFIED:20231108T135502Z
UID:10024978-1706029200-1706032800@myrtlelearning.com
SUMMARY:24EP Myrtle 2 Ma
DESCRIPTION:24EP Myrtle 2 \nThese group is made of students preparing for their 11Plus exams in 2024 \nSelect the button below to join the lesson online
URL:https://myrtlelearning.com/event/24ep-myrtle-2-ma-2/2024-01-23/
LOCATION:Myrtle Learning Centre\, Pattens Gardens\, Rochester\, Kent\, ME1 2QP\, United Kingdom
CATEGORIES:24EP Myrtle 2 Ma
ATTACH;FMTTYPE=image/jpeg:https://myrtlelearning.com/wp-content/uploads/2023/08/myrtle-icon-whitejpg.jpg
END:VEVENT
BEGIN:VEVENT
DTSTART;TZID=UTC:20240130T170000
DTEND;TZID=UTC:20240130T180000
DTSTAMP:20260422T114813
CREATED:20231108T135501Z
LAST-MODIFIED:20231108T135502Z
UID:10024979-1706634000-1706637600@myrtlelearning.com
SUMMARY:24EP Myrtle 2 Ma
DESCRIPTION:24EP Myrtle 2 \nThese group is made of students preparing for their 11Plus exams in 2024 \nSelect the button below to join the lesson online
URL:https://myrtlelearning.com/event/24ep-myrtle-2-ma-2/2024-01-30/
LOCATION:Myrtle Learning Centre\, Pattens Gardens\, Rochester\, Kent\, ME1 2QP\, United Kingdom
CATEGORIES:24EP Myrtle 2 Ma
ATTACH;FMTTYPE=image/jpeg:https://myrtlelearning.com/wp-content/uploads/2023/08/myrtle-icon-whitejpg.jpg
END:VEVENT
END:VCALENDAR