BEGIN:VCALENDAR
VERSION:2.0
PRODID:-//Myrtle Learning - ECPv6.15.3//NONSGML v1.0//EN
CALSCALE:GREGORIAN
METHOD:PUBLISH
X-ORIGINAL-URL:https://myrtlelearning.com
X-WR-CALDESC:Events for Myrtle Learning
REFRESH-INTERVAL;VALUE=DURATION:PT1H
X-Robots-Tag:noindex
X-PUBLISHED-TTL:PT1H
BEGIN:VTIMEZONE
TZID:UTC
BEGIN:STANDARD
TZOFFSETFROM:+0000
TZOFFSETTO:+0000
TZNAME:UTC
DTSTART:20240101T000000
END:STANDARD
END:VTIMEZONE
BEGIN:VEVENT
DTSTART;TZID=UTC:20240206T170000
DTEND;TZID=UTC:20240206T180000
DTSTAMP:20260422T102113
CREATED:20231108T135501Z
LAST-MODIFIED:20231108T135502Z
UID:10024980-1707238800-1707242400@myrtlelearning.com
SUMMARY:24EP Myrtle 2 Ma
DESCRIPTION:24EP Myrtle 2 \nThese group is made of students preparing for their 11Plus exams in 2024 \nSelect the button below to join the lesson online
URL:https://myrtlelearning.com/event/24ep-myrtle-2-ma-2/2024-02-06/
LOCATION:Myrtle Learning Centre\, Pattens Gardens\, Rochester\, Kent\, ME1 2QP\, United Kingdom
CATEGORIES:24EP Myrtle 2 Ma
ATTACH;FMTTYPE=image/jpeg:https://myrtlelearning.com/wp-content/uploads/2023/08/myrtle-icon-whitejpg.jpg
END:VEVENT
BEGIN:VEVENT
DTSTART;TZID=UTC:20240213T170000
DTEND;TZID=UTC:20240213T180000
DTSTAMP:20260422T102113
CREATED:20231108T135501Z
LAST-MODIFIED:20231108T135502Z
UID:10024981-1707843600-1707847200@myrtlelearning.com
SUMMARY:24EP Myrtle 2 Ma
DESCRIPTION:24EP Myrtle 2 \nThese group is made of students preparing for their 11Plus exams in 2024 \nSelect the button below to join the lesson online
URL:https://myrtlelearning.com/event/24ep-myrtle-2-ma-2/2024-02-13/
LOCATION:Myrtle Learning Centre\, Pattens Gardens\, Rochester\, Kent\, ME1 2QP\, United Kingdom
CATEGORIES:24EP Myrtle 2 Ma
ATTACH;FMTTYPE=image/jpeg:https://myrtlelearning.com/wp-content/uploads/2023/08/myrtle-icon-whitejpg.jpg
END:VEVENT
BEGIN:VEVENT
DTSTART;TZID=UTC:20240220T170000
DTEND;TZID=UTC:20240220T180000
DTSTAMP:20260422T102113
CREATED:20231108T135501Z
LAST-MODIFIED:20231108T135502Z
UID:10024982-1708448400-1708452000@myrtlelearning.com
SUMMARY:24EP Myrtle 2 Ma
DESCRIPTION:24EP Myrtle 2 \nThese group is made of students preparing for their 11Plus exams in 2024 \nSelect the button below to join the lesson online
URL:https://myrtlelearning.com/event/24ep-myrtle-2-ma-2/2024-02-20/
LOCATION:Myrtle Learning Centre\, Pattens Gardens\, Rochester\, Kent\, ME1 2QP\, United Kingdom
CATEGORIES:24EP Myrtle 2 Ma
ATTACH;FMTTYPE=image/jpeg:https://myrtlelearning.com/wp-content/uploads/2023/08/myrtle-icon-whitejpg.jpg
END:VEVENT
BEGIN:VEVENT
DTSTART;TZID=UTC:20240227T170000
DTEND;TZID=UTC:20240227T180000
DTSTAMP:20260422T102113
CREATED:20231108T135501Z
LAST-MODIFIED:20231108T135502Z
UID:10024983-1709053200-1709056800@myrtlelearning.com
SUMMARY:24EP Myrtle 2 Ma
DESCRIPTION:24EP Myrtle 2 \nThese group is made of students preparing for their 11Plus exams in 2024 \nSelect the button below to join the lesson online
URL:https://myrtlelearning.com/event/24ep-myrtle-2-ma-2/2024-02-27/
LOCATION:Myrtle Learning Centre\, Pattens Gardens\, Rochester\, Kent\, ME1 2QP\, United Kingdom
CATEGORIES:24EP Myrtle 2 Ma
ATTACH;FMTTYPE=image/jpeg:https://myrtlelearning.com/wp-content/uploads/2023/08/myrtle-icon-whitejpg.jpg
END:VEVENT
END:VCALENDAR