BEGIN:VCALENDAR
VERSION:2.0
PRODID:-//Myrtle Learning - ECPv6.15.3//NONSGML v1.0//EN
CALSCALE:GREGORIAN
METHOD:PUBLISH
X-WR-CALNAME:Myrtle Learning
X-ORIGINAL-URL:https://myrtlelearning.com
X-WR-CALDESC:Events for Myrtle Learning
REFRESH-INTERVAL;VALUE=DURATION:PT1H
X-Robots-Tag:noindex
X-PUBLISHED-TTL:PT1H
BEGIN:VTIMEZONE
TZID:UTC
BEGIN:STANDARD
TZOFFSETFROM:+0000
TZOFFSETTO:+0000
TZNAME:UTC
DTSTART:20240101T000000
END:STANDARD
END:VTIMEZONE
BEGIN:VEVENT
DTSTART;TZID=UTC:20240302T110000
DTEND;TZID=UTC:20240302T140000
DTSTAMP:20260422T171329
CREATED:20231111T111005Z
LAST-MODIFIED:20231125T123946Z
UID:10026531-1709377200-1709388000@myrtlelearning.com
SUMMARY:24EP Myrtle 3 Ma/EVR
DESCRIPTION:24EP Myrtle 3 Ma/EVR \nThese group is made of students preparing for their 11Plus exams in 2024 \nSelect the button below to join the lesson online
URL:https://myrtlelearning.com/event/24ep-myrtle-3-ma-evr/2024-03-02/
LOCATION:Myrtle Learning Centre\, Pattens Gardens\, Rochester\, Kent\, ME1 2QP\, United Kingdom
CATEGORIES:24EP Myrtle 3 Ma/EVR
ATTACH;FMTTYPE=image/jpeg:https://myrtlelearning.com/wp-content/uploads/2023/08/myrtle-icon-whitejpg.jpg
END:VEVENT
BEGIN:VEVENT
DTSTART;TZID=UTC:20240309T110000
DTEND;TZID=UTC:20240309T140000
DTSTAMP:20260422T171329
CREATED:20231111T111005Z
LAST-MODIFIED:20231125T123946Z
UID:10026532-1709982000-1709992800@myrtlelearning.com
SUMMARY:24EP Myrtle 3 Ma/EVR
DESCRIPTION:24EP Myrtle 3 Ma/EVR \nThese group is made of students preparing for their 11Plus exams in 2024 \nSelect the button below to join the lesson online
URL:https://myrtlelearning.com/event/24ep-myrtle-3-ma-evr/2024-03-09/
LOCATION:Myrtle Learning Centre\, Pattens Gardens\, Rochester\, Kent\, ME1 2QP\, United Kingdom
CATEGORIES:24EP Myrtle 3 Ma/EVR
ATTACH;FMTTYPE=image/jpeg:https://myrtlelearning.com/wp-content/uploads/2023/08/myrtle-icon-whitejpg.jpg
END:VEVENT
BEGIN:VEVENT
DTSTART;TZID=UTC:20240316T110000
DTEND;TZID=UTC:20240316T140000
DTSTAMP:20260422T171329
CREATED:20231111T111005Z
LAST-MODIFIED:20231125T123946Z
UID:10026533-1710586800-1710597600@myrtlelearning.com
SUMMARY:24EP Myrtle 3 Ma/EVR
DESCRIPTION:24EP Myrtle 3 Ma/EVR \nThese group is made of students preparing for their 11Plus exams in 2024 \nSelect the button below to join the lesson online
URL:https://myrtlelearning.com/event/24ep-myrtle-3-ma-evr/2024-03-16/
LOCATION:Myrtle Learning Centre\, Pattens Gardens\, Rochester\, Kent\, ME1 2QP\, United Kingdom
CATEGORIES:24EP Myrtle 3 Ma/EVR
ATTACH;FMTTYPE=image/jpeg:https://myrtlelearning.com/wp-content/uploads/2023/08/myrtle-icon-whitejpg.jpg
END:VEVENT
BEGIN:VEVENT
DTSTART;TZID=UTC:20240323T110000
DTEND;TZID=UTC:20240323T140000
DTSTAMP:20260422T171329
CREATED:20231111T111005Z
LAST-MODIFIED:20231125T123946Z
UID:10026534-1711191600-1711202400@myrtlelearning.com
SUMMARY:24EP Myrtle 3 Ma/EVR
DESCRIPTION:24EP Myrtle 3 Ma/EVR \nThese group is made of students preparing for their 11Plus exams in 2024 \nSelect the button below to join the lesson online
URL:https://myrtlelearning.com/event/24ep-myrtle-3-ma-evr/2024-03-23/
LOCATION:Myrtle Learning Centre\, Pattens Gardens\, Rochester\, Kent\, ME1 2QP\, United Kingdom
CATEGORIES:24EP Myrtle 3 Ma/EVR
ATTACH;FMTTYPE=image/jpeg:https://myrtlelearning.com/wp-content/uploads/2023/08/myrtle-icon-whitejpg.jpg
END:VEVENT
BEGIN:VEVENT
DTSTART;TZID=UTC:20240330T110000
DTEND;TZID=UTC:20240330T140000
DTSTAMP:20260422T171329
CREATED:20231111T111005Z
LAST-MODIFIED:20231125T123946Z
UID:10026535-1711796400-1711807200@myrtlelearning.com
SUMMARY:24EP Myrtle 3 Ma/EVR
DESCRIPTION:24EP Myrtle 3 Ma/EVR \nThese group is made of students preparing for their 11Plus exams in 2024 \nSelect the button below to join the lesson online
URL:https://myrtlelearning.com/event/24ep-myrtle-3-ma-evr/2024-03-30/
LOCATION:Myrtle Learning Centre\, Pattens Gardens\, Rochester\, Kent\, ME1 2QP\, United Kingdom
CATEGORIES:24EP Myrtle 3 Ma/EVR
ATTACH;FMTTYPE=image/jpeg:https://myrtlelearning.com/wp-content/uploads/2023/08/myrtle-icon-whitejpg.jpg
END:VEVENT
END:VCALENDAR