BEGIN:VCALENDAR
VERSION:2.0
PRODID:-//Myrtle Learning - ECPv6.15.3//NONSGML v1.0//EN
CALSCALE:GREGORIAN
METHOD:PUBLISH
X-WR-CALNAME:Myrtle Learning
X-ORIGINAL-URL:https://myrtlelearning.com
X-WR-CALDESC:Events for Myrtle Learning
REFRESH-INTERVAL;VALUE=DURATION:PT1H
X-Robots-Tag:noindex
X-PUBLISHED-TTL:PT1H
BEGIN:VTIMEZONE
TZID:UTC
BEGIN:STANDARD
TZOFFSETFROM:+0000
TZOFFSETTO:+0000
TZNAME:UTC
DTSTART:20240101T000000
END:STANDARD
END:VTIMEZONE
BEGIN:VEVENT
DTSTART;TZID=UTC:20241207T110000
DTEND;TZID=UTC:20241207T140000
DTSTAMP:20260421T235135
CREATED:20231111T111005Z
LAST-MODIFIED:20231125T123946Z
UID:10026571-1733569200-1733580000@myrtlelearning.com
SUMMARY:24EP Myrtle 3 Ma/EVR
DESCRIPTION:24EP Myrtle 3 Ma/EVR \nThese group is made of students preparing for their 11Plus exams in 2024 \nSelect the button below to join the lesson online
URL:https://myrtlelearning.com/event/24ep-myrtle-3-ma-evr/2024-12-07/
LOCATION:Myrtle Learning Centre\, Pattens Gardens\, Rochester\, Kent\, ME1 2QP\, United Kingdom
CATEGORIES:24EP Myrtle 3 Ma/EVR
ATTACH;FMTTYPE=image/jpeg:https://myrtlelearning.com/wp-content/uploads/2023/08/myrtle-icon-whitejpg.jpg
END:VEVENT
BEGIN:VEVENT
DTSTART;TZID=UTC:20241214T110000
DTEND;TZID=UTC:20241214T140000
DTSTAMP:20260421T235135
CREATED:20231111T111005Z
LAST-MODIFIED:20231125T123946Z
UID:10026572-1734174000-1734184800@myrtlelearning.com
SUMMARY:24EP Myrtle 3 Ma/EVR
DESCRIPTION:24EP Myrtle 3 Ma/EVR \nThese group is made of students preparing for their 11Plus exams in 2024 \nSelect the button below to join the lesson online
URL:https://myrtlelearning.com/event/24ep-myrtle-3-ma-evr/2024-12-14/
LOCATION:Myrtle Learning Centre\, Pattens Gardens\, Rochester\, Kent\, ME1 2QP\, United Kingdom
CATEGORIES:24EP Myrtle 3 Ma/EVR
ATTACH;FMTTYPE=image/jpeg:https://myrtlelearning.com/wp-content/uploads/2023/08/myrtle-icon-whitejpg.jpg
END:VEVENT
BEGIN:VEVENT
DTSTART;TZID=UTC:20241221T110000
DTEND;TZID=UTC:20241221T140000
DTSTAMP:20260421T235135
CREATED:20231111T111005Z
LAST-MODIFIED:20231125T123946Z
UID:10026573-1734778800-1734789600@myrtlelearning.com
SUMMARY:24EP Myrtle 3 Ma/EVR
DESCRIPTION:24EP Myrtle 3 Ma/EVR \nThese group is made of students preparing for their 11Plus exams in 2024 \nSelect the button below to join the lesson online
URL:https://myrtlelearning.com/event/24ep-myrtle-3-ma-evr/2024-12-21/
LOCATION:Myrtle Learning Centre\, Pattens Gardens\, Rochester\, Kent\, ME1 2QP\, United Kingdom
CATEGORIES:24EP Myrtle 3 Ma/EVR
ATTACH;FMTTYPE=image/jpeg:https://myrtlelearning.com/wp-content/uploads/2023/08/myrtle-icon-whitejpg.jpg
END:VEVENT
BEGIN:VEVENT
DTSTART;TZID=UTC:20241228T110000
DTEND;TZID=UTC:20241228T140000
DTSTAMP:20260421T235135
CREATED:20231111T111005Z
LAST-MODIFIED:20231125T123946Z
UID:10026574-1735383600-1735394400@myrtlelearning.com
SUMMARY:24EP Myrtle 3 Ma/EVR
DESCRIPTION:24EP Myrtle 3 Ma/EVR \nThese group is made of students preparing for their 11Plus exams in 2024 \nSelect the button below to join the lesson online
URL:https://myrtlelearning.com/event/24ep-myrtle-3-ma-evr/2024-12-28/
LOCATION:Myrtle Learning Centre\, Pattens Gardens\, Rochester\, Kent\, ME1 2QP\, United Kingdom
CATEGORIES:24EP Myrtle 3 Ma/EVR
ATTACH;FMTTYPE=image/jpeg:https://myrtlelearning.com/wp-content/uploads/2023/08/myrtle-icon-whitejpg.jpg
END:VEVENT
END:VCALENDAR