BEGIN:VCALENDAR
VERSION:2.0
PRODID:-//Myrtle Learning - ECPv6.15.3//NONSGML v1.0//EN
CALSCALE:GREGORIAN
METHOD:PUBLISH
X-WR-CALNAME:Myrtle Learning
X-ORIGINAL-URL:https://myrtlelearning.com
X-WR-CALDESC:Events for Myrtle Learning
REFRESH-INTERVAL;VALUE=DURATION:PT1H
X-Robots-Tag:noindex
X-PUBLISHED-TTL:PT1H
BEGIN:VTIMEZONE
TZID:UTC
BEGIN:STANDARD
TZOFFSETFROM:+0000
TZOFFSETTO:+0000
TZNAME:UTC
DTSTART:20250101T000000
END:STANDARD
END:VTIMEZONE
BEGIN:VEVENT
DTSTART;TZID=UTC:20250906T110000
DTEND;TZID=UTC:20250906T140000
DTSTAMP:20260421T094318
CREATED:20231111T111005Z
LAST-MODIFIED:20231125T123946Z
UID:10026610-1757156400-1757167200@myrtlelearning.com
SUMMARY:24EP Myrtle 3 Ma/EVR
DESCRIPTION:24EP Myrtle 3 Ma/EVR \nThese group is made of students preparing for their 11Plus exams in 2024 \nSelect the button below to join the lesson online
URL:https://myrtlelearning.com/event/24ep-myrtle-3-ma-evr/2025-09-06/
LOCATION:Myrtle Learning Centre\, Pattens Gardens\, Rochester\, Kent\, ME1 2QP\, United Kingdom
CATEGORIES:24EP Myrtle 3 Ma/EVR
ATTACH;FMTTYPE=image/jpeg:https://myrtlelearning.com/wp-content/uploads/2023/08/myrtle-icon-whitejpg.jpg
END:VEVENT
BEGIN:VEVENT
DTSTART;TZID=UTC:20250913T110000
DTEND;TZID=UTC:20250913T140000
DTSTAMP:20260421T094318
CREATED:20231111T111005Z
LAST-MODIFIED:20231125T123946Z
UID:10026611-1757761200-1757772000@myrtlelearning.com
SUMMARY:24EP Myrtle 3 Ma/EVR
DESCRIPTION:24EP Myrtle 3 Ma/EVR \nThese group is made of students preparing for their 11Plus exams in 2024 \nSelect the button below to join the lesson online
URL:https://myrtlelearning.com/event/24ep-myrtle-3-ma-evr/2025-09-13/
LOCATION:Myrtle Learning Centre\, Pattens Gardens\, Rochester\, Kent\, ME1 2QP\, United Kingdom
CATEGORIES:24EP Myrtle 3 Ma/EVR
ATTACH;FMTTYPE=image/jpeg:https://myrtlelearning.com/wp-content/uploads/2023/08/myrtle-icon-whitejpg.jpg
END:VEVENT
BEGIN:VEVENT
DTSTART;TZID=UTC:20250920T110000
DTEND;TZID=UTC:20250920T140000
DTSTAMP:20260421T094318
CREATED:20231111T111005Z
LAST-MODIFIED:20231125T123946Z
UID:10026612-1758366000-1758376800@myrtlelearning.com
SUMMARY:24EP Myrtle 3 Ma/EVR
DESCRIPTION:24EP Myrtle 3 Ma/EVR \nThese group is made of students preparing for their 11Plus exams in 2024 \nSelect the button below to join the lesson online
URL:https://myrtlelearning.com/event/24ep-myrtle-3-ma-evr/2025-09-20/
LOCATION:Myrtle Learning Centre\, Pattens Gardens\, Rochester\, Kent\, ME1 2QP\, United Kingdom
CATEGORIES:24EP Myrtle 3 Ma/EVR
ATTACH;FMTTYPE=image/jpeg:https://myrtlelearning.com/wp-content/uploads/2023/08/myrtle-icon-whitejpg.jpg
END:VEVENT
BEGIN:VEVENT
DTSTART;TZID=UTC:20250927T110000
DTEND;TZID=UTC:20250927T140000
DTSTAMP:20260421T094318
CREATED:20231111T111005Z
LAST-MODIFIED:20231125T123946Z
UID:10026613-1758970800-1758981600@myrtlelearning.com
SUMMARY:24EP Myrtle 3 Ma/EVR
DESCRIPTION:24EP Myrtle 3 Ma/EVR \nThese group is made of students preparing for their 11Plus exams in 2024 \nSelect the button below to join the lesson online
URL:https://myrtlelearning.com/event/24ep-myrtle-3-ma-evr/2025-09-27/
LOCATION:Myrtle Learning Centre\, Pattens Gardens\, Rochester\, Kent\, ME1 2QP\, United Kingdom
CATEGORIES:24EP Myrtle 3 Ma/EVR
ATTACH;FMTTYPE=image/jpeg:https://myrtlelearning.com/wp-content/uploads/2023/08/myrtle-icon-whitejpg.jpg
END:VEVENT
END:VCALENDAR