BEGIN:VCALENDAR
VERSION:2.0
PRODID:-//Myrtle Learning - ECPv6.15.3//NONSGML v1.0//EN
CALSCALE:GREGORIAN
METHOD:PUBLISH
X-ORIGINAL-URL:https://myrtlelearning.com
X-WR-CALDESC:Events for Myrtle Learning
REFRESH-INTERVAL;VALUE=DURATION:PT1H
X-Robots-Tag:noindex
X-PUBLISHED-TTL:PT1H
BEGIN:VTIMEZONE
TZID:UTC
BEGIN:STANDARD
TZOFFSETFROM:+0000
TZOFFSETTO:+0000
TZNAME:UTC
DTSTART:20240101T000000
END:STANDARD
END:VTIMEZONE
BEGIN:VEVENT
DTSTART;TZID=UTC:20241002T170000
DTEND;TZID=UTC:20241002T190000
DTSTAMP:20260422T230029
CREATED:20240622T163333Z
LAST-MODIFIED:20240622T163338Z
UID:10037452-1727888400-1727895600@myrtlelearning.com
SUMMARY:24EP Myrtle 4 EVR
DESCRIPTION:24EP Myrtle 4 EVR \nThese group is made of students preparing for their 11Plus exams in 2024 \nSelect the button below to join the lesson online
URL:https://myrtlelearning.com/event/24ep-myrtle-4-evr-2/2024-10-02/
LOCATION:Myrtle Learning Centre\, Pattens Gardens\, Rochester\, Kent\, ME1 2QP\, United Kingdom
CATEGORIES:24EP Myrtle 4 EVR
ATTACH;FMTTYPE=image/jpeg:https://myrtlelearning.com/wp-content/uploads/2023/08/myrtle-icon-whitejpg.jpg
END:VEVENT
BEGIN:VEVENT
DTSTART;TZID=UTC:20241009T170000
DTEND;TZID=UTC:20241009T190000
DTSTAMP:20260422T230029
CREATED:20240622T163333Z
LAST-MODIFIED:20240622T163338Z
UID:10037453-1728493200-1728500400@myrtlelearning.com
SUMMARY:24EP Myrtle 4 EVR
DESCRIPTION:24EP Myrtle 4 EVR \nThese group is made of students preparing for their 11Plus exams in 2024 \nSelect the button below to join the lesson online
URL:https://myrtlelearning.com/event/24ep-myrtle-4-evr-2/2024-10-09/
LOCATION:Myrtle Learning Centre\, Pattens Gardens\, Rochester\, Kent\, ME1 2QP\, United Kingdom
CATEGORIES:24EP Myrtle 4 EVR
ATTACH;FMTTYPE=image/jpeg:https://myrtlelearning.com/wp-content/uploads/2023/08/myrtle-icon-whitejpg.jpg
END:VEVENT
BEGIN:VEVENT
DTSTART;TZID=UTC:20241016T170000
DTEND;TZID=UTC:20241016T190000
DTSTAMP:20260422T230029
CREATED:20240622T163333Z
LAST-MODIFIED:20240622T163338Z
UID:10037454-1729098000-1729105200@myrtlelearning.com
SUMMARY:24EP Myrtle 4 EVR
DESCRIPTION:24EP Myrtle 4 EVR \nThese group is made of students preparing for their 11Plus exams in 2024 \nSelect the button below to join the lesson online
URL:https://myrtlelearning.com/event/24ep-myrtle-4-evr-2/2024-10-16/
LOCATION:Myrtle Learning Centre\, Pattens Gardens\, Rochester\, Kent\, ME1 2QP\, United Kingdom
CATEGORIES:24EP Myrtle 4 EVR
ATTACH;FMTTYPE=image/jpeg:https://myrtlelearning.com/wp-content/uploads/2023/08/myrtle-icon-whitejpg.jpg
END:VEVENT
BEGIN:VEVENT
DTSTART;TZID=UTC:20241023T170000
DTEND;TZID=UTC:20241023T190000
DTSTAMP:20260422T230029
CREATED:20240622T163333Z
LAST-MODIFIED:20240622T163338Z
UID:10037455-1729702800-1729710000@myrtlelearning.com
SUMMARY:24EP Myrtle 4 EVR
DESCRIPTION:24EP Myrtle 4 EVR \nThese group is made of students preparing for their 11Plus exams in 2024 \nSelect the button below to join the lesson online
URL:https://myrtlelearning.com/event/24ep-myrtle-4-evr-2/2024-10-23/
LOCATION:Myrtle Learning Centre\, Pattens Gardens\, Rochester\, Kent\, ME1 2QP\, United Kingdom
CATEGORIES:24EP Myrtle 4 EVR
ATTACH;FMTTYPE=image/jpeg:https://myrtlelearning.com/wp-content/uploads/2023/08/myrtle-icon-whitejpg.jpg
END:VEVENT
BEGIN:VEVENT
DTSTART;TZID=UTC:20241030T170000
DTEND;TZID=UTC:20241030T190000
DTSTAMP:20260422T230029
CREATED:20240622T163333Z
LAST-MODIFIED:20240622T163338Z
UID:10037456-1730307600-1730314800@myrtlelearning.com
SUMMARY:24EP Myrtle 4 EVR
DESCRIPTION:24EP Myrtle 4 EVR \nThese group is made of students preparing for their 11Plus exams in 2024 \nSelect the button below to join the lesson online
URL:https://myrtlelearning.com/event/24ep-myrtle-4-evr-2/2024-10-30/
LOCATION:Myrtle Learning Centre\, Pattens Gardens\, Rochester\, Kent\, ME1 2QP\, United Kingdom
CATEGORIES:24EP Myrtle 4 EVR
ATTACH;FMTTYPE=image/jpeg:https://myrtlelearning.com/wp-content/uploads/2023/08/myrtle-icon-whitejpg.jpg
END:VEVENT
END:VCALENDAR