BEGIN:VCALENDAR
VERSION:2.0
PRODID:-//Myrtle Learning - ECPv6.15.3//NONSGML v1.0//EN
CALSCALE:GREGORIAN
METHOD:PUBLISH
X-ORIGINAL-URL:https://myrtlelearning.com
X-WR-CALDESC:Events for Myrtle Learning
REFRESH-INTERVAL;VALUE=DURATION:PT1H
X-Robots-Tag:noindex
X-PUBLISHED-TTL:PT1H
BEGIN:VTIMEZONE
TZID:UTC
BEGIN:STANDARD
TZOFFSETFROM:+0000
TZOFFSETTO:+0000
TZNAME:UTC
DTSTART:20260101T000000
END:STANDARD
END:VTIMEZONE
BEGIN:VEVENT
DTSTART;TZID=UTC:20261007T170000
DTEND;TZID=UTC:20261007T190000
DTSTAMP:20260422T022340
CREATED:20240622T163333Z
LAST-MODIFIED:20240622T163338Z
UID:10037557-1791392400-1791399600@myrtlelearning.com
SUMMARY:24EP Myrtle 4 EVR
DESCRIPTION:24EP Myrtle 4 EVR \nThese group is made of students preparing for their 11Plus exams in 2024 \nSelect the button below to join the lesson online
URL:https://myrtlelearning.com/event/24ep-myrtle-4-evr-2/2026-10-07/
LOCATION:Myrtle Learning Centre\, Pattens Gardens\, Rochester\, Kent\, ME1 2QP\, United Kingdom
CATEGORIES:24EP Myrtle 4 EVR
ATTACH;FMTTYPE=image/jpeg:https://myrtlelearning.com/wp-content/uploads/2023/08/myrtle-icon-whitejpg.jpg
END:VEVENT
BEGIN:VEVENT
DTSTART;TZID=UTC:20261014T170000
DTEND;TZID=UTC:20261014T190000
DTSTAMP:20260422T022340
CREATED:20240622T163333Z
LAST-MODIFIED:20240622T163338Z
UID:10037558-1791997200-1792004400@myrtlelearning.com
SUMMARY:24EP Myrtle 4 EVR
DESCRIPTION:24EP Myrtle 4 EVR \nThese group is made of students preparing for their 11Plus exams in 2024 \nSelect the button below to join the lesson online
URL:https://myrtlelearning.com/event/24ep-myrtle-4-evr-2/2026-10-14/
LOCATION:Myrtle Learning Centre\, Pattens Gardens\, Rochester\, Kent\, ME1 2QP\, United Kingdom
CATEGORIES:24EP Myrtle 4 EVR
ATTACH;FMTTYPE=image/jpeg:https://myrtlelearning.com/wp-content/uploads/2023/08/myrtle-icon-whitejpg.jpg
END:VEVENT
BEGIN:VEVENT
DTSTART;TZID=UTC:20261021T170000
DTEND;TZID=UTC:20261021T190000
DTSTAMP:20260422T022340
CREATED:20240622T163333Z
LAST-MODIFIED:20240622T163338Z
UID:10037559-1792602000-1792609200@myrtlelearning.com
SUMMARY:24EP Myrtle 4 EVR
DESCRIPTION:24EP Myrtle 4 EVR \nThese group is made of students preparing for their 11Plus exams in 2024 \nSelect the button below to join the lesson online
URL:https://myrtlelearning.com/event/24ep-myrtle-4-evr-2/2026-10-21/
LOCATION:Myrtle Learning Centre\, Pattens Gardens\, Rochester\, Kent\, ME1 2QP\, United Kingdom
CATEGORIES:24EP Myrtle 4 EVR
ATTACH;FMTTYPE=image/jpeg:https://myrtlelearning.com/wp-content/uploads/2023/08/myrtle-icon-whitejpg.jpg
END:VEVENT
BEGIN:VEVENT
DTSTART;TZID=UTC:20261028T170000
DTEND;TZID=UTC:20261028T190000
DTSTAMP:20260422T022340
CREATED:20240622T163333Z
LAST-MODIFIED:20240622T163338Z
UID:10037560-1793206800-1793214000@myrtlelearning.com
SUMMARY:24EP Myrtle 4 EVR
DESCRIPTION:24EP Myrtle 4 EVR \nThese group is made of students preparing for their 11Plus exams in 2024 \nSelect the button below to join the lesson online
URL:https://myrtlelearning.com/event/24ep-myrtle-4-evr-2/2026-10-28/
LOCATION:Myrtle Learning Centre\, Pattens Gardens\, Rochester\, Kent\, ME1 2QP\, United Kingdom
CATEGORIES:24EP Myrtle 4 EVR
ATTACH;FMTTYPE=image/jpeg:https://myrtlelearning.com/wp-content/uploads/2023/08/myrtle-icon-whitejpg.jpg
END:VEVENT
END:VCALENDAR