BEGIN:VCALENDAR
VERSION:2.0
PRODID:-//Myrtle Learning - ECPv6.15.3//NONSGML v1.0//EN
CALSCALE:GREGORIAN
METHOD:PUBLISH
X-WR-CALNAME:Myrtle Learning
X-ORIGINAL-URL:https://myrtlelearning.com
X-WR-CALDESC:Events for Myrtle Learning
REFRESH-INTERVAL;VALUE=DURATION:PT1H
X-Robots-Tag:noindex
X-PUBLISHED-TTL:PT1H
BEGIN:VTIMEZONE
TZID:UTC
BEGIN:STANDARD
TZOFFSETFROM:+0000
TZOFFSETTO:+0000
TZNAME:UTC
DTSTART:20270101T000000
END:STANDARD
END:VTIMEZONE
BEGIN:VEVENT
DTSTART;TZID=UTC:20270407T170000
DTEND;TZID=UTC:20270407T190000
DTSTAMP:20260422T121013
CREATED:20240622T163333Z
LAST-MODIFIED:20240622T163338Z
UID:10037583-1807117200-1807124400@myrtlelearning.com
SUMMARY:24EP Myrtle 4 EVR
DESCRIPTION:24EP Myrtle 4 EVR \nThese group is made of students preparing for their 11Plus exams in 2024 \nSelect the button below to join the lesson online
URL:https://myrtlelearning.com/event/24ep-myrtle-4-evr-2/2027-04-07/
LOCATION:Myrtle Learning Centre\, Pattens Gardens\, Rochester\, Kent\, ME1 2QP\, United Kingdom
CATEGORIES:24EP Myrtle 4 EVR
ATTACH;FMTTYPE=image/jpeg:https://myrtlelearning.com/wp-content/uploads/2023/08/myrtle-icon-whitejpg.jpg
END:VEVENT
BEGIN:VEVENT
DTSTART;TZID=UTC:20270414T170000
DTEND;TZID=UTC:20270414T190000
DTSTAMP:20260422T121013
CREATED:20240622T163333Z
LAST-MODIFIED:20240622T163338Z
UID:10037584-1807722000-1807729200@myrtlelearning.com
SUMMARY:24EP Myrtle 4 EVR
DESCRIPTION:24EP Myrtle 4 EVR \nThese group is made of students preparing for their 11Plus exams in 2024 \nSelect the button below to join the lesson online
URL:https://myrtlelearning.com/event/24ep-myrtle-4-evr-2/2027-04-14/
LOCATION:Myrtle Learning Centre\, Pattens Gardens\, Rochester\, Kent\, ME1 2QP\, United Kingdom
CATEGORIES:24EP Myrtle 4 EVR
ATTACH;FMTTYPE=image/jpeg:https://myrtlelearning.com/wp-content/uploads/2023/08/myrtle-icon-whitejpg.jpg
END:VEVENT
BEGIN:VEVENT
DTSTART;TZID=UTC:20270421T170000
DTEND;TZID=UTC:20270421T190000
DTSTAMP:20260422T121013
CREATED:20240622T163333Z
LAST-MODIFIED:20240622T163338Z
UID:10037585-1808326800-1808334000@myrtlelearning.com
SUMMARY:24EP Myrtle 4 EVR
DESCRIPTION:24EP Myrtle 4 EVR \nThese group is made of students preparing for their 11Plus exams in 2024 \nSelect the button below to join the lesson online
URL:https://myrtlelearning.com/event/24ep-myrtle-4-evr-2/2027-04-21/
LOCATION:Myrtle Learning Centre\, Pattens Gardens\, Rochester\, Kent\, ME1 2QP\, United Kingdom
CATEGORIES:24EP Myrtle 4 EVR
ATTACH;FMTTYPE=image/jpeg:https://myrtlelearning.com/wp-content/uploads/2023/08/myrtle-icon-whitejpg.jpg
END:VEVENT
BEGIN:VEVENT
DTSTART;TZID=UTC:20270428T170000
DTEND;TZID=UTC:20270428T190000
DTSTAMP:20260422T121013
CREATED:20240622T163333Z
LAST-MODIFIED:20240622T163338Z
UID:10037586-1808931600-1808938800@myrtlelearning.com
SUMMARY:24EP Myrtle 4 EVR
DESCRIPTION:24EP Myrtle 4 EVR \nThese group is made of students preparing for their 11Plus exams in 2024 \nSelect the button below to join the lesson online
URL:https://myrtlelearning.com/event/24ep-myrtle-4-evr-2/2027-04-28/
LOCATION:Myrtle Learning Centre\, Pattens Gardens\, Rochester\, Kent\, ME1 2QP\, United Kingdom
CATEGORIES:24EP Myrtle 4 EVR
ATTACH;FMTTYPE=image/jpeg:https://myrtlelearning.com/wp-content/uploads/2023/08/myrtle-icon-whitejpg.jpg
END:VEVENT
END:VCALENDAR