BEGIN:VCALENDAR
VERSION:2.0
PRODID:-//Myrtle Learning - ECPv6.15.3//NONSGML v1.0//EN
CALSCALE:GREGORIAN
METHOD:PUBLISH
X-WR-CALNAME:Myrtle Learning
X-ORIGINAL-URL:https://myrtlelearning.com
X-WR-CALDESC:Events for Myrtle Learning
REFRESH-INTERVAL;VALUE=DURATION:PT1H
X-Robots-Tag:noindex
X-PUBLISHED-TTL:PT1H
BEGIN:VTIMEZONE
TZID:UTC
BEGIN:STANDARD
TZOFFSETFROM:+0000
TZOFFSETTO:+0000
TZNAME:UTC
DTSTART:20280101T000000
END:STANDARD
END:VTIMEZONE
BEGIN:VEVENT
DTSTART;TZID=UTC:20280705T170000
DTEND;TZID=UTC:20280705T190000
DTSTAMP:20260423T112343
CREATED:20240622T163333Z
LAST-MODIFIED:20240622T163338Z
UID:10037648-1846429200-1846436400@myrtlelearning.com
SUMMARY:24EP Myrtle 4 EVR
DESCRIPTION:24EP Myrtle 4 EVR \nThese group is made of students preparing for their 11Plus exams in 2024 \nSelect the button below to join the lesson online
URL:https://myrtlelearning.com/event/24ep-myrtle-4-evr-2/2028-07-05/
LOCATION:Myrtle Learning Centre\, Pattens Gardens\, Rochester\, Kent\, ME1 2QP\, United Kingdom
CATEGORIES:24EP Myrtle 4 EVR
ATTACH;FMTTYPE=image/jpeg:https://myrtlelearning.com/wp-content/uploads/2023/08/myrtle-icon-whitejpg.jpg
END:VEVENT
BEGIN:VEVENT
DTSTART;TZID=UTC:20280712T170000
DTEND;TZID=UTC:20280712T190000
DTSTAMP:20260423T112343
CREATED:20240622T163333Z
LAST-MODIFIED:20240622T163338Z
UID:10037649-1847034000-1847041200@myrtlelearning.com
SUMMARY:24EP Myrtle 4 EVR
DESCRIPTION:24EP Myrtle 4 EVR \nThese group is made of students preparing for their 11Plus exams in 2024 \nSelect the button below to join the lesson online
URL:https://myrtlelearning.com/event/24ep-myrtle-4-evr-2/2028-07-12/
LOCATION:Myrtle Learning Centre\, Pattens Gardens\, Rochester\, Kent\, ME1 2QP\, United Kingdom
CATEGORIES:24EP Myrtle 4 EVR
ATTACH;FMTTYPE=image/jpeg:https://myrtlelearning.com/wp-content/uploads/2023/08/myrtle-icon-whitejpg.jpg
END:VEVENT
BEGIN:VEVENT
DTSTART;TZID=UTC:20280719T170000
DTEND;TZID=UTC:20280719T190000
DTSTAMP:20260423T112343
CREATED:20240622T163333Z
LAST-MODIFIED:20240622T163338Z
UID:10037650-1847638800-1847646000@myrtlelearning.com
SUMMARY:24EP Myrtle 4 EVR
DESCRIPTION:24EP Myrtle 4 EVR \nThese group is made of students preparing for their 11Plus exams in 2024 \nSelect the button below to join the lesson online
URL:https://myrtlelearning.com/event/24ep-myrtle-4-evr-2/2028-07-19/
LOCATION:Myrtle Learning Centre\, Pattens Gardens\, Rochester\, Kent\, ME1 2QP\, United Kingdom
CATEGORIES:24EP Myrtle 4 EVR
ATTACH;FMTTYPE=image/jpeg:https://myrtlelearning.com/wp-content/uploads/2023/08/myrtle-icon-whitejpg.jpg
END:VEVENT
BEGIN:VEVENT
DTSTART;TZID=UTC:20280726T170000
DTEND;TZID=UTC:20280726T190000
DTSTAMP:20260423T112343
CREATED:20240622T163333Z
LAST-MODIFIED:20240622T163338Z
UID:10037651-1848243600-1848250800@myrtlelearning.com
SUMMARY:24EP Myrtle 4 EVR
DESCRIPTION:24EP Myrtle 4 EVR \nThese group is made of students preparing for their 11Plus exams in 2024 \nSelect the button below to join the lesson online
URL:https://myrtlelearning.com/event/24ep-myrtle-4-evr-2/2028-07-26/
LOCATION:Myrtle Learning Centre\, Pattens Gardens\, Rochester\, Kent\, ME1 2QP\, United Kingdom
CATEGORIES:24EP Myrtle 4 EVR
ATTACH;FMTTYPE=image/jpeg:https://myrtlelearning.com/wp-content/uploads/2023/08/myrtle-icon-whitejpg.jpg
END:VEVENT
END:VCALENDAR