BEGIN:VCALENDAR
VERSION:2.0
PRODID:-//Myrtle Learning - ECPv6.15.3//NONSGML v1.0//EN
CALSCALE:GREGORIAN
METHOD:PUBLISH
X-ORIGINAL-URL:https://myrtlelearning.com
X-WR-CALDESC:Events for Myrtle Learning
REFRESH-INTERVAL;VALUE=DURATION:PT1H
X-Robots-Tag:noindex
X-PUBLISHED-TTL:PT1H
BEGIN:VTIMEZONE
TZID:UTC
BEGIN:STANDARD
TZOFFSETFROM:+0000
TZOFFSETTO:+0000
TZNAME:UTC
DTSTART:20280101T000000
END:STANDARD
END:VTIMEZONE
BEGIN:VEVENT
DTSTART;TZID=UTC:20281101T170000
DTEND;TZID=UTC:20281101T190000
DTSTAMP:20260423T161205
CREATED:20240622T163333Z
LAST-MODIFIED:20240622T163338Z
UID:10037665-1856710800-1856718000@myrtlelearning.com
SUMMARY:24EP Myrtle 4 EVR
DESCRIPTION:24EP Myrtle 4 EVR \nThese group is made of students preparing for their 11Plus exams in 2024 \nSelect the button below to join the lesson online
URL:https://myrtlelearning.com/event/24ep-myrtle-4-evr-2/2028-11-01/
LOCATION:Myrtle Learning Centre\, Pattens Gardens\, Rochester\, Kent\, ME1 2QP\, United Kingdom
CATEGORIES:24EP Myrtle 4 EVR
ATTACH;FMTTYPE=image/jpeg:https://myrtlelearning.com/wp-content/uploads/2023/08/myrtle-icon-whitejpg.jpg
END:VEVENT
BEGIN:VEVENT
DTSTART;TZID=UTC:20281108T170000
DTEND;TZID=UTC:20281108T190000
DTSTAMP:20260423T161205
CREATED:20240622T163333Z
LAST-MODIFIED:20240622T163338Z
UID:10037666-1857315600-1857322800@myrtlelearning.com
SUMMARY:24EP Myrtle 4 EVR
DESCRIPTION:24EP Myrtle 4 EVR \nThese group is made of students preparing for their 11Plus exams in 2024 \nSelect the button below to join the lesson online
URL:https://myrtlelearning.com/event/24ep-myrtle-4-evr-2/2028-11-08/
LOCATION:Myrtle Learning Centre\, Pattens Gardens\, Rochester\, Kent\, ME1 2QP\, United Kingdom
CATEGORIES:24EP Myrtle 4 EVR
ATTACH;FMTTYPE=image/jpeg:https://myrtlelearning.com/wp-content/uploads/2023/08/myrtle-icon-whitejpg.jpg
END:VEVENT
BEGIN:VEVENT
DTSTART;TZID=UTC:20281115T170000
DTEND;TZID=UTC:20281115T190000
DTSTAMP:20260423T161205
CREATED:20240622T163333Z
LAST-MODIFIED:20240622T163338Z
UID:10037667-1857920400-1857927600@myrtlelearning.com
SUMMARY:24EP Myrtle 4 EVR
DESCRIPTION:24EP Myrtle 4 EVR \nThese group is made of students preparing for their 11Plus exams in 2024 \nSelect the button below to join the lesson online
URL:https://myrtlelearning.com/event/24ep-myrtle-4-evr-2/2028-11-15/
LOCATION:Myrtle Learning Centre\, Pattens Gardens\, Rochester\, Kent\, ME1 2QP\, United Kingdom
CATEGORIES:24EP Myrtle 4 EVR
ATTACH;FMTTYPE=image/jpeg:https://myrtlelearning.com/wp-content/uploads/2023/08/myrtle-icon-whitejpg.jpg
END:VEVENT
BEGIN:VEVENT
DTSTART;TZID=UTC:20281122T170000
DTEND;TZID=UTC:20281122T190000
DTSTAMP:20260423T161205
CREATED:20240622T163333Z
LAST-MODIFIED:20240622T163338Z
UID:10037668-1858525200-1858532400@myrtlelearning.com
SUMMARY:24EP Myrtle 4 EVR
DESCRIPTION:24EP Myrtle 4 EVR \nThese group is made of students preparing for their 11Plus exams in 2024 \nSelect the button below to join the lesson online
URL:https://myrtlelearning.com/event/24ep-myrtle-4-evr-2/2028-11-22/
LOCATION:Myrtle Learning Centre\, Pattens Gardens\, Rochester\, Kent\, ME1 2QP\, United Kingdom
CATEGORIES:24EP Myrtle 4 EVR
ATTACH;FMTTYPE=image/jpeg:https://myrtlelearning.com/wp-content/uploads/2023/08/myrtle-icon-whitejpg.jpg
END:VEVENT
BEGIN:VEVENT
DTSTART;TZID=UTC:20281129T170000
DTEND;TZID=UTC:20281129T190000
DTSTAMP:20260423T161205
CREATED:20240622T163333Z
LAST-MODIFIED:20240622T163338Z
UID:10037669-1859130000-1859137200@myrtlelearning.com
SUMMARY:24EP Myrtle 4 EVR
DESCRIPTION:24EP Myrtle 4 EVR \nThese group is made of students preparing for their 11Plus exams in 2024 \nSelect the button below to join the lesson online
URL:https://myrtlelearning.com/event/24ep-myrtle-4-evr-2/2028-11-29/
LOCATION:Myrtle Learning Centre\, Pattens Gardens\, Rochester\, Kent\, ME1 2QP\, United Kingdom
CATEGORIES:24EP Myrtle 4 EVR
ATTACH;FMTTYPE=image/jpeg:https://myrtlelearning.com/wp-content/uploads/2023/08/myrtle-icon-whitejpg.jpg
END:VEVENT
END:VCALENDAR