BEGIN:VCALENDAR
VERSION:2.0
PRODID:-//Myrtle Learning - ECPv6.15.3//NONSGML v1.0//EN
CALSCALE:GREGORIAN
METHOD:PUBLISH
X-ORIGINAL-URL:https://myrtlelearning.com
X-WR-CALDESC:Events for Myrtle Learning
REFRESH-INTERVAL;VALUE=DURATION:PT1H
X-Robots-Tag:noindex
X-PUBLISHED-TTL:PT1H
BEGIN:VTIMEZONE
TZID:UTC
BEGIN:STANDARD
TZOFFSETFROM:+0000
TZOFFSETTO:+0000
TZNAME:UTC
DTSTART:20240101T000000
END:STANDARD
END:VTIMEZONE
BEGIN:VEVENT
DTSTART;TZID=UTC:20240802T170000
DTEND;TZID=UTC:20240802T190000
DTSTAMP:20260422T033942
CREATED:20240202T182554Z
LAST-MODIFIED:20240202T182554Z
UID:10032266-1722618000-1722625200@myrtlelearning.com
SUMMARY:24EP Myrtle 5 EVR
DESCRIPTION:24EP Myrtle 5 EVR \nThese group is made of students preparing for their 11Plus exams in 2024 \nSelect the button below to join the lesson online
URL:https://myrtlelearning.com/event/24ep-myrtle-5-evr/2024-08-02/
LOCATION:Myrtle Learning Centre\, Pattens Gardens\, Rochester\, Kent\, ME1 2QP\, United Kingdom
CATEGORIES:24EP Myrtle 5 EVR
ATTACH;FMTTYPE=image/jpeg:https://myrtlelearning.com/wp-content/uploads/2023/08/myrtle-icon-whitejpg.jpg
END:VEVENT
BEGIN:VEVENT
DTSTART;TZID=UTC:20240809T170000
DTEND;TZID=UTC:20240809T190000
DTSTAMP:20260422T033942
CREATED:20240202T182554Z
LAST-MODIFIED:20240202T182554Z
UID:10032267-1723222800-1723230000@myrtlelearning.com
SUMMARY:24EP Myrtle 5 EVR
DESCRIPTION:24EP Myrtle 5 EVR \nThese group is made of students preparing for their 11Plus exams in 2024 \nSelect the button below to join the lesson online
URL:https://myrtlelearning.com/event/24ep-myrtle-5-evr/2024-08-09/
LOCATION:Myrtle Learning Centre\, Pattens Gardens\, Rochester\, Kent\, ME1 2QP\, United Kingdom
CATEGORIES:24EP Myrtle 5 EVR
ATTACH;FMTTYPE=image/jpeg:https://myrtlelearning.com/wp-content/uploads/2023/08/myrtle-icon-whitejpg.jpg
END:VEVENT
BEGIN:VEVENT
DTSTART;TZID=UTC:20240816T170000
DTEND;TZID=UTC:20240816T190000
DTSTAMP:20260422T033942
CREATED:20240202T182554Z
LAST-MODIFIED:20240202T182554Z
UID:10032268-1723827600-1723834800@myrtlelearning.com
SUMMARY:24EP Myrtle 5 EVR
DESCRIPTION:24EP Myrtle 5 EVR \nThese group is made of students preparing for their 11Plus exams in 2024 \nSelect the button below to join the lesson online
URL:https://myrtlelearning.com/event/24ep-myrtle-5-evr/2024-08-16/
LOCATION:Myrtle Learning Centre\, Pattens Gardens\, Rochester\, Kent\, ME1 2QP\, United Kingdom
CATEGORIES:24EP Myrtle 5 EVR
ATTACH;FMTTYPE=image/jpeg:https://myrtlelearning.com/wp-content/uploads/2023/08/myrtle-icon-whitejpg.jpg
END:VEVENT
BEGIN:VEVENT
DTSTART;TZID=UTC:20240823T170000
DTEND;TZID=UTC:20240823T190000
DTSTAMP:20260422T033942
CREATED:20240202T182554Z
LAST-MODIFIED:20240202T182554Z
UID:10032269-1724432400-1724439600@myrtlelearning.com
SUMMARY:24EP Myrtle 5 EVR
DESCRIPTION:24EP Myrtle 5 EVR \nThese group is made of students preparing for their 11Plus exams in 2024 \nSelect the button below to join the lesson online
URL:https://myrtlelearning.com/event/24ep-myrtle-5-evr/2024-08-23/
LOCATION:Myrtle Learning Centre\, Pattens Gardens\, Rochester\, Kent\, ME1 2QP\, United Kingdom
CATEGORIES:24EP Myrtle 5 EVR
ATTACH;FMTTYPE=image/jpeg:https://myrtlelearning.com/wp-content/uploads/2023/08/myrtle-icon-whitejpg.jpg
END:VEVENT
BEGIN:VEVENT
DTSTART;TZID=UTC:20240830T170000
DTEND;TZID=UTC:20240830T190000
DTSTAMP:20260422T033942
CREATED:20240202T182554Z
LAST-MODIFIED:20240202T182554Z
UID:10032270-1725037200-1725044400@myrtlelearning.com
SUMMARY:24EP Myrtle 5 EVR
DESCRIPTION:24EP Myrtle 5 EVR \nThese group is made of students preparing for their 11Plus exams in 2024 \nSelect the button below to join the lesson online
URL:https://myrtlelearning.com/event/24ep-myrtle-5-evr/2024-08-30/
LOCATION:Myrtle Learning Centre\, Pattens Gardens\, Rochester\, Kent\, ME1 2QP\, United Kingdom
CATEGORIES:24EP Myrtle 5 EVR
ATTACH;FMTTYPE=image/jpeg:https://myrtlelearning.com/wp-content/uploads/2023/08/myrtle-icon-whitejpg.jpg
END:VEVENT
END:VCALENDAR