BEGIN:VCALENDAR
VERSION:2.0
PRODID:-//Myrtle Learning - ECPv6.15.3//NONSGML v1.0//EN
CALSCALE:GREGORIAN
METHOD:PUBLISH
X-WR-CALNAME:Myrtle Learning
X-ORIGINAL-URL:https://myrtlelearning.com
X-WR-CALDESC:Events for Myrtle Learning
REFRESH-INTERVAL;VALUE=DURATION:PT1H
X-Robots-Tag:noindex
X-PUBLISHED-TTL:PT1H
BEGIN:VTIMEZONE
TZID:UTC
BEGIN:STANDARD
TZOFFSETFROM:+0000
TZOFFSETTO:+0000
TZNAME:UTC
DTSTART:20260101T000000
END:STANDARD
END:VTIMEZONE
BEGIN:VEVENT
DTSTART;TZID=UTC:20260703T170000
DTEND;TZID=UTC:20260703T190000
DTSTAMP:20260421T013916
CREATED:20240202T182554Z
LAST-MODIFIED:20240202T182554Z
UID:10032366-1783098000-1783105200@myrtlelearning.com
SUMMARY:24EP Myrtle 5 EVR
DESCRIPTION:24EP Myrtle 5 EVR \nThese group is made of students preparing for their 11Plus exams in 2024 \nSelect the button below to join the lesson online
URL:https://myrtlelearning.com/event/24ep-myrtle-5-evr/2026-07-03/
LOCATION:Myrtle Learning Centre\, Pattens Gardens\, Rochester\, Kent\, ME1 2QP\, United Kingdom
CATEGORIES:24EP Myrtle 5 EVR
ATTACH;FMTTYPE=image/jpeg:https://myrtlelearning.com/wp-content/uploads/2023/08/myrtle-icon-whitejpg.jpg
END:VEVENT
BEGIN:VEVENT
DTSTART;TZID=UTC:20260710T170000
DTEND;TZID=UTC:20260710T190000
DTSTAMP:20260421T013916
CREATED:20240202T182554Z
LAST-MODIFIED:20240202T182554Z
UID:10032367-1783702800-1783710000@myrtlelearning.com
SUMMARY:24EP Myrtle 5 EVR
DESCRIPTION:24EP Myrtle 5 EVR \nThese group is made of students preparing for their 11Plus exams in 2024 \nSelect the button below to join the lesson online
URL:https://myrtlelearning.com/event/24ep-myrtle-5-evr/2026-07-10/
LOCATION:Myrtle Learning Centre\, Pattens Gardens\, Rochester\, Kent\, ME1 2QP\, United Kingdom
CATEGORIES:24EP Myrtle 5 EVR
ATTACH;FMTTYPE=image/jpeg:https://myrtlelearning.com/wp-content/uploads/2023/08/myrtle-icon-whitejpg.jpg
END:VEVENT
BEGIN:VEVENT
DTSTART;TZID=UTC:20260717T170000
DTEND;TZID=UTC:20260717T190000
DTSTAMP:20260421T013916
CREATED:20240202T182554Z
LAST-MODIFIED:20240202T182554Z
UID:10032368-1784307600-1784314800@myrtlelearning.com
SUMMARY:24EP Myrtle 5 EVR
DESCRIPTION:24EP Myrtle 5 EVR \nThese group is made of students preparing for their 11Plus exams in 2024 \nSelect the button below to join the lesson online
URL:https://myrtlelearning.com/event/24ep-myrtle-5-evr/2026-07-17/
LOCATION:Myrtle Learning Centre\, Pattens Gardens\, Rochester\, Kent\, ME1 2QP\, United Kingdom
CATEGORIES:24EP Myrtle 5 EVR
ATTACH;FMTTYPE=image/jpeg:https://myrtlelearning.com/wp-content/uploads/2023/08/myrtle-icon-whitejpg.jpg
END:VEVENT
BEGIN:VEVENT
DTSTART;TZID=UTC:20260724T170000
DTEND;TZID=UTC:20260724T190000
DTSTAMP:20260421T013916
CREATED:20240202T182554Z
LAST-MODIFIED:20240202T182554Z
UID:10032369-1784912400-1784919600@myrtlelearning.com
SUMMARY:24EP Myrtle 5 EVR
DESCRIPTION:24EP Myrtle 5 EVR \nThese group is made of students preparing for their 11Plus exams in 2024 \nSelect the button below to join the lesson online
URL:https://myrtlelearning.com/event/24ep-myrtle-5-evr/2026-07-24/
LOCATION:Myrtle Learning Centre\, Pattens Gardens\, Rochester\, Kent\, ME1 2QP\, United Kingdom
CATEGORIES:24EP Myrtle 5 EVR
ATTACH;FMTTYPE=image/jpeg:https://myrtlelearning.com/wp-content/uploads/2023/08/myrtle-icon-whitejpg.jpg
END:VEVENT
BEGIN:VEVENT
DTSTART;TZID=UTC:20260731T170000
DTEND;TZID=UTC:20260731T190000
DTSTAMP:20260421T013916
CREATED:20240202T182554Z
LAST-MODIFIED:20240202T182554Z
UID:10032370-1785517200-1785524400@myrtlelearning.com
SUMMARY:24EP Myrtle 5 EVR
DESCRIPTION:24EP Myrtle 5 EVR \nThese group is made of students preparing for their 11Plus exams in 2024 \nSelect the button below to join the lesson online
URL:https://myrtlelearning.com/event/24ep-myrtle-5-evr/2026-07-31/
LOCATION:Myrtle Learning Centre\, Pattens Gardens\, Rochester\, Kent\, ME1 2QP\, United Kingdom
CATEGORIES:24EP Myrtle 5 EVR
ATTACH;FMTTYPE=image/jpeg:https://myrtlelearning.com/wp-content/uploads/2023/08/myrtle-icon-whitejpg.jpg
END:VEVENT
END:VCALENDAR