BEGIN:VCALENDAR
VERSION:2.0
PRODID:-//Myrtle Learning - ECPv6.15.3//NONSGML v1.0//EN
CALSCALE:GREGORIAN
METHOD:PUBLISH
X-WR-CALNAME:Myrtle Learning
X-ORIGINAL-URL:https://myrtlelearning.com
X-WR-CALDESC:Events for Myrtle Learning
REFRESH-INTERVAL;VALUE=DURATION:PT1H
X-Robots-Tag:noindex
X-PUBLISHED-TTL:PT1H
BEGIN:VTIMEZONE
TZID:UTC
BEGIN:STANDARD
TZOFFSETFROM:+0000
TZOFFSETTO:+0000
TZNAME:UTC
DTSTART:20280101T000000
END:STANDARD
END:VTIMEZONE
BEGIN:VEVENT
DTSTART;TZID=UTC:20280204T170000
DTEND;TZID=UTC:20280204T190000
DTSTAMP:20260422T121007
CREATED:20240202T182554Z
LAST-MODIFIED:20240202T182554Z
UID:10032449-1833296400-1833303600@myrtlelearning.com
SUMMARY:24EP Myrtle 5 EVR
DESCRIPTION:24EP Myrtle 5 EVR \nThese group is made of students preparing for their 11Plus exams in 2024 \nSelect the button below to join the lesson online
URL:https://myrtlelearning.com/event/24ep-myrtle-5-evr/2028-02-04/
LOCATION:Myrtle Learning Centre\, Pattens Gardens\, Rochester\, Kent\, ME1 2QP\, United Kingdom
CATEGORIES:24EP Myrtle 5 EVR
ATTACH;FMTTYPE=image/jpeg:https://myrtlelearning.com/wp-content/uploads/2023/08/myrtle-icon-whitejpg.jpg
END:VEVENT
BEGIN:VEVENT
DTSTART;TZID=UTC:20280211T170000
DTEND;TZID=UTC:20280211T190000
DTSTAMP:20260422T121007
CREATED:20240202T182554Z
LAST-MODIFIED:20240202T182554Z
UID:10032450-1833901200-1833908400@myrtlelearning.com
SUMMARY:24EP Myrtle 5 EVR
DESCRIPTION:24EP Myrtle 5 EVR \nThese group is made of students preparing for their 11Plus exams in 2024 \nSelect the button below to join the lesson online
URL:https://myrtlelearning.com/event/24ep-myrtle-5-evr/2028-02-11/
LOCATION:Myrtle Learning Centre\, Pattens Gardens\, Rochester\, Kent\, ME1 2QP\, United Kingdom
CATEGORIES:24EP Myrtle 5 EVR
ATTACH;FMTTYPE=image/jpeg:https://myrtlelearning.com/wp-content/uploads/2023/08/myrtle-icon-whitejpg.jpg
END:VEVENT
BEGIN:VEVENT
DTSTART;TZID=UTC:20280218T170000
DTEND;TZID=UTC:20280218T190000
DTSTAMP:20260422T121007
CREATED:20240202T182554Z
LAST-MODIFIED:20240202T182554Z
UID:10032451-1834506000-1834513200@myrtlelearning.com
SUMMARY:24EP Myrtle 5 EVR
DESCRIPTION:24EP Myrtle 5 EVR \nThese group is made of students preparing for their 11Plus exams in 2024 \nSelect the button below to join the lesson online
URL:https://myrtlelearning.com/event/24ep-myrtle-5-evr/2028-02-18/
LOCATION:Myrtle Learning Centre\, Pattens Gardens\, Rochester\, Kent\, ME1 2QP\, United Kingdom
CATEGORIES:24EP Myrtle 5 EVR
ATTACH;FMTTYPE=image/jpeg:https://myrtlelearning.com/wp-content/uploads/2023/08/myrtle-icon-whitejpg.jpg
END:VEVENT
BEGIN:VEVENT
DTSTART;TZID=UTC:20280225T170000
DTEND;TZID=UTC:20280225T190000
DTSTAMP:20260422T121007
CREATED:20240202T182554Z
LAST-MODIFIED:20240202T182554Z
UID:10032452-1835110800-1835118000@myrtlelearning.com
SUMMARY:24EP Myrtle 5 EVR
DESCRIPTION:24EP Myrtle 5 EVR \nThese group is made of students preparing for their 11Plus exams in 2024 \nSelect the button below to join the lesson online
URL:https://myrtlelearning.com/event/24ep-myrtle-5-evr/2028-02-25/
LOCATION:Myrtle Learning Centre\, Pattens Gardens\, Rochester\, Kent\, ME1 2QP\, United Kingdom
CATEGORIES:24EP Myrtle 5 EVR
ATTACH;FMTTYPE=image/jpeg:https://myrtlelearning.com/wp-content/uploads/2023/08/myrtle-icon-whitejpg.jpg
END:VEVENT
END:VCALENDAR