BEGIN:VCALENDAR
VERSION:2.0
PRODID:-//Myrtle Learning - ECPv6.15.3//NONSGML v1.0//EN
CALSCALE:GREGORIAN
METHOD:PUBLISH
X-WR-CALNAME:Myrtle Learning
X-ORIGINAL-URL:https://myrtlelearning.com
X-WR-CALDESC:Events for Myrtle Learning
REFRESH-INTERVAL;VALUE=DURATION:PT1H
X-Robots-Tag:noindex
X-PUBLISHED-TTL:PT1H
BEGIN:VTIMEZONE
TZID:UTC
BEGIN:STANDARD
TZOFFSETFROM:+0000
TZOFFSETTO:+0000
TZNAME:UTC
DTSTART:20280101T000000
END:STANDARD
END:VTIMEZONE
BEGIN:VEVENT
DTSTART;TZID=UTC:20280303T170000
DTEND;TZID=UTC:20280303T190000
DTSTAMP:20260422T150803
CREATED:20240202T182554Z
LAST-MODIFIED:20240202T182554Z
UID:10032453-1835715600-1835722800@myrtlelearning.com
SUMMARY:24EP Myrtle 5 EVR
DESCRIPTION:24EP Myrtle 5 EVR \nThese group is made of students preparing for their 11Plus exams in 2024 \nSelect the button below to join the lesson online
URL:https://myrtlelearning.com/event/24ep-myrtle-5-evr/2028-03-03/
LOCATION:Myrtle Learning Centre\, Pattens Gardens\, Rochester\, Kent\, ME1 2QP\, United Kingdom
CATEGORIES:24EP Myrtle 5 EVR
ATTACH;FMTTYPE=image/jpeg:https://myrtlelearning.com/wp-content/uploads/2023/08/myrtle-icon-whitejpg.jpg
END:VEVENT
BEGIN:VEVENT
DTSTART;TZID=UTC:20280310T170000
DTEND;TZID=UTC:20280310T190000
DTSTAMP:20260422T150803
CREATED:20240202T182554Z
LAST-MODIFIED:20240202T182554Z
UID:10032454-1836320400-1836327600@myrtlelearning.com
SUMMARY:24EP Myrtle 5 EVR
DESCRIPTION:24EP Myrtle 5 EVR \nThese group is made of students preparing for their 11Plus exams in 2024 \nSelect the button below to join the lesson online
URL:https://myrtlelearning.com/event/24ep-myrtle-5-evr/2028-03-10/
LOCATION:Myrtle Learning Centre\, Pattens Gardens\, Rochester\, Kent\, ME1 2QP\, United Kingdom
CATEGORIES:24EP Myrtle 5 EVR
ATTACH;FMTTYPE=image/jpeg:https://myrtlelearning.com/wp-content/uploads/2023/08/myrtle-icon-whitejpg.jpg
END:VEVENT
BEGIN:VEVENT
DTSTART;TZID=UTC:20280317T170000
DTEND;TZID=UTC:20280317T190000
DTSTAMP:20260422T150803
CREATED:20240202T182554Z
LAST-MODIFIED:20240202T182554Z
UID:10032455-1836925200-1836932400@myrtlelearning.com
SUMMARY:24EP Myrtle 5 EVR
DESCRIPTION:24EP Myrtle 5 EVR \nThese group is made of students preparing for their 11Plus exams in 2024 \nSelect the button below to join the lesson online
URL:https://myrtlelearning.com/event/24ep-myrtle-5-evr/2028-03-17/
LOCATION:Myrtle Learning Centre\, Pattens Gardens\, Rochester\, Kent\, ME1 2QP\, United Kingdom
CATEGORIES:24EP Myrtle 5 EVR
ATTACH;FMTTYPE=image/jpeg:https://myrtlelearning.com/wp-content/uploads/2023/08/myrtle-icon-whitejpg.jpg
END:VEVENT
BEGIN:VEVENT
DTSTART;TZID=UTC:20280324T170000
DTEND;TZID=UTC:20280324T190000
DTSTAMP:20260422T150803
CREATED:20240202T182554Z
LAST-MODIFIED:20240202T182554Z
UID:10032456-1837530000-1837537200@myrtlelearning.com
SUMMARY:24EP Myrtle 5 EVR
DESCRIPTION:24EP Myrtle 5 EVR \nThese group is made of students preparing for their 11Plus exams in 2024 \nSelect the button below to join the lesson online
URL:https://myrtlelearning.com/event/24ep-myrtle-5-evr/2028-03-24/
LOCATION:Myrtle Learning Centre\, Pattens Gardens\, Rochester\, Kent\, ME1 2QP\, United Kingdom
CATEGORIES:24EP Myrtle 5 EVR
ATTACH;FMTTYPE=image/jpeg:https://myrtlelearning.com/wp-content/uploads/2023/08/myrtle-icon-whitejpg.jpg
END:VEVENT
BEGIN:VEVENT
DTSTART;TZID=UTC:20280331T170000
DTEND;TZID=UTC:20280331T190000
DTSTAMP:20260422T150803
CREATED:20240202T182554Z
LAST-MODIFIED:20240202T182554Z
UID:10032457-1838134800-1838142000@myrtlelearning.com
SUMMARY:24EP Myrtle 5 EVR
DESCRIPTION:24EP Myrtle 5 EVR \nThese group is made of students preparing for their 11Plus exams in 2024 \nSelect the button below to join the lesson online
URL:https://myrtlelearning.com/event/24ep-myrtle-5-evr/2028-03-31/
LOCATION:Myrtle Learning Centre\, Pattens Gardens\, Rochester\, Kent\, ME1 2QP\, United Kingdom
CATEGORIES:24EP Myrtle 5 EVR
ATTACH;FMTTYPE=image/jpeg:https://myrtlelearning.com/wp-content/uploads/2023/08/myrtle-icon-whitejpg.jpg
END:VEVENT
END:VCALENDAR