BEGIN:VCALENDAR
VERSION:2.0
PRODID:-//Myrtle Learning - ECPv6.15.3//NONSGML v1.0//EN
CALSCALE:GREGORIAN
METHOD:PUBLISH
X-WR-CALNAME:Myrtle Learning
X-ORIGINAL-URL:https://myrtlelearning.com
X-WR-CALDESC:Events for Myrtle Learning
REFRESH-INTERVAL;VALUE=DURATION:PT1H
X-Robots-Tag:noindex
X-PUBLISHED-TTL:PT1H
BEGIN:VTIMEZONE
TZID:UTC
BEGIN:STANDARD
TZOFFSETFROM:+0000
TZOFFSETTO:+0000
TZNAME:UTC
DTSTART:20250101T000000
END:STANDARD
END:VTIMEZONE
BEGIN:VEVENT
DTSTART;TZID=UTC:20250602T170000
DTEND;TZID=UTC:20250602T180000
DTSTAMP:20260422T043710
CREATED:20231113T200257Z
LAST-MODIFIED:20231113T200257Z
UID:10027661-1748883600-1748887200@myrtlelearning.com
SUMMARY:24GE Myrtle 1
DESCRIPTION:24GE Myrtle 1 \nThese group is made of students preparing for their english exams in 2024 \nSelect the button below to join the lesson online
URL:https://myrtlelearning.com/event/24ge-myrtle-1/2025-06-02/
LOCATION:Myrtle Learning Centre\, Pattens Gardens\, Rochester\, Kent\, ME1 2QP\, United Kingdom
CATEGORIES:24GE Myrtle 1
ATTACH;FMTTYPE=image/jpeg:https://myrtlelearning.com/wp-content/uploads/2023/08/myrtle-icon-whitejpg.jpg
END:VEVENT
BEGIN:VEVENT
DTSTART;TZID=UTC:20250609T170000
DTEND;TZID=UTC:20250609T180000
DTSTAMP:20260422T043710
CREATED:20231113T200257Z
LAST-MODIFIED:20231113T200257Z
UID:10027662-1749488400-1749492000@myrtlelearning.com
SUMMARY:24GE Myrtle 1
DESCRIPTION:24GE Myrtle 1 \nThese group is made of students preparing for their english exams in 2024 \nSelect the button below to join the lesson online
URL:https://myrtlelearning.com/event/24ge-myrtle-1/2025-06-09/
LOCATION:Myrtle Learning Centre\, Pattens Gardens\, Rochester\, Kent\, ME1 2QP\, United Kingdom
CATEGORIES:24GE Myrtle 1
ATTACH;FMTTYPE=image/jpeg:https://myrtlelearning.com/wp-content/uploads/2023/08/myrtle-icon-whitejpg.jpg
END:VEVENT
BEGIN:VEVENT
DTSTART;TZID=UTC:20250616T170000
DTEND;TZID=UTC:20250616T180000
DTSTAMP:20260422T043710
CREATED:20231113T200257Z
LAST-MODIFIED:20231113T200257Z
UID:10027663-1750093200-1750096800@myrtlelearning.com
SUMMARY:24GE Myrtle 1
DESCRIPTION:24GE Myrtle 1 \nThese group is made of students preparing for their english exams in 2024 \nSelect the button below to join the lesson online
URL:https://myrtlelearning.com/event/24ge-myrtle-1/2025-06-16/
LOCATION:Myrtle Learning Centre\, Pattens Gardens\, Rochester\, Kent\, ME1 2QP\, United Kingdom
CATEGORIES:24GE Myrtle 1
ATTACH;FMTTYPE=image/jpeg:https://myrtlelearning.com/wp-content/uploads/2023/08/myrtle-icon-whitejpg.jpg
END:VEVENT
BEGIN:VEVENT
DTSTART;TZID=UTC:20250623T170000
DTEND;TZID=UTC:20250623T180000
DTSTAMP:20260422T043710
CREATED:20231113T200257Z
LAST-MODIFIED:20231113T200257Z
UID:10027664-1750698000-1750701600@myrtlelearning.com
SUMMARY:24GE Myrtle 1
DESCRIPTION:24GE Myrtle 1 \nThese group is made of students preparing for their english exams in 2024 \nSelect the button below to join the lesson online
URL:https://myrtlelearning.com/event/24ge-myrtle-1/2025-06-23/
LOCATION:Myrtle Learning Centre\, Pattens Gardens\, Rochester\, Kent\, ME1 2QP\, United Kingdom
CATEGORIES:24GE Myrtle 1
ATTACH;FMTTYPE=image/jpeg:https://myrtlelearning.com/wp-content/uploads/2023/08/myrtle-icon-whitejpg.jpg
END:VEVENT
BEGIN:VEVENT
DTSTART;TZID=UTC:20250630T170000
DTEND;TZID=UTC:20250630T180000
DTSTAMP:20260422T043710
CREATED:20231113T200257Z
LAST-MODIFIED:20231113T200257Z
UID:10027665-1751302800-1751306400@myrtlelearning.com
SUMMARY:24GE Myrtle 1
DESCRIPTION:24GE Myrtle 1 \nThese group is made of students preparing for their english exams in 2024 \nSelect the button below to join the lesson online
URL:https://myrtlelearning.com/event/24ge-myrtle-1/2025-06-30/
LOCATION:Myrtle Learning Centre\, Pattens Gardens\, Rochester\, Kent\, ME1 2QP\, United Kingdom
CATEGORIES:24GE Myrtle 1
ATTACH;FMTTYPE=image/jpeg:https://myrtlelearning.com/wp-content/uploads/2023/08/myrtle-icon-whitejpg.jpg
END:VEVENT
END:VCALENDAR