BEGIN:VCALENDAR
VERSION:2.0
PRODID:-//Myrtle Learning - ECPv6.15.3//NONSGML v1.0//EN
CALSCALE:GREGORIAN
METHOD:PUBLISH
X-ORIGINAL-URL:https://myrtlelearning.com
X-WR-CALDESC:Events for Myrtle Learning
REFRESH-INTERVAL;VALUE=DURATION:PT1H
X-Robots-Tag:noindex
X-PUBLISHED-TTL:PT1H
BEGIN:VTIMEZONE
TZID:UTC
BEGIN:STANDARD
TZOFFSETFROM:+0000
TZOFFSETTO:+0000
TZNAME:UTC
DTSTART:20260101T000000
END:STANDARD
END:VTIMEZONE
BEGIN:VEVENT
DTSTART;TZID=UTC:20260601T180000
DTEND;TZID=UTC:20260601T200000
DTSTAMP:20260421T040321
CREATED:20231010T213427Z
LAST-MODIFIED:20240219T173054Z
UID:10033163-1780336800-1780344000@myrtlelearning.com
SUMMARY:24GM Myrtle 1
DESCRIPTION:24GM Myrtle 1 \nThese group is made of students preparing for their GCSE Mathematics exams in 2024 \nSelect the button below to join the lesson online
URL:https://myrtlelearning.com/event/24gm-myrtle-1-2/2026-06-01/
LOCATION:Online Session\, 25 Pattens Gardens\, Rochester\, Other\, ME1 2QP\, United Kingdom
CATEGORIES:24GM Myrtle 1
ATTACH;FMTTYPE=image/jpeg:https://myrtlelearning.com/wp-content/uploads/2023/08/myrtle-icon-whitejpg.jpg
END:VEVENT
BEGIN:VEVENT
DTSTART;TZID=UTC:20260608T180000
DTEND;TZID=UTC:20260608T200000
DTSTAMP:20260421T040321
CREATED:20231010T213427Z
LAST-MODIFIED:20240219T173054Z
UID:10033164-1780941600-1780948800@myrtlelearning.com
SUMMARY:24GM Myrtle 1
DESCRIPTION:24GM Myrtle 1 \nThese group is made of students preparing for their GCSE Mathematics exams in 2024 \nSelect the button below to join the lesson online
URL:https://myrtlelearning.com/event/24gm-myrtle-1-2/2026-06-08/
LOCATION:Online Session\, 25 Pattens Gardens\, Rochester\, Other\, ME1 2QP\, United Kingdom
CATEGORIES:24GM Myrtle 1
ATTACH;FMTTYPE=image/jpeg:https://myrtlelearning.com/wp-content/uploads/2023/08/myrtle-icon-whitejpg.jpg
END:VEVENT
BEGIN:VEVENT
DTSTART;TZID=UTC:20260615T180000
DTEND;TZID=UTC:20260615T200000
DTSTAMP:20260421T040321
CREATED:20231010T213427Z
LAST-MODIFIED:20240219T173054Z
UID:10033165-1781546400-1781553600@myrtlelearning.com
SUMMARY:24GM Myrtle 1
DESCRIPTION:24GM Myrtle 1 \nThese group is made of students preparing for their GCSE Mathematics exams in 2024 \nSelect the button below to join the lesson online
URL:https://myrtlelearning.com/event/24gm-myrtle-1-2/2026-06-15/
LOCATION:Online Session\, 25 Pattens Gardens\, Rochester\, Other\, ME1 2QP\, United Kingdom
CATEGORIES:24GM Myrtle 1
ATTACH;FMTTYPE=image/jpeg:https://myrtlelearning.com/wp-content/uploads/2023/08/myrtle-icon-whitejpg.jpg
END:VEVENT
BEGIN:VEVENT
DTSTART;TZID=UTC:20260622T180000
DTEND;TZID=UTC:20260622T200000
DTSTAMP:20260421T040321
CREATED:20231010T213427Z
LAST-MODIFIED:20240219T173054Z
UID:10033166-1782151200-1782158400@myrtlelearning.com
SUMMARY:24GM Myrtle 1
DESCRIPTION:24GM Myrtle 1 \nThese group is made of students preparing for their GCSE Mathematics exams in 2024 \nSelect the button below to join the lesson online
URL:https://myrtlelearning.com/event/24gm-myrtle-1-2/2026-06-22/
LOCATION:Online Session\, 25 Pattens Gardens\, Rochester\, Other\, ME1 2QP\, United Kingdom
CATEGORIES:24GM Myrtle 1
ATTACH;FMTTYPE=image/jpeg:https://myrtlelearning.com/wp-content/uploads/2023/08/myrtle-icon-whitejpg.jpg
END:VEVENT
BEGIN:VEVENT
DTSTART;TZID=UTC:20260629T180000
DTEND;TZID=UTC:20260629T200000
DTSTAMP:20260421T040321
CREATED:20231010T213427Z
LAST-MODIFIED:20240219T173054Z
UID:10033167-1782756000-1782763200@myrtlelearning.com
SUMMARY:24GM Myrtle 1
DESCRIPTION:24GM Myrtle 1 \nThese group is made of students preparing for their GCSE Mathematics exams in 2024 \nSelect the button below to join the lesson online
URL:https://myrtlelearning.com/event/24gm-myrtle-1-2/2026-06-29/
LOCATION:Online Session\, 25 Pattens Gardens\, Rochester\, Other\, ME1 2QP\, United Kingdom
CATEGORIES:24GM Myrtle 1
ATTACH;FMTTYPE=image/jpeg:https://myrtlelearning.com/wp-content/uploads/2023/08/myrtle-icon-whitejpg.jpg
END:VEVENT
END:VCALENDAR