BEGIN:VCALENDAR
VERSION:2.0
PRODID:-//Myrtle Learning - ECPv6.15.3//NONSGML v1.0//EN
CALSCALE:GREGORIAN
METHOD:PUBLISH
X-WR-CALNAME:Myrtle Learning
X-ORIGINAL-URL:https://myrtlelearning.com
X-WR-CALDESC:Events for Myrtle Learning
REFRESH-INTERVAL;VALUE=DURATION:PT1H
X-Robots-Tag:noindex
X-PUBLISHED-TTL:PT1H
BEGIN:VTIMEZONE
TZID:UTC
BEGIN:STANDARD
TZOFFSETFROM:+0000
TZOFFSETTO:+0000
TZNAME:UTC
DTSTART:20260101T000000
END:STANDARD
END:VTIMEZONE
BEGIN:VEVENT
DTSTART;TZID=UTC:20261005T180000
DTEND;TZID=UTC:20261005T200000
DTSTAMP:20260422T033846
CREATED:20231010T213427Z
LAST-MODIFIED:20240219T173054Z
UID:10033181-1791223200-1791230400@myrtlelearning.com
SUMMARY:24GM Myrtle 1
DESCRIPTION:24GM Myrtle 1 \nThese group is made of students preparing for their GCSE Mathematics exams in 2024 \nSelect the button below to join the lesson online
URL:https://myrtlelearning.com/event/24gm-myrtle-1-2/2026-10-05/
LOCATION:Online Session\, 25 Pattens Gardens\, Rochester\, Other\, ME1 2QP\, United Kingdom
CATEGORIES:24GM Myrtle 1
ATTACH;FMTTYPE=image/jpeg:https://myrtlelearning.com/wp-content/uploads/2023/08/myrtle-icon-whitejpg.jpg
END:VEVENT
BEGIN:VEVENT
DTSTART;TZID=UTC:20261012T180000
DTEND;TZID=UTC:20261012T200000
DTSTAMP:20260422T033846
CREATED:20231010T213427Z
LAST-MODIFIED:20240219T173054Z
UID:10033182-1791828000-1791835200@myrtlelearning.com
SUMMARY:24GM Myrtle 1
DESCRIPTION:24GM Myrtle 1 \nThese group is made of students preparing for their GCSE Mathematics exams in 2024 \nSelect the button below to join the lesson online
URL:https://myrtlelearning.com/event/24gm-myrtle-1-2/2026-10-12/
LOCATION:Online Session\, 25 Pattens Gardens\, Rochester\, Other\, ME1 2QP\, United Kingdom
CATEGORIES:24GM Myrtle 1
ATTACH;FMTTYPE=image/jpeg:https://myrtlelearning.com/wp-content/uploads/2023/08/myrtle-icon-whitejpg.jpg
END:VEVENT
BEGIN:VEVENT
DTSTART;TZID=UTC:20261019T180000
DTEND;TZID=UTC:20261019T200000
DTSTAMP:20260422T033846
CREATED:20231010T213427Z
LAST-MODIFIED:20240219T173054Z
UID:10033183-1792432800-1792440000@myrtlelearning.com
SUMMARY:24GM Myrtle 1
DESCRIPTION:24GM Myrtle 1 \nThese group is made of students preparing for their GCSE Mathematics exams in 2024 \nSelect the button below to join the lesson online
URL:https://myrtlelearning.com/event/24gm-myrtle-1-2/2026-10-19/
LOCATION:Online Session\, 25 Pattens Gardens\, Rochester\, Other\, ME1 2QP\, United Kingdom
CATEGORIES:24GM Myrtle 1
ATTACH;FMTTYPE=image/jpeg:https://myrtlelearning.com/wp-content/uploads/2023/08/myrtle-icon-whitejpg.jpg
END:VEVENT
BEGIN:VEVENT
DTSTART;TZID=UTC:20261026T180000
DTEND;TZID=UTC:20261026T200000
DTSTAMP:20260422T033846
CREATED:20231010T213427Z
LAST-MODIFIED:20240219T173054Z
UID:10033184-1793037600-1793044800@myrtlelearning.com
SUMMARY:24GM Myrtle 1
DESCRIPTION:24GM Myrtle 1 \nThese group is made of students preparing for their GCSE Mathematics exams in 2024 \nSelect the button below to join the lesson online
URL:https://myrtlelearning.com/event/24gm-myrtle-1-2/2026-10-26/
LOCATION:Online Session\, 25 Pattens Gardens\, Rochester\, Other\, ME1 2QP\, United Kingdom
CATEGORIES:24GM Myrtle 1
ATTACH;FMTTYPE=image/jpeg:https://myrtlelearning.com/wp-content/uploads/2023/08/myrtle-icon-whitejpg.jpg
END:VEVENT
END:VCALENDAR