BEGIN:VCALENDAR
VERSION:2.0
PRODID:-//Myrtle Learning - ECPv6.15.3//NONSGML v1.0//EN
CALSCALE:GREGORIAN
METHOD:PUBLISH
X-ORIGINAL-URL:https://myrtlelearning.com
X-WR-CALDESC:Events for Myrtle Learning
REFRESH-INTERVAL;VALUE=DURATION:PT1H
X-Robots-Tag:noindex
X-PUBLISHED-TTL:PT1H
BEGIN:VTIMEZONE
TZID:UTC
BEGIN:STANDARD
TZOFFSETFROM:+0000
TZOFFSETTO:+0000
TZNAME:UTC
DTSTART:20270101T000000
END:STANDARD
END:VTIMEZONE
BEGIN:VEVENT
DTSTART;TZID=UTC:20270503T180000
DTEND;TZID=UTC:20270503T200000
DTSTAMP:20260422T104911
CREATED:20231010T213427Z
LAST-MODIFIED:20240219T173054Z
UID:10033211-1809367200-1809374400@myrtlelearning.com
SUMMARY:24GM Myrtle 1
DESCRIPTION:24GM Myrtle 1 \nThese group is made of students preparing for their GCSE Mathematics exams in 2024 \nSelect the button below to join the lesson online
URL:https://myrtlelearning.com/event/24gm-myrtle-1-2/2027-05-03/
LOCATION:Online Session\, 25 Pattens Gardens\, Rochester\, Other\, ME1 2QP\, United Kingdom
CATEGORIES:24GM Myrtle 1
ATTACH;FMTTYPE=image/jpeg:https://myrtlelearning.com/wp-content/uploads/2023/08/myrtle-icon-whitejpg.jpg
END:VEVENT
BEGIN:VEVENT
DTSTART;TZID=UTC:20270510T180000
DTEND;TZID=UTC:20270510T200000
DTSTAMP:20260422T104911
CREATED:20231010T213427Z
LAST-MODIFIED:20240219T173054Z
UID:10033212-1809972000-1809979200@myrtlelearning.com
SUMMARY:24GM Myrtle 1
DESCRIPTION:24GM Myrtle 1 \nThese group is made of students preparing for their GCSE Mathematics exams in 2024 \nSelect the button below to join the lesson online
URL:https://myrtlelearning.com/event/24gm-myrtle-1-2/2027-05-10/
LOCATION:Online Session\, 25 Pattens Gardens\, Rochester\, Other\, ME1 2QP\, United Kingdom
CATEGORIES:24GM Myrtle 1
ATTACH;FMTTYPE=image/jpeg:https://myrtlelearning.com/wp-content/uploads/2023/08/myrtle-icon-whitejpg.jpg
END:VEVENT
BEGIN:VEVENT
DTSTART;TZID=UTC:20270517T180000
DTEND;TZID=UTC:20270517T200000
DTSTAMP:20260422T104911
CREATED:20231010T213427Z
LAST-MODIFIED:20240219T173054Z
UID:10033213-1810576800-1810584000@myrtlelearning.com
SUMMARY:24GM Myrtle 1
DESCRIPTION:24GM Myrtle 1 \nThese group is made of students preparing for their GCSE Mathematics exams in 2024 \nSelect the button below to join the lesson online
URL:https://myrtlelearning.com/event/24gm-myrtle-1-2/2027-05-17/
LOCATION:Online Session\, 25 Pattens Gardens\, Rochester\, Other\, ME1 2QP\, United Kingdom
CATEGORIES:24GM Myrtle 1
ATTACH;FMTTYPE=image/jpeg:https://myrtlelearning.com/wp-content/uploads/2023/08/myrtle-icon-whitejpg.jpg
END:VEVENT
BEGIN:VEVENT
DTSTART;TZID=UTC:20270524T180000
DTEND;TZID=UTC:20270524T200000
DTSTAMP:20260422T104911
CREATED:20231010T213427Z
LAST-MODIFIED:20240219T173054Z
UID:10033214-1811181600-1811188800@myrtlelearning.com
SUMMARY:24GM Myrtle 1
DESCRIPTION:24GM Myrtle 1 \nThese group is made of students preparing for their GCSE Mathematics exams in 2024 \nSelect the button below to join the lesson online
URL:https://myrtlelearning.com/event/24gm-myrtle-1-2/2027-05-24/
LOCATION:Online Session\, 25 Pattens Gardens\, Rochester\, Other\, ME1 2QP\, United Kingdom
CATEGORIES:24GM Myrtle 1
ATTACH;FMTTYPE=image/jpeg:https://myrtlelearning.com/wp-content/uploads/2023/08/myrtle-icon-whitejpg.jpg
END:VEVENT
BEGIN:VEVENT
DTSTART;TZID=UTC:20270531T180000
DTEND;TZID=UTC:20270531T200000
DTSTAMP:20260422T104911
CREATED:20231010T213427Z
LAST-MODIFIED:20240219T173054Z
UID:10033215-1811786400-1811793600@myrtlelearning.com
SUMMARY:24GM Myrtle 1
DESCRIPTION:24GM Myrtle 1 \nThese group is made of students preparing for their GCSE Mathematics exams in 2024 \nSelect the button below to join the lesson online
URL:https://myrtlelearning.com/event/24gm-myrtle-1-2/2027-05-31/
LOCATION:Online Session\, 25 Pattens Gardens\, Rochester\, Other\, ME1 2QP\, United Kingdom
CATEGORIES:24GM Myrtle 1
ATTACH;FMTTYPE=image/jpeg:https://myrtlelearning.com/wp-content/uploads/2023/08/myrtle-icon-whitejpg.jpg
END:VEVENT
END:VCALENDAR