BEGIN:VCALENDAR
VERSION:2.0
PRODID:-//Myrtle Learning - ECPv6.15.3//NONSGML v1.0//EN
CALSCALE:GREGORIAN
METHOD:PUBLISH
X-ORIGINAL-URL:https://myrtlelearning.com
X-WR-CALDESC:Events for Myrtle Learning
REFRESH-INTERVAL;VALUE=DURATION:PT1H
X-Robots-Tag:noindex
X-PUBLISHED-TTL:PT1H
BEGIN:VTIMEZONE
TZID:UTC
BEGIN:STANDARD
TZOFFSETFROM:+0000
TZOFFSETTO:+0000
TZNAME:UTC
DTSTART:20280101T000000
END:STANDARD
END:VTIMEZONE
BEGIN:VEVENT
DTSTART;TZID=UTC:20280103T180000
DTEND;TZID=UTC:20280103T200000
DTSTAMP:20260423T101248
CREATED:20231010T213427Z
LAST-MODIFIED:20240219T173054Z
UID:10033246-1830535200-1830542400@myrtlelearning.com
SUMMARY:24GM Myrtle 1
DESCRIPTION:24GM Myrtle 1 \nThese group is made of students preparing for their GCSE Mathematics exams in 2024 \nSelect the button below to join the lesson online
URL:https://myrtlelearning.com/event/24gm-myrtle-1-2/2028-01-03/
LOCATION:Online Session\, 25 Pattens Gardens\, Rochester\, Other\, ME1 2QP\, United Kingdom
CATEGORIES:24GM Myrtle 1
ATTACH;FMTTYPE=image/jpeg:https://myrtlelearning.com/wp-content/uploads/2023/08/myrtle-icon-whitejpg.jpg
END:VEVENT
BEGIN:VEVENT
DTSTART;TZID=UTC:20280110T180000
DTEND;TZID=UTC:20280110T200000
DTSTAMP:20260423T101248
CREATED:20231010T213427Z
LAST-MODIFIED:20240219T173054Z
UID:10033247-1831140000-1831147200@myrtlelearning.com
SUMMARY:24GM Myrtle 1
DESCRIPTION:24GM Myrtle 1 \nThese group is made of students preparing for their GCSE Mathematics exams in 2024 \nSelect the button below to join the lesson online
URL:https://myrtlelearning.com/event/24gm-myrtle-1-2/2028-01-10/
LOCATION:Online Session\, 25 Pattens Gardens\, Rochester\, Other\, ME1 2QP\, United Kingdom
CATEGORIES:24GM Myrtle 1
ATTACH;FMTTYPE=image/jpeg:https://myrtlelearning.com/wp-content/uploads/2023/08/myrtle-icon-whitejpg.jpg
END:VEVENT
BEGIN:VEVENT
DTSTART;TZID=UTC:20280117T180000
DTEND;TZID=UTC:20280117T200000
DTSTAMP:20260423T101248
CREATED:20231010T213427Z
LAST-MODIFIED:20240219T173054Z
UID:10033248-1831744800-1831752000@myrtlelearning.com
SUMMARY:24GM Myrtle 1
DESCRIPTION:24GM Myrtle 1 \nThese group is made of students preparing for their GCSE Mathematics exams in 2024 \nSelect the button below to join the lesson online
URL:https://myrtlelearning.com/event/24gm-myrtle-1-2/2028-01-17/
LOCATION:Online Session\, 25 Pattens Gardens\, Rochester\, Other\, ME1 2QP\, United Kingdom
CATEGORIES:24GM Myrtle 1
ATTACH;FMTTYPE=image/jpeg:https://myrtlelearning.com/wp-content/uploads/2023/08/myrtle-icon-whitejpg.jpg
END:VEVENT
BEGIN:VEVENT
DTSTART;TZID=UTC:20280124T180000
DTEND;TZID=UTC:20280124T200000
DTSTAMP:20260423T101248
CREATED:20231010T213427Z
LAST-MODIFIED:20240219T173054Z
UID:10033249-1832349600-1832356800@myrtlelearning.com
SUMMARY:24GM Myrtle 1
DESCRIPTION:24GM Myrtle 1 \nThese group is made of students preparing for their GCSE Mathematics exams in 2024 \nSelect the button below to join the lesson online
URL:https://myrtlelearning.com/event/24gm-myrtle-1-2/2028-01-24/
LOCATION:Online Session\, 25 Pattens Gardens\, Rochester\, Other\, ME1 2QP\, United Kingdom
CATEGORIES:24GM Myrtle 1
ATTACH;FMTTYPE=image/jpeg:https://myrtlelearning.com/wp-content/uploads/2023/08/myrtle-icon-whitejpg.jpg
END:VEVENT
BEGIN:VEVENT
DTSTART;TZID=UTC:20280131T180000
DTEND;TZID=UTC:20280131T200000
DTSTAMP:20260423T101248
CREATED:20231010T213427Z
LAST-MODIFIED:20240219T173054Z
UID:10033250-1832954400-1832961600@myrtlelearning.com
SUMMARY:24GM Myrtle 1
DESCRIPTION:24GM Myrtle 1 \nThese group is made of students preparing for their GCSE Mathematics exams in 2024 \nSelect the button below to join the lesson online
URL:https://myrtlelearning.com/event/24gm-myrtle-1-2/2028-01-31/
LOCATION:Online Session\, 25 Pattens Gardens\, Rochester\, Other\, ME1 2QP\, United Kingdom
CATEGORIES:24GM Myrtle 1
ATTACH;FMTTYPE=image/jpeg:https://myrtlelearning.com/wp-content/uploads/2023/08/myrtle-icon-whitejpg.jpg
END:VEVENT
END:VCALENDAR