BEGIN:VCALENDAR
VERSION:2.0
PRODID:-//Myrtle Learning - ECPv6.15.3//NONSGML v1.0//EN
CALSCALE:GREGORIAN
METHOD:PUBLISH
X-WR-CALNAME:Myrtle Learning
X-ORIGINAL-URL:https://myrtlelearning.com
X-WR-CALDESC:Events for Myrtle Learning
REFRESH-INTERVAL;VALUE=DURATION:PT1H
X-Robots-Tag:noindex
X-PUBLISHED-TTL:PT1H
BEGIN:VTIMEZONE
TZID:UTC
BEGIN:STANDARD
TZOFFSETFROM:+0000
TZOFFSETTO:+0000
TZNAME:UTC
DTSTART:20260101T000000
END:STANDARD
END:VTIMEZONE
BEGIN:VEVENT
DTSTART;TZID=UTC:20260101T180000
DTEND;TZID=UTC:20260101T200000
DTSTAMP:20260421T115447
CREATED:20231109T222611Z
LAST-MODIFIED:20231109T222611Z
UID:10026103-1767290400-1767297600@myrtlelearning.com
SUMMARY:24GS Myrtle 1
DESCRIPTION:24GS Myrtle 1 \nThese group is made of students preparing for their GCSE Sciences exams in 2024 \nSelect the button below to join the lesson online
URL:https://myrtlelearning.com/event/24gs-myrtle-1/2026-01-01/
LOCATION:Online Session\, 25 Pattens Gardens\, Rochester\, Other\, ME1 2QP\, United Kingdom
CATEGORIES:24GS Myrtle 1
ATTACH;FMTTYPE=image/jpeg:https://myrtlelearning.com/wp-content/uploads/2023/08/myrtle-icon-whitejpg.jpg
END:VEVENT
BEGIN:VEVENT
DTSTART;TZID=UTC:20260108T180000
DTEND;TZID=UTC:20260108T200000
DTSTAMP:20260421T115447
CREATED:20231109T222611Z
LAST-MODIFIED:20231109T222611Z
UID:10026104-1767895200-1767902400@myrtlelearning.com
SUMMARY:24GS Myrtle 1
DESCRIPTION:24GS Myrtle 1 \nThese group is made of students preparing for their GCSE Sciences exams in 2024 \nSelect the button below to join the lesson online
URL:https://myrtlelearning.com/event/24gs-myrtle-1/2026-01-08/
LOCATION:Online Session\, 25 Pattens Gardens\, Rochester\, Other\, ME1 2QP\, United Kingdom
CATEGORIES:24GS Myrtle 1
ATTACH;FMTTYPE=image/jpeg:https://myrtlelearning.com/wp-content/uploads/2023/08/myrtle-icon-whitejpg.jpg
END:VEVENT
BEGIN:VEVENT
DTSTART;TZID=UTC:20260115T180000
DTEND;TZID=UTC:20260115T200000
DTSTAMP:20260421T115447
CREATED:20231109T222611Z
LAST-MODIFIED:20231109T222611Z
UID:10026105-1768500000-1768507200@myrtlelearning.com
SUMMARY:24GS Myrtle 1
DESCRIPTION:24GS Myrtle 1 \nThese group is made of students preparing for their GCSE Sciences exams in 2024 \nSelect the button below to join the lesson online
URL:https://myrtlelearning.com/event/24gs-myrtle-1/2026-01-15/
LOCATION:Online Session\, 25 Pattens Gardens\, Rochester\, Other\, ME1 2QP\, United Kingdom
CATEGORIES:24GS Myrtle 1
ATTACH;FMTTYPE=image/jpeg:https://myrtlelearning.com/wp-content/uploads/2023/08/myrtle-icon-whitejpg.jpg
END:VEVENT
BEGIN:VEVENT
DTSTART;TZID=UTC:20260122T180000
DTEND;TZID=UTC:20260122T200000
DTSTAMP:20260421T115447
CREATED:20231109T222611Z
LAST-MODIFIED:20231109T222611Z
UID:10026106-1769104800-1769112000@myrtlelearning.com
SUMMARY:24GS Myrtle 1
DESCRIPTION:24GS Myrtle 1 \nThese group is made of students preparing for their GCSE Sciences exams in 2024 \nSelect the button below to join the lesson online
URL:https://myrtlelearning.com/event/24gs-myrtle-1/2026-01-22/
LOCATION:Online Session\, 25 Pattens Gardens\, Rochester\, Other\, ME1 2QP\, United Kingdom
CATEGORIES:24GS Myrtle 1
ATTACH;FMTTYPE=image/jpeg:https://myrtlelearning.com/wp-content/uploads/2023/08/myrtle-icon-whitejpg.jpg
END:VEVENT
BEGIN:VEVENT
DTSTART;TZID=UTC:20260129T180000
DTEND;TZID=UTC:20260129T200000
DTSTAMP:20260421T115447
CREATED:20231109T222611Z
LAST-MODIFIED:20231109T222611Z
UID:10026107-1769709600-1769716800@myrtlelearning.com
SUMMARY:24GS Myrtle 1
DESCRIPTION:24GS Myrtle 1 \nThese group is made of students preparing for their GCSE Sciences exams in 2024 \nSelect the button below to join the lesson online
URL:https://myrtlelearning.com/event/24gs-myrtle-1/2026-01-29/
LOCATION:Online Session\, 25 Pattens Gardens\, Rochester\, Other\, ME1 2QP\, United Kingdom
CATEGORIES:24GS Myrtle 1
ATTACH;FMTTYPE=image/jpeg:https://myrtlelearning.com/wp-content/uploads/2023/08/myrtle-icon-whitejpg.jpg
END:VEVENT
END:VCALENDAR