BEGIN:VCALENDAR
VERSION:2.0
PRODID:-//Myrtle Learning - ECPv6.15.3//NONSGML v1.0//EN
CALSCALE:GREGORIAN
METHOD:PUBLISH
X-ORIGINAL-URL:https://myrtlelearning.com
X-WR-CALDESC:Events for Myrtle Learning
REFRESH-INTERVAL;VALUE=DURATION:PT1H
X-Robots-Tag:noindex
X-PUBLISHED-TTL:PT1H
BEGIN:VTIMEZONE
TZID:UTC
BEGIN:STANDARD
TZOFFSETFROM:+0000
TZOFFSETTO:+0000
TZNAME:UTC
DTSTART:20260101T000000
END:STANDARD
END:VTIMEZONE
BEGIN:VEVENT
DTSTART;TZID=UTC:20260305T180000
DTEND;TZID=UTC:20260305T200000
DTSTAMP:20260421T023846
CREATED:20231109T222611Z
LAST-MODIFIED:20231109T222611Z
UID:10026112-1772733600-1772740800@myrtlelearning.com
SUMMARY:24GS Myrtle 1
DESCRIPTION:24GS Myrtle 1 \nThese group is made of students preparing for their GCSE Sciences exams in 2024 \nSelect the button below to join the lesson online
URL:https://myrtlelearning.com/event/24gs-myrtle-1/2026-03-05/
LOCATION:Online Session\, 25 Pattens Gardens\, Rochester\, Other\, ME1 2QP\, United Kingdom
CATEGORIES:24GS Myrtle 1
ATTACH;FMTTYPE=image/jpeg:https://myrtlelearning.com/wp-content/uploads/2023/08/myrtle-icon-whitejpg.jpg
END:VEVENT
BEGIN:VEVENT
DTSTART;TZID=UTC:20260312T180000
DTEND;TZID=UTC:20260312T200000
DTSTAMP:20260421T023846
CREATED:20231109T222611Z
LAST-MODIFIED:20231109T222611Z
UID:10026113-1773338400-1773345600@myrtlelearning.com
SUMMARY:24GS Myrtle 1
DESCRIPTION:24GS Myrtle 1 \nThese group is made of students preparing for their GCSE Sciences exams in 2024 \nSelect the button below to join the lesson online
URL:https://myrtlelearning.com/event/24gs-myrtle-1/2026-03-12/
LOCATION:Online Session\, 25 Pattens Gardens\, Rochester\, Other\, ME1 2QP\, United Kingdom
CATEGORIES:24GS Myrtle 1
ATTACH;FMTTYPE=image/jpeg:https://myrtlelearning.com/wp-content/uploads/2023/08/myrtle-icon-whitejpg.jpg
END:VEVENT
BEGIN:VEVENT
DTSTART;TZID=UTC:20260319T180000
DTEND;TZID=UTC:20260319T200000
DTSTAMP:20260421T023846
CREATED:20231109T222611Z
LAST-MODIFIED:20231109T222611Z
UID:10026114-1773943200-1773950400@myrtlelearning.com
SUMMARY:24GS Myrtle 1
DESCRIPTION:24GS Myrtle 1 \nThese group is made of students preparing for their GCSE Sciences exams in 2024 \nSelect the button below to join the lesson online
URL:https://myrtlelearning.com/event/24gs-myrtle-1/2026-03-19/
LOCATION:Online Session\, 25 Pattens Gardens\, Rochester\, Other\, ME1 2QP\, United Kingdom
CATEGORIES:24GS Myrtle 1
ATTACH;FMTTYPE=image/jpeg:https://myrtlelearning.com/wp-content/uploads/2023/08/myrtle-icon-whitejpg.jpg
END:VEVENT
BEGIN:VEVENT
DTSTART;TZID=UTC:20260326T180000
DTEND;TZID=UTC:20260326T200000
DTSTAMP:20260421T023846
CREATED:20231109T222611Z
LAST-MODIFIED:20231109T222611Z
UID:10026115-1774548000-1774555200@myrtlelearning.com
SUMMARY:24GS Myrtle 1
DESCRIPTION:24GS Myrtle 1 \nThese group is made of students preparing for their GCSE Sciences exams in 2024 \nSelect the button below to join the lesson online
URL:https://myrtlelearning.com/event/24gs-myrtle-1/2026-03-26/
LOCATION:Online Session\, 25 Pattens Gardens\, Rochester\, Other\, ME1 2QP\, United Kingdom
CATEGORIES:24GS Myrtle 1
ATTACH;FMTTYPE=image/jpeg:https://myrtlelearning.com/wp-content/uploads/2023/08/myrtle-icon-whitejpg.jpg
END:VEVENT
END:VCALENDAR