BEGIN:VCALENDAR
VERSION:2.0
PRODID:-//Myrtle Learning - ECPv6.15.3//NONSGML v1.0//EN
CALSCALE:GREGORIAN
METHOD:PUBLISH
X-ORIGINAL-URL:https://myrtlelearning.com
X-WR-CALDESC:Events for Myrtle Learning
REFRESH-INTERVAL;VALUE=DURATION:PT1H
X-Robots-Tag:noindex
X-PUBLISHED-TTL:PT1H
BEGIN:VTIMEZONE
TZID:UTC
BEGIN:STANDARD
TZOFFSETFROM:+0000
TZOFFSETTO:+0000
TZNAME:UTC
DTSTART:20280101T000000
END:STANDARD
END:VTIMEZONE
BEGIN:VEVENT
DTSTART;TZID=UTC:20280304T140000
DTEND;TZID=UTC:20280304T170000
DTSTAMP:20260423T033122
CREATED:20241207T134343Z
LAST-MODIFIED:20250131T112619Z
UID:10057253-1835791200-1835802000@myrtlelearning.com
SUMMARY:25Exam Skills Myrtle 1
DESCRIPTION:This lesson covers GCSE higher tier maths: Mathematics \nSelect the button below to join the lesson online
URL:https://myrtlelearning.com/event/25exam-skills-myrtle-1/2028-03-04/
LOCATION:Myrtle Learning Centre\, Pattens Gardens\, Rochester\, Kent\, ME1 2QP\, United Kingdom
CATEGORIES:25Exam Skills Myrtle 1
ATTACH;FMTTYPE=image/jpeg:https://myrtlelearning.com/wp-content/uploads/2023/08/myrtle-icon-whitejpg.jpg
END:VEVENT
BEGIN:VEVENT
DTSTART;TZID=UTC:20280311T140000
DTEND;TZID=UTC:20280311T170000
DTSTAMP:20260423T033122
CREATED:20241207T134343Z
LAST-MODIFIED:20250131T112619Z
UID:10057254-1836396000-1836406800@myrtlelearning.com
SUMMARY:25Exam Skills Myrtle 1
DESCRIPTION:This lesson covers GCSE higher tier maths: Mathematics \nSelect the button below to join the lesson online
URL:https://myrtlelearning.com/event/25exam-skills-myrtle-1/2028-03-11/
LOCATION:Myrtle Learning Centre\, Pattens Gardens\, Rochester\, Kent\, ME1 2QP\, United Kingdom
CATEGORIES:25Exam Skills Myrtle 1
ATTACH;FMTTYPE=image/jpeg:https://myrtlelearning.com/wp-content/uploads/2023/08/myrtle-icon-whitejpg.jpg
END:VEVENT
BEGIN:VEVENT
DTSTART;TZID=UTC:20280318T140000
DTEND;TZID=UTC:20280318T170000
DTSTAMP:20260423T033122
CREATED:20241207T134343Z
LAST-MODIFIED:20250131T112619Z
UID:10057255-1837000800-1837011600@myrtlelearning.com
SUMMARY:25Exam Skills Myrtle 1
DESCRIPTION:This lesson covers GCSE higher tier maths: Mathematics \nSelect the button below to join the lesson online
URL:https://myrtlelearning.com/event/25exam-skills-myrtle-1/2028-03-18/
LOCATION:Myrtle Learning Centre\, Pattens Gardens\, Rochester\, Kent\, ME1 2QP\, United Kingdom
CATEGORIES:25Exam Skills Myrtle 1
ATTACH;FMTTYPE=image/jpeg:https://myrtlelearning.com/wp-content/uploads/2023/08/myrtle-icon-whitejpg.jpg
END:VEVENT
BEGIN:VEVENT
DTSTART;TZID=UTC:20280325T140000
DTEND;TZID=UTC:20280325T170000
DTSTAMP:20260423T033122
CREATED:20241207T134343Z
LAST-MODIFIED:20250131T112619Z
UID:10057256-1837605600-1837616400@myrtlelearning.com
SUMMARY:25Exam Skills Myrtle 1
DESCRIPTION:This lesson covers GCSE higher tier maths: Mathematics \nSelect the button below to join the lesson online
URL:https://myrtlelearning.com/event/25exam-skills-myrtle-1/2028-03-25/
LOCATION:Myrtle Learning Centre\, Pattens Gardens\, Rochester\, Kent\, ME1 2QP\, United Kingdom
CATEGORIES:25Exam Skills Myrtle 1
ATTACH;FMTTYPE=image/jpeg:https://myrtlelearning.com/wp-content/uploads/2023/08/myrtle-icon-whitejpg.jpg
END:VEVENT
END:VCALENDAR