BEGIN:VCALENDAR
VERSION:2.0
PRODID:-//Myrtle Learning - ECPv6.15.3//NONSGML v1.0//EN
CALSCALE:GREGORIAN
METHOD:PUBLISH
X-ORIGINAL-URL:https://myrtlelearning.com
X-WR-CALDESC:Events for Myrtle Learning
REFRESH-INTERVAL;VALUE=DURATION:PT1H
X-Robots-Tag:noindex
X-PUBLISHED-TTL:PT1H
BEGIN:VTIMEZONE
TZID:UTC
BEGIN:STANDARD
TZOFFSETFROM:+0000
TZOFFSETTO:+0000
TZNAME:UTC
DTSTART:20280101T000000
END:STANDARD
END:VTIMEZONE
BEGIN:VEVENT
DTSTART;TZID=UTC:20280401T140000
DTEND;TZID=UTC:20280401T170000
DTSTAMP:20260423T044330
CREATED:20241207T134343Z
LAST-MODIFIED:20250131T112619Z
UID:10057257-1838210400-1838221200@myrtlelearning.com
SUMMARY:25Exam Skills Myrtle 1
DESCRIPTION:This lesson covers GCSE higher tier maths: Mathematics \nSelect the button below to join the lesson online
URL:https://myrtlelearning.com/event/25exam-skills-myrtle-1/2028-04-01/
LOCATION:Myrtle Learning Centre\, Pattens Gardens\, Rochester\, Kent\, ME1 2QP\, United Kingdom
CATEGORIES:25Exam Skills Myrtle 1
ATTACH;FMTTYPE=image/jpeg:https://myrtlelearning.com/wp-content/uploads/2023/08/myrtle-icon-whitejpg.jpg
END:VEVENT
BEGIN:VEVENT
DTSTART;TZID=UTC:20280408T140000
DTEND;TZID=UTC:20280408T170000
DTSTAMP:20260423T044330
CREATED:20241207T134343Z
LAST-MODIFIED:20250131T112619Z
UID:10057258-1838815200-1838826000@myrtlelearning.com
SUMMARY:25Exam Skills Myrtle 1
DESCRIPTION:This lesson covers GCSE higher tier maths: Mathematics \nSelect the button below to join the lesson online
URL:https://myrtlelearning.com/event/25exam-skills-myrtle-1/2028-04-08/
LOCATION:Myrtle Learning Centre\, Pattens Gardens\, Rochester\, Kent\, ME1 2QP\, United Kingdom
CATEGORIES:25Exam Skills Myrtle 1
ATTACH;FMTTYPE=image/jpeg:https://myrtlelearning.com/wp-content/uploads/2023/08/myrtle-icon-whitejpg.jpg
END:VEVENT
BEGIN:VEVENT
DTSTART;TZID=UTC:20280415T140000
DTEND;TZID=UTC:20280415T170000
DTSTAMP:20260423T044330
CREATED:20241207T134343Z
LAST-MODIFIED:20250131T112619Z
UID:10057259-1839420000-1839430800@myrtlelearning.com
SUMMARY:25Exam Skills Myrtle 1
DESCRIPTION:This lesson covers GCSE higher tier maths: Mathematics \nSelect the button below to join the lesson online
URL:https://myrtlelearning.com/event/25exam-skills-myrtle-1/2028-04-15/
LOCATION:Myrtle Learning Centre\, Pattens Gardens\, Rochester\, Kent\, ME1 2QP\, United Kingdom
CATEGORIES:25Exam Skills Myrtle 1
ATTACH;FMTTYPE=image/jpeg:https://myrtlelearning.com/wp-content/uploads/2023/08/myrtle-icon-whitejpg.jpg
END:VEVENT
BEGIN:VEVENT
DTSTART;TZID=UTC:20280422T140000
DTEND;TZID=UTC:20280422T170000
DTSTAMP:20260423T044330
CREATED:20241207T134343Z
LAST-MODIFIED:20250131T112619Z
UID:10057260-1840024800-1840035600@myrtlelearning.com
SUMMARY:25Exam Skills Myrtle 1
DESCRIPTION:This lesson covers GCSE higher tier maths: Mathematics \nSelect the button below to join the lesson online
URL:https://myrtlelearning.com/event/25exam-skills-myrtle-1/2028-04-22/
LOCATION:Myrtle Learning Centre\, Pattens Gardens\, Rochester\, Kent\, ME1 2QP\, United Kingdom
CATEGORIES:25Exam Skills Myrtle 1
ATTACH;FMTTYPE=image/jpeg:https://myrtlelearning.com/wp-content/uploads/2023/08/myrtle-icon-whitejpg.jpg
END:VEVENT
BEGIN:VEVENT
DTSTART;TZID=UTC:20280429T140000
DTEND;TZID=UTC:20280429T170000
DTSTAMP:20260423T044330
CREATED:20241207T134343Z
LAST-MODIFIED:20250131T112619Z
UID:10057261-1840629600-1840640400@myrtlelearning.com
SUMMARY:25Exam Skills Myrtle 1
DESCRIPTION:This lesson covers GCSE higher tier maths: Mathematics \nSelect the button below to join the lesson online
URL:https://myrtlelearning.com/event/25exam-skills-myrtle-1/2028-04-29/
LOCATION:Myrtle Learning Centre\, Pattens Gardens\, Rochester\, Kent\, ME1 2QP\, United Kingdom
CATEGORIES:25Exam Skills Myrtle 1
ATTACH;FMTTYPE=image/jpeg:https://myrtlelearning.com/wp-content/uploads/2023/08/myrtle-icon-whitejpg.jpg
END:VEVENT
END:VCALENDAR