BEGIN:VCALENDAR
VERSION:2.0
PRODID:-//Myrtle Learning - ECPv6.15.3//NONSGML v1.0//EN
CALSCALE:GREGORIAN
METHOD:PUBLISH
X-WR-CALNAME:Myrtle Learning
X-ORIGINAL-URL:https://myrtlelearning.com
X-WR-CALDESC:Events for Myrtle Learning
REFRESH-INTERVAL;VALUE=DURATION:PT1H
X-Robots-Tag:noindex
X-PUBLISHED-TTL:PT1H
BEGIN:VTIMEZONE
TZID:UTC
BEGIN:STANDARD
TZOFFSETFROM:+0000
TZOFFSETTO:+0000
TZNAME:UTC
DTSTART:20280101T000000
END:STANDARD
END:VTIMEZONE
BEGIN:VEVENT
DTSTART;TZID=UTC:20280506T140000
DTEND;TZID=UTC:20280506T170000
DTSTAMP:20260423T054612
CREATED:20241207T134343Z
LAST-MODIFIED:20250131T112619Z
UID:10057262-1841234400-1841245200@myrtlelearning.com
SUMMARY:25Exam Skills Myrtle 1
DESCRIPTION:This lesson covers GCSE higher tier maths: Mathematics \nSelect the button below to join the lesson online
URL:https://myrtlelearning.com/event/25exam-skills-myrtle-1/2028-05-06/
LOCATION:Myrtle Learning Centre\, Pattens Gardens\, Rochester\, Kent\, ME1 2QP\, United Kingdom
CATEGORIES:25Exam Skills Myrtle 1
ATTACH;FMTTYPE=image/jpeg:https://myrtlelearning.com/wp-content/uploads/2023/08/myrtle-icon-whitejpg.jpg
END:VEVENT
BEGIN:VEVENT
DTSTART;TZID=UTC:20280513T140000
DTEND;TZID=UTC:20280513T170000
DTSTAMP:20260423T054612
CREATED:20241207T134343Z
LAST-MODIFIED:20250131T112619Z
UID:10057263-1841839200-1841850000@myrtlelearning.com
SUMMARY:25Exam Skills Myrtle 1
DESCRIPTION:This lesson covers GCSE higher tier maths: Mathematics \nSelect the button below to join the lesson online
URL:https://myrtlelearning.com/event/25exam-skills-myrtle-1/2028-05-13/
LOCATION:Myrtle Learning Centre\, Pattens Gardens\, Rochester\, Kent\, ME1 2QP\, United Kingdom
CATEGORIES:25Exam Skills Myrtle 1
ATTACH;FMTTYPE=image/jpeg:https://myrtlelearning.com/wp-content/uploads/2023/08/myrtle-icon-whitejpg.jpg
END:VEVENT
BEGIN:VEVENT
DTSTART;TZID=UTC:20280520T140000
DTEND;TZID=UTC:20280520T170000
DTSTAMP:20260423T054612
CREATED:20241207T134343Z
LAST-MODIFIED:20250131T112619Z
UID:10057264-1842444000-1842454800@myrtlelearning.com
SUMMARY:25Exam Skills Myrtle 1
DESCRIPTION:This lesson covers GCSE higher tier maths: Mathematics \nSelect the button below to join the lesson online
URL:https://myrtlelearning.com/event/25exam-skills-myrtle-1/2028-05-20/
LOCATION:Myrtle Learning Centre\, Pattens Gardens\, Rochester\, Kent\, ME1 2QP\, United Kingdom
CATEGORIES:25Exam Skills Myrtle 1
ATTACH;FMTTYPE=image/jpeg:https://myrtlelearning.com/wp-content/uploads/2023/08/myrtle-icon-whitejpg.jpg
END:VEVENT
BEGIN:VEVENT
DTSTART;TZID=UTC:20280527T140000
DTEND;TZID=UTC:20280527T170000
DTSTAMP:20260423T054612
CREATED:20241207T134343Z
LAST-MODIFIED:20250131T112619Z
UID:10057265-1843048800-1843059600@myrtlelearning.com
SUMMARY:25Exam Skills Myrtle 1
DESCRIPTION:This lesson covers GCSE higher tier maths: Mathematics \nSelect the button below to join the lesson online
URL:https://myrtlelearning.com/event/25exam-skills-myrtle-1/2028-05-27/
LOCATION:Myrtle Learning Centre\, Pattens Gardens\, Rochester\, Kent\, ME1 2QP\, United Kingdom
CATEGORIES:25Exam Skills Myrtle 1
ATTACH;FMTTYPE=image/jpeg:https://myrtlelearning.com/wp-content/uploads/2023/08/myrtle-icon-whitejpg.jpg
END:VEVENT
END:VCALENDAR