BEGIN:VCALENDAR
VERSION:2.0
PRODID:-//Myrtle Learning - ECPv6.15.3//NONSGML v1.0//EN
CALSCALE:GREGORIAN
METHOD:PUBLISH
X-WR-CALNAME:Myrtle Learning
X-ORIGINAL-URL:https://myrtlelearning.com
X-WR-CALDESC:Events for Myrtle Learning
REFRESH-INTERVAL;VALUE=DURATION:PT1H
X-Robots-Tag:noindex
X-PUBLISHED-TTL:PT1H
BEGIN:VTIMEZONE
TZID:UTC
BEGIN:STANDARD
TZOFFSETFROM:+0000
TZOFFSETTO:+0000
TZNAME:UTC
DTSTART:20290101T000000
END:STANDARD
END:VTIMEZONE
BEGIN:VEVENT
DTSTART;TZID=UTC:20291201T140000
DTEND;TZID=UTC:20291201T170000
DTSTAMP:20260424T102924
CREATED:20241207T134343Z
LAST-MODIFIED:20250131T112619Z
UID:10057344-1890828000-1890838800@myrtlelearning.com
SUMMARY:25Exam Skills Myrtle 1
DESCRIPTION:This lesson covers GCSE higher tier maths: Mathematics \nSelect the button below to join the lesson online
URL:https://myrtlelearning.com/event/25exam-skills-myrtle-1/2029-12-01/
LOCATION:Myrtle Learning Centre\, Pattens Gardens\, Rochester\, Kent\, ME1 2QP\, United Kingdom
CATEGORIES:25Exam Skills Myrtle 1
ATTACH;FMTTYPE=image/jpeg:https://myrtlelearning.com/wp-content/uploads/2023/08/myrtle-icon-whitejpg.jpg
END:VEVENT
BEGIN:VEVENT
DTSTART;TZID=UTC:20291208T140000
DTEND;TZID=UTC:20291208T170000
DTSTAMP:20260424T102924
CREATED:20241207T134343Z
LAST-MODIFIED:20250131T112619Z
UID:10063489-1891432800-1891443600@myrtlelearning.com
SUMMARY:25Exam Skills Myrtle 1
DESCRIPTION:This lesson covers GCSE higher tier maths: Mathematics \nSelect the button below to join the lesson online
URL:https://myrtlelearning.com/event/25exam-skills-myrtle-1/2029-12-08/
LOCATION:Myrtle Learning Centre\, Pattens Gardens\, Rochester\, Kent\, ME1 2QP\, United Kingdom
CATEGORIES:25Exam Skills Myrtle 1
ATTACH;FMTTYPE=image/jpeg:https://myrtlelearning.com/wp-content/uploads/2023/08/myrtle-icon-whitejpg.jpg
END:VEVENT
BEGIN:VEVENT
DTSTART;TZID=UTC:20291215T140000
DTEND;TZID=UTC:20291215T170000
DTSTAMP:20260424T102924
CREATED:20241207T134343Z
LAST-MODIFIED:20250131T112619Z
UID:10063490-1892037600-1892048400@myrtlelearning.com
SUMMARY:25Exam Skills Myrtle 1
DESCRIPTION:This lesson covers GCSE higher tier maths: Mathematics \nSelect the button below to join the lesson online
URL:https://myrtlelearning.com/event/25exam-skills-myrtle-1/2029-12-15/
LOCATION:Myrtle Learning Centre\, Pattens Gardens\, Rochester\, Kent\, ME1 2QP\, United Kingdom
CATEGORIES:25Exam Skills Myrtle 1
ATTACH;FMTTYPE=image/jpeg:https://myrtlelearning.com/wp-content/uploads/2023/08/myrtle-icon-whitejpg.jpg
END:VEVENT
BEGIN:VEVENT
DTSTART;TZID=UTC:20291222T140000
DTEND;TZID=UTC:20291222T170000
DTSTAMP:20260424T102924
CREATED:20241207T134343Z
LAST-MODIFIED:20250131T112619Z
UID:10063491-1892642400-1892653200@myrtlelearning.com
SUMMARY:25Exam Skills Myrtle 1
DESCRIPTION:This lesson covers GCSE higher tier maths: Mathematics \nSelect the button below to join the lesson online
URL:https://myrtlelearning.com/event/25exam-skills-myrtle-1/2029-12-22/
LOCATION:Myrtle Learning Centre\, Pattens Gardens\, Rochester\, Kent\, ME1 2QP\, United Kingdom
CATEGORIES:25Exam Skills Myrtle 1
ATTACH;FMTTYPE=image/jpeg:https://myrtlelearning.com/wp-content/uploads/2023/08/myrtle-icon-whitejpg.jpg
END:VEVENT
BEGIN:VEVENT
DTSTART;TZID=UTC:20291229T140000
DTEND;TZID=UTC:20291229T170000
DTSTAMP:20260424T102924
CREATED:20241207T134343Z
LAST-MODIFIED:20250131T112619Z
UID:10063492-1893247200-1893258000@myrtlelearning.com
SUMMARY:25Exam Skills Myrtle 1
DESCRIPTION:This lesson covers GCSE higher tier maths: Mathematics \nSelect the button below to join the lesson online
URL:https://myrtlelearning.com/event/25exam-skills-myrtle-1/2029-12-29/
LOCATION:Myrtle Learning Centre\, Pattens Gardens\, Rochester\, Kent\, ME1 2QP\, United Kingdom
CATEGORIES:25Exam Skills Myrtle 1
ATTACH;FMTTYPE=image/jpeg:https://myrtlelearning.com/wp-content/uploads/2023/08/myrtle-icon-whitejpg.jpg
END:VEVENT
END:VCALENDAR