BEGIN:VCALENDAR
VERSION:2.0
PRODID:-//Myrtle Learning - ECPv6.15.3//NONSGML v1.0//EN
CALSCALE:GREGORIAN
METHOD:PUBLISH
X-ORIGINAL-URL:https://myrtlelearning.com
X-WR-CALDESC:Events for Myrtle Learning
REFRESH-INTERVAL;VALUE=DURATION:PT1H
X-Robots-Tag:noindex
X-PUBLISHED-TTL:PT1H
BEGIN:VTIMEZONE
TZID:UTC
BEGIN:STANDARD
TZOFFSETFROM:+0000
TZOFFSETTO:+0000
TZNAME:UTC
DTSTART:20270101T000000
END:STANDARD
END:VTIMEZONE
BEGIN:VEVENT
DTSTART;TZID=UTC:20270302T110000
DTEND;TZID=UTC:20270302T120000
DTSTAMP:20260421T232549
CREATED:20260126T112432Z
LAST-MODIFIED:20260126T112432Z
UID:10092412-1803985200-1803988800@myrtlelearning.com
SUMMARY:26ALB Myrtle 1
DESCRIPTION:26ALB Myrtle 1 \nThese group is made of students preparing for their biology exams in 2026 \nSelect the button below to join the lesson online
URL:https://myrtlelearning.com/event/26alb-myrtle-1/2027-03-02/
LOCATION:Online Session\, 25 Pattens Gardens\, Rochester\, Other\, ME1 2QP\, United Kingdom
CATEGORIES:26ALB Myrtle 1
ATTACH;FMTTYPE=image/jpeg:https://myrtlelearning.com/wp-content/uploads/2023/08/myrtle-icon-whitejpg.jpg
ORGANIZER;CN="Abbie":MAILTO:barnesab@myrtlelearning.com
END:VEVENT
BEGIN:VEVENT
DTSTART;TZID=UTC:20270305T110000
DTEND;TZID=UTC:20270305T120000
DTSTAMP:20260421T232549
CREATED:20260126T112432Z
LAST-MODIFIED:20260126T112432Z
UID:10092413-1804244400-1804248000@myrtlelearning.com
SUMMARY:26ALB Myrtle 1
DESCRIPTION:26ALB Myrtle 1 \nThese group is made of students preparing for their biology exams in 2026 \nSelect the button below to join the lesson online
URL:https://myrtlelearning.com/event/26alb-myrtle-1/2027-03-05/
LOCATION:Online Session\, 25 Pattens Gardens\, Rochester\, Other\, ME1 2QP\, United Kingdom
CATEGORIES:26ALB Myrtle 1
ATTACH;FMTTYPE=image/jpeg:https://myrtlelearning.com/wp-content/uploads/2023/08/myrtle-icon-whitejpg.jpg
ORGANIZER;CN="Abbie":MAILTO:barnesab@myrtlelearning.com
END:VEVENT
BEGIN:VEVENT
DTSTART;TZID=UTC:20270309T110000
DTEND;TZID=UTC:20270309T120000
DTSTAMP:20260421T232549
CREATED:20260126T112432Z
LAST-MODIFIED:20260126T112432Z
UID:10092414-1804590000-1804593600@myrtlelearning.com
SUMMARY:26ALB Myrtle 1
DESCRIPTION:26ALB Myrtle 1 \nThese group is made of students preparing for their biology exams in 2026 \nSelect the button below to join the lesson online
URL:https://myrtlelearning.com/event/26alb-myrtle-1/2027-03-09/
LOCATION:Online Session\, 25 Pattens Gardens\, Rochester\, Other\, ME1 2QP\, United Kingdom
CATEGORIES:26ALB Myrtle 1
ATTACH;FMTTYPE=image/jpeg:https://myrtlelearning.com/wp-content/uploads/2023/08/myrtle-icon-whitejpg.jpg
ORGANIZER;CN="Abbie":MAILTO:barnesab@myrtlelearning.com
END:VEVENT
BEGIN:VEVENT
DTSTART;TZID=UTC:20270312T110000
DTEND;TZID=UTC:20270312T120000
DTSTAMP:20260421T232549
CREATED:20260126T112432Z
LAST-MODIFIED:20260126T112432Z
UID:10092415-1804849200-1804852800@myrtlelearning.com
SUMMARY:26ALB Myrtle 1
DESCRIPTION:26ALB Myrtle 1 \nThese group is made of students preparing for their biology exams in 2026 \nSelect the button below to join the lesson online
URL:https://myrtlelearning.com/event/26alb-myrtle-1/2027-03-12/
LOCATION:Online Session\, 25 Pattens Gardens\, Rochester\, Other\, ME1 2QP\, United Kingdom
CATEGORIES:26ALB Myrtle 1
ATTACH;FMTTYPE=image/jpeg:https://myrtlelearning.com/wp-content/uploads/2023/08/myrtle-icon-whitejpg.jpg
ORGANIZER;CN="Abbie":MAILTO:barnesab@myrtlelearning.com
END:VEVENT
BEGIN:VEVENT
DTSTART;TZID=UTC:20270316T110000
DTEND;TZID=UTC:20270316T120000
DTSTAMP:20260421T232549
CREATED:20260126T112432Z
LAST-MODIFIED:20260126T112432Z
UID:10092416-1805194800-1805198400@myrtlelearning.com
SUMMARY:26ALB Myrtle 1
DESCRIPTION:26ALB Myrtle 1 \nThese group is made of students preparing for their biology exams in 2026 \nSelect the button below to join the lesson online
URL:https://myrtlelearning.com/event/26alb-myrtle-1/2027-03-16/
LOCATION:Online Session\, 25 Pattens Gardens\, Rochester\, Other\, ME1 2QP\, United Kingdom
CATEGORIES:26ALB Myrtle 1
ATTACH;FMTTYPE=image/jpeg:https://myrtlelearning.com/wp-content/uploads/2023/08/myrtle-icon-whitejpg.jpg
ORGANIZER;CN="Abbie":MAILTO:barnesab@myrtlelearning.com
END:VEVENT
BEGIN:VEVENT
DTSTART;TZID=UTC:20270319T110000
DTEND;TZID=UTC:20270319T120000
DTSTAMP:20260421T232549
CREATED:20260126T112432Z
LAST-MODIFIED:20260126T112432Z
UID:10092417-1805454000-1805457600@myrtlelearning.com
SUMMARY:26ALB Myrtle 1
DESCRIPTION:26ALB Myrtle 1 \nThese group is made of students preparing for their biology exams in 2026 \nSelect the button below to join the lesson online
URL:https://myrtlelearning.com/event/26alb-myrtle-1/2027-03-19/
LOCATION:Online Session\, 25 Pattens Gardens\, Rochester\, Other\, ME1 2QP\, United Kingdom
CATEGORIES:26ALB Myrtle 1
ATTACH;FMTTYPE=image/jpeg:https://myrtlelearning.com/wp-content/uploads/2023/08/myrtle-icon-whitejpg.jpg
ORGANIZER;CN="Abbie":MAILTO:barnesab@myrtlelearning.com
END:VEVENT
BEGIN:VEVENT
DTSTART;TZID=UTC:20270323T110000
DTEND;TZID=UTC:20270323T120000
DTSTAMP:20260421T232549
CREATED:20260126T112432Z
LAST-MODIFIED:20260126T112432Z
UID:10092418-1805799600-1805803200@myrtlelearning.com
SUMMARY:26ALB Myrtle 1
DESCRIPTION:26ALB Myrtle 1 \nThese group is made of students preparing for their biology exams in 2026 \nSelect the button below to join the lesson online
URL:https://myrtlelearning.com/event/26alb-myrtle-1/2027-03-23/
LOCATION:Online Session\, 25 Pattens Gardens\, Rochester\, Other\, ME1 2QP\, United Kingdom
CATEGORIES:26ALB Myrtle 1
ATTACH;FMTTYPE=image/jpeg:https://myrtlelearning.com/wp-content/uploads/2023/08/myrtle-icon-whitejpg.jpg
ORGANIZER;CN="Abbie":MAILTO:barnesab@myrtlelearning.com
END:VEVENT
BEGIN:VEVENT
DTSTART;TZID=UTC:20270326T110000
DTEND;TZID=UTC:20270326T120000
DTSTAMP:20260421T232549
CREATED:20260126T112432Z
LAST-MODIFIED:20260126T112432Z
UID:10092419-1806058800-1806062400@myrtlelearning.com
SUMMARY:26ALB Myrtle 1
DESCRIPTION:26ALB Myrtle 1 \nThese group is made of students preparing for their biology exams in 2026 \nSelect the button below to join the lesson online
URL:https://myrtlelearning.com/event/26alb-myrtle-1/2027-03-26/
LOCATION:Online Session\, 25 Pattens Gardens\, Rochester\, Other\, ME1 2QP\, United Kingdom
CATEGORIES:26ALB Myrtle 1
ATTACH;FMTTYPE=image/jpeg:https://myrtlelearning.com/wp-content/uploads/2023/08/myrtle-icon-whitejpg.jpg
ORGANIZER;CN="Abbie":MAILTO:barnesab@myrtlelearning.com
END:VEVENT
BEGIN:VEVENT
DTSTART;TZID=UTC:20270330T110000
DTEND;TZID=UTC:20270330T120000
DTSTAMP:20260421T232549
CREATED:20260126T112432Z
LAST-MODIFIED:20260126T112432Z
UID:10092420-1806404400-1806408000@myrtlelearning.com
SUMMARY:26ALB Myrtle 1
DESCRIPTION:26ALB Myrtle 1 \nThese group is made of students preparing for their biology exams in 2026 \nSelect the button below to join the lesson online
URL:https://myrtlelearning.com/event/26alb-myrtle-1/2027-03-30/
LOCATION:Online Session\, 25 Pattens Gardens\, Rochester\, Other\, ME1 2QP\, United Kingdom
CATEGORIES:26ALB Myrtle 1
ATTACH;FMTTYPE=image/jpeg:https://myrtlelearning.com/wp-content/uploads/2023/08/myrtle-icon-whitejpg.jpg
ORGANIZER;CN="Abbie":MAILTO:barnesab@myrtlelearning.com
END:VEVENT
END:VCALENDAR