BEGIN:VCALENDAR
VERSION:2.0
PRODID:-//Myrtle Learning - ECPv6.15.3//NONSGML v1.0//EN
CALSCALE:GREGORIAN
METHOD:PUBLISH
X-WR-CALNAME:Myrtle Learning
X-ORIGINAL-URL:https://myrtlelearning.com
X-WR-CALDESC:Events for Myrtle Learning
REFRESH-INTERVAL;VALUE=DURATION:PT1H
X-Robots-Tag:noindex
X-PUBLISHED-TTL:PT1H
BEGIN:VTIMEZONE
TZID:UTC
BEGIN:STANDARD
TZOFFSETFROM:+0000
TZOFFSETTO:+0000
TZNAME:UTC
DTSTART:20270101T000000
END:STANDARD
END:VTIMEZONE
BEGIN:VEVENT
DTSTART;TZID=UTC:20270501T123000
DTEND;TZID=UTC:20270501T143000
DTSTAMP:20260421T202443
CREATED:20250118T124910Z
LAST-MODIFIED:20250131T110542Z
UID:10059896-1809174600-1809181800@myrtlelearning.com
SUMMARY:26AMA Myrtle 1
DESCRIPTION:This lesson covers A Level Mathematics \nSelect the button below to join the lesson online
URL:https://myrtlelearning.com/event/26ama-myrtle-1/2027-05-01/
LOCATION:Myrtle Learning Centre\, Pattens Gardens\, Rochester\, Kent\, ME1 2QP\, United Kingdom
CATEGORIES:26AMA Myrtle 1
ATTACH;FMTTYPE=image/jpeg:https://myrtlelearning.com/wp-content/uploads/2023/08/myrtle-icon-whitejpg.jpg
END:VEVENT
BEGIN:VEVENT
DTSTART;TZID=UTC:20270508T123000
DTEND;TZID=UTC:20270508T143000
DTSTAMP:20260421T202443
CREATED:20250118T124910Z
LAST-MODIFIED:20250131T110542Z
UID:10059897-1809779400-1809786600@myrtlelearning.com
SUMMARY:26AMA Myrtle 1
DESCRIPTION:This lesson covers A Level Mathematics \nSelect the button below to join the lesson online
URL:https://myrtlelearning.com/event/26ama-myrtle-1/2027-05-08/
LOCATION:Myrtle Learning Centre\, Pattens Gardens\, Rochester\, Kent\, ME1 2QP\, United Kingdom
CATEGORIES:26AMA Myrtle 1
ATTACH;FMTTYPE=image/jpeg:https://myrtlelearning.com/wp-content/uploads/2023/08/myrtle-icon-whitejpg.jpg
END:VEVENT
BEGIN:VEVENT
DTSTART;TZID=UTC:20270515T123000
DTEND;TZID=UTC:20270515T143000
DTSTAMP:20260421T202443
CREATED:20250118T124910Z
LAST-MODIFIED:20250131T110542Z
UID:10059898-1810384200-1810391400@myrtlelearning.com
SUMMARY:26AMA Myrtle 1
DESCRIPTION:This lesson covers A Level Mathematics \nSelect the button below to join the lesson online
URL:https://myrtlelearning.com/event/26ama-myrtle-1/2027-05-15/
LOCATION:Myrtle Learning Centre\, Pattens Gardens\, Rochester\, Kent\, ME1 2QP\, United Kingdom
CATEGORIES:26AMA Myrtle 1
ATTACH;FMTTYPE=image/jpeg:https://myrtlelearning.com/wp-content/uploads/2023/08/myrtle-icon-whitejpg.jpg
END:VEVENT
BEGIN:VEVENT
DTSTART;TZID=UTC:20270522T123000
DTEND;TZID=UTC:20270522T143000
DTSTAMP:20260421T202443
CREATED:20250118T124910Z
LAST-MODIFIED:20250131T110542Z
UID:10059899-1810989000-1810996200@myrtlelearning.com
SUMMARY:26AMA Myrtle 1
DESCRIPTION:This lesson covers A Level Mathematics \nSelect the button below to join the lesson online
URL:https://myrtlelearning.com/event/26ama-myrtle-1/2027-05-22/
LOCATION:Myrtle Learning Centre\, Pattens Gardens\, Rochester\, Kent\, ME1 2QP\, United Kingdom
CATEGORIES:26AMA Myrtle 1
ATTACH;FMTTYPE=image/jpeg:https://myrtlelearning.com/wp-content/uploads/2023/08/myrtle-icon-whitejpg.jpg
END:VEVENT
BEGIN:VEVENT
DTSTART;TZID=UTC:20270529T123000
DTEND;TZID=UTC:20270529T143000
DTSTAMP:20260421T202443
CREATED:20250118T124910Z
LAST-MODIFIED:20250131T110542Z
UID:10059900-1811593800-1811601000@myrtlelearning.com
SUMMARY:26AMA Myrtle 1
DESCRIPTION:This lesson covers A Level Mathematics \nSelect the button below to join the lesson online
URL:https://myrtlelearning.com/event/26ama-myrtle-1/2027-05-29/
LOCATION:Myrtle Learning Centre\, Pattens Gardens\, Rochester\, Kent\, ME1 2QP\, United Kingdom
CATEGORIES:26AMA Myrtle 1
ATTACH;FMTTYPE=image/jpeg:https://myrtlelearning.com/wp-content/uploads/2023/08/myrtle-icon-whitejpg.jpg
END:VEVENT
END:VCALENDAR