BEGIN:VCALENDAR
VERSION:2.0
PRODID:-//Myrtle Learning - ECPv6.15.3//NONSGML v1.0//EN
CALSCALE:GREGORIAN
METHOD:PUBLISH
X-WR-CALNAME:Myrtle Learning
X-ORIGINAL-URL:https://myrtlelearning.com
X-WR-CALDESC:Events for Myrtle Learning
REFRESH-INTERVAL;VALUE=DURATION:PT1H
X-Robots-Tag:noindex
X-PUBLISHED-TTL:PT1H
BEGIN:VTIMEZONE
TZID:UTC
BEGIN:STANDARD
TZOFFSETFROM:+0000
TZOFFSETTO:+0000
TZNAME:UTC
DTSTART:20270101T000000
END:STANDARD
END:VTIMEZONE
BEGIN:VEVENT
DTSTART;TZID=UTC:20270703T123000
DTEND;TZID=UTC:20270703T143000
DTSTAMP:20260421T235109
CREATED:20250118T124910Z
LAST-MODIFIED:20250131T110542Z
UID:10059905-1814617800-1814625000@myrtlelearning.com
SUMMARY:26AMA Myrtle 1
DESCRIPTION:This lesson covers A Level Mathematics \nSelect the button below to join the lesson online
URL:https://myrtlelearning.com/event/26ama-myrtle-1/2027-07-03/
LOCATION:Myrtle Learning Centre\, Pattens Gardens\, Rochester\, Kent\, ME1 2QP\, United Kingdom
CATEGORIES:26AMA Myrtle 1
ATTACH;FMTTYPE=image/jpeg:https://myrtlelearning.com/wp-content/uploads/2023/08/myrtle-icon-whitejpg.jpg
END:VEVENT
BEGIN:VEVENT
DTSTART;TZID=UTC:20270710T123000
DTEND;TZID=UTC:20270710T143000
DTSTAMP:20260421T235109
CREATED:20250118T124910Z
LAST-MODIFIED:20250131T110542Z
UID:10059906-1815222600-1815229800@myrtlelearning.com
SUMMARY:26AMA Myrtle 1
DESCRIPTION:This lesson covers A Level Mathematics \nSelect the button below to join the lesson online
URL:https://myrtlelearning.com/event/26ama-myrtle-1/2027-07-10/
LOCATION:Myrtle Learning Centre\, Pattens Gardens\, Rochester\, Kent\, ME1 2QP\, United Kingdom
CATEGORIES:26AMA Myrtle 1
ATTACH;FMTTYPE=image/jpeg:https://myrtlelearning.com/wp-content/uploads/2023/08/myrtle-icon-whitejpg.jpg
END:VEVENT
BEGIN:VEVENT
DTSTART;TZID=UTC:20270717T123000
DTEND;TZID=UTC:20270717T143000
DTSTAMP:20260421T235109
CREATED:20250118T124910Z
LAST-MODIFIED:20250131T110542Z
UID:10059907-1815827400-1815834600@myrtlelearning.com
SUMMARY:26AMA Myrtle 1
DESCRIPTION:This lesson covers A Level Mathematics \nSelect the button below to join the lesson online
URL:https://myrtlelearning.com/event/26ama-myrtle-1/2027-07-17/
LOCATION:Myrtle Learning Centre\, Pattens Gardens\, Rochester\, Kent\, ME1 2QP\, United Kingdom
CATEGORIES:26AMA Myrtle 1
ATTACH;FMTTYPE=image/jpeg:https://myrtlelearning.com/wp-content/uploads/2023/08/myrtle-icon-whitejpg.jpg
END:VEVENT
BEGIN:VEVENT
DTSTART;TZID=UTC:20270724T123000
DTEND;TZID=UTC:20270724T143000
DTSTAMP:20260421T235109
CREATED:20250118T124910Z
LAST-MODIFIED:20250131T110542Z
UID:10059908-1816432200-1816439400@myrtlelearning.com
SUMMARY:26AMA Myrtle 1
DESCRIPTION:This lesson covers A Level Mathematics \nSelect the button below to join the lesson online
URL:https://myrtlelearning.com/event/26ama-myrtle-1/2027-07-24/
LOCATION:Myrtle Learning Centre\, Pattens Gardens\, Rochester\, Kent\, ME1 2QP\, United Kingdom
CATEGORIES:26AMA Myrtle 1
ATTACH;FMTTYPE=image/jpeg:https://myrtlelearning.com/wp-content/uploads/2023/08/myrtle-icon-whitejpg.jpg
END:VEVENT
BEGIN:VEVENT
DTSTART;TZID=UTC:20270731T123000
DTEND;TZID=UTC:20270731T143000
DTSTAMP:20260421T235109
CREATED:20250118T124910Z
LAST-MODIFIED:20250131T110542Z
UID:10059909-1817037000-1817044200@myrtlelearning.com
SUMMARY:26AMA Myrtle 1
DESCRIPTION:This lesson covers A Level Mathematics \nSelect the button below to join the lesson online
URL:https://myrtlelearning.com/event/26ama-myrtle-1/2027-07-31/
LOCATION:Myrtle Learning Centre\, Pattens Gardens\, Rochester\, Kent\, ME1 2QP\, United Kingdom
CATEGORIES:26AMA Myrtle 1
ATTACH;FMTTYPE=image/jpeg:https://myrtlelearning.com/wp-content/uploads/2023/08/myrtle-icon-whitejpg.jpg
END:VEVENT
END:VCALENDAR