BEGIN:VCALENDAR
VERSION:2.0
PRODID:-//Myrtle Learning - ECPv6.15.3//NONSGML v1.0//EN
CALSCALE:GREGORIAN
METHOD:PUBLISH
X-WR-CALNAME:Myrtle Learning
X-ORIGINAL-URL:https://myrtlelearning.com
X-WR-CALDESC:Events for Myrtle Learning
REFRESH-INTERVAL;VALUE=DURATION:PT1H
X-Robots-Tag:noindex
X-PUBLISHED-TTL:PT1H
BEGIN:VTIMEZONE
TZID:UTC
BEGIN:STANDARD
TZOFFSETFROM:+0000
TZOFFSETTO:+0000
TZNAME:UTC
DTSTART:20280101T000000
END:STANDARD
END:VTIMEZONE
BEGIN:VEVENT
DTSTART;TZID=UTC:20280401T123000
DTEND;TZID=UTC:20280401T143000
DTSTAMP:20260422T121010
CREATED:20250118T124910Z
LAST-MODIFIED:20250131T110542Z
UID:10059944-1838205000-1838212200@myrtlelearning.com
SUMMARY:26AMA Myrtle 1
DESCRIPTION:This lesson covers A Level Mathematics \nSelect the button below to join the lesson online
URL:https://myrtlelearning.com/event/26ama-myrtle-1/2028-04-01/
LOCATION:Myrtle Learning Centre\, Pattens Gardens\, Rochester\, Kent\, ME1 2QP\, United Kingdom
CATEGORIES:26AMA Myrtle 1
ATTACH;FMTTYPE=image/jpeg:https://myrtlelearning.com/wp-content/uploads/2023/08/myrtle-icon-whitejpg.jpg
END:VEVENT
BEGIN:VEVENT
DTSTART;TZID=UTC:20280408T123000
DTEND;TZID=UTC:20280408T143000
DTSTAMP:20260422T121010
CREATED:20250118T124910Z
LAST-MODIFIED:20250131T110542Z
UID:10059945-1838809800-1838817000@myrtlelearning.com
SUMMARY:26AMA Myrtle 1
DESCRIPTION:This lesson covers A Level Mathematics \nSelect the button below to join the lesson online
URL:https://myrtlelearning.com/event/26ama-myrtle-1/2028-04-08/
LOCATION:Myrtle Learning Centre\, Pattens Gardens\, Rochester\, Kent\, ME1 2QP\, United Kingdom
CATEGORIES:26AMA Myrtle 1
ATTACH;FMTTYPE=image/jpeg:https://myrtlelearning.com/wp-content/uploads/2023/08/myrtle-icon-whitejpg.jpg
END:VEVENT
BEGIN:VEVENT
DTSTART;TZID=UTC:20280415T123000
DTEND;TZID=UTC:20280415T143000
DTSTAMP:20260422T121010
CREATED:20250118T124910Z
LAST-MODIFIED:20250131T110542Z
UID:10059946-1839414600-1839421800@myrtlelearning.com
SUMMARY:26AMA Myrtle 1
DESCRIPTION:This lesson covers A Level Mathematics \nSelect the button below to join the lesson online
URL:https://myrtlelearning.com/event/26ama-myrtle-1/2028-04-15/
LOCATION:Myrtle Learning Centre\, Pattens Gardens\, Rochester\, Kent\, ME1 2QP\, United Kingdom
CATEGORIES:26AMA Myrtle 1
ATTACH;FMTTYPE=image/jpeg:https://myrtlelearning.com/wp-content/uploads/2023/08/myrtle-icon-whitejpg.jpg
END:VEVENT
BEGIN:VEVENT
DTSTART;TZID=UTC:20280422T123000
DTEND;TZID=UTC:20280422T143000
DTSTAMP:20260422T121010
CREATED:20250118T124910Z
LAST-MODIFIED:20250131T110542Z
UID:10059947-1840019400-1840026600@myrtlelearning.com
SUMMARY:26AMA Myrtle 1
DESCRIPTION:This lesson covers A Level Mathematics \nSelect the button below to join the lesson online
URL:https://myrtlelearning.com/event/26ama-myrtle-1/2028-04-22/
LOCATION:Myrtle Learning Centre\, Pattens Gardens\, Rochester\, Kent\, ME1 2QP\, United Kingdom
CATEGORIES:26AMA Myrtle 1
ATTACH;FMTTYPE=image/jpeg:https://myrtlelearning.com/wp-content/uploads/2023/08/myrtle-icon-whitejpg.jpg
END:VEVENT
BEGIN:VEVENT
DTSTART;TZID=UTC:20280429T123000
DTEND;TZID=UTC:20280429T143000
DTSTAMP:20260422T121010
CREATED:20250118T124910Z
LAST-MODIFIED:20250131T110542Z
UID:10059948-1840624200-1840631400@myrtlelearning.com
SUMMARY:26AMA Myrtle 1
DESCRIPTION:This lesson covers A Level Mathematics \nSelect the button below to join the lesson online
URL:https://myrtlelearning.com/event/26ama-myrtle-1/2028-04-29/
LOCATION:Myrtle Learning Centre\, Pattens Gardens\, Rochester\, Kent\, ME1 2QP\, United Kingdom
CATEGORIES:26AMA Myrtle 1
ATTACH;FMTTYPE=image/jpeg:https://myrtlelearning.com/wp-content/uploads/2023/08/myrtle-icon-whitejpg.jpg
END:VEVENT
END:VCALENDAR