BEGIN:VCALENDAR
VERSION:2.0
PRODID:-//Myrtle Learning - ECPv6.15.3//NONSGML v1.0//EN
CALSCALE:GREGORIAN
METHOD:PUBLISH
X-ORIGINAL-URL:https://myrtlelearning.com
X-WR-CALDESC:Events for Myrtle Learning
REFRESH-INTERVAL;VALUE=DURATION:PT1H
X-Robots-Tag:noindex
X-PUBLISHED-TTL:PT1H
BEGIN:VTIMEZONE
TZID:UTC
BEGIN:STANDARD
TZOFFSETFROM:+0000
TZOFFSETTO:+0000
TZNAME:UTC
DTSTART:20280101T000000
END:STANDARD
END:VTIMEZONE
BEGIN:VEVENT
DTSTART;TZID=UTC:20280902T123000
DTEND;TZID=UTC:20280902T143000
DTSTAMP:20260423T130535
CREATED:20250118T124910Z
LAST-MODIFIED:20250131T110542Z
UID:10059966-1851510600-1851517800@myrtlelearning.com
SUMMARY:26AMA Myrtle 1
DESCRIPTION:This lesson covers A Level Mathematics \nSelect the button below to join the lesson online
URL:https://myrtlelearning.com/event/26ama-myrtle-1/2028-09-02/
LOCATION:Myrtle Learning Centre\, Pattens Gardens\, Rochester\, Kent\, ME1 2QP\, United Kingdom
CATEGORIES:26AMA Myrtle 1
ATTACH;FMTTYPE=image/jpeg:https://myrtlelearning.com/wp-content/uploads/2023/08/myrtle-icon-whitejpg.jpg
END:VEVENT
BEGIN:VEVENT
DTSTART;TZID=UTC:20280909T123000
DTEND;TZID=UTC:20280909T143000
DTSTAMP:20260423T130535
CREATED:20250118T124910Z
LAST-MODIFIED:20250131T110542Z
UID:10059967-1852115400-1852122600@myrtlelearning.com
SUMMARY:26AMA Myrtle 1
DESCRIPTION:This lesson covers A Level Mathematics \nSelect the button below to join the lesson online
URL:https://myrtlelearning.com/event/26ama-myrtle-1/2028-09-09/
LOCATION:Myrtle Learning Centre\, Pattens Gardens\, Rochester\, Kent\, ME1 2QP\, United Kingdom
CATEGORIES:26AMA Myrtle 1
ATTACH;FMTTYPE=image/jpeg:https://myrtlelearning.com/wp-content/uploads/2023/08/myrtle-icon-whitejpg.jpg
END:VEVENT
BEGIN:VEVENT
DTSTART;TZID=UTC:20280916T123000
DTEND;TZID=UTC:20280916T143000
DTSTAMP:20260423T130535
CREATED:20250118T124910Z
LAST-MODIFIED:20250131T110542Z
UID:10059968-1852720200-1852727400@myrtlelearning.com
SUMMARY:26AMA Myrtle 1
DESCRIPTION:This lesson covers A Level Mathematics \nSelect the button below to join the lesson online
URL:https://myrtlelearning.com/event/26ama-myrtle-1/2028-09-16/
LOCATION:Myrtle Learning Centre\, Pattens Gardens\, Rochester\, Kent\, ME1 2QP\, United Kingdom
CATEGORIES:26AMA Myrtle 1
ATTACH;FMTTYPE=image/jpeg:https://myrtlelearning.com/wp-content/uploads/2023/08/myrtle-icon-whitejpg.jpg
END:VEVENT
BEGIN:VEVENT
DTSTART;TZID=UTC:20280923T123000
DTEND;TZID=UTC:20280923T143000
DTSTAMP:20260423T130535
CREATED:20250118T124910Z
LAST-MODIFIED:20250131T110542Z
UID:10059969-1853325000-1853332200@myrtlelearning.com
SUMMARY:26AMA Myrtle 1
DESCRIPTION:This lesson covers A Level Mathematics \nSelect the button below to join the lesson online
URL:https://myrtlelearning.com/event/26ama-myrtle-1/2028-09-23/
LOCATION:Myrtle Learning Centre\, Pattens Gardens\, Rochester\, Kent\, ME1 2QP\, United Kingdom
CATEGORIES:26AMA Myrtle 1
ATTACH;FMTTYPE=image/jpeg:https://myrtlelearning.com/wp-content/uploads/2023/08/myrtle-icon-whitejpg.jpg
END:VEVENT
BEGIN:VEVENT
DTSTART;TZID=UTC:20280930T123000
DTEND;TZID=UTC:20280930T143000
DTSTAMP:20260423T130535
CREATED:20250118T124910Z
LAST-MODIFIED:20250131T110542Z
UID:10059970-1853929800-1853937000@myrtlelearning.com
SUMMARY:26AMA Myrtle 1
DESCRIPTION:This lesson covers A Level Mathematics \nSelect the button below to join the lesson online
URL:https://myrtlelearning.com/event/26ama-myrtle-1/2028-09-30/
LOCATION:Myrtle Learning Centre\, Pattens Gardens\, Rochester\, Kent\, ME1 2QP\, United Kingdom
CATEGORIES:26AMA Myrtle 1
ATTACH;FMTTYPE=image/jpeg:https://myrtlelearning.com/wp-content/uploads/2023/08/myrtle-icon-whitejpg.jpg
END:VEVENT
END:VCALENDAR