BEGIN:VCALENDAR
VERSION:2.0
PRODID:-//Myrtle Learning - ECPv6.15.3//NONSGML v1.0//EN
CALSCALE:GREGORIAN
METHOD:PUBLISH
X-WR-CALNAME:Myrtle Learning
X-ORIGINAL-URL:https://myrtlelearning.com
X-WR-CALDESC:Events for Myrtle Learning
REFRESH-INTERVAL;VALUE=DURATION:PT1H
X-Robots-Tag:noindex
X-PUBLISHED-TTL:PT1H
BEGIN:VTIMEZONE
TZID:UTC
BEGIN:STANDARD
TZOFFSETFROM:+0000
TZOFFSETTO:+0000
TZNAME:UTC
DTSTART:20290101T000000
END:STANDARD
END:VTIMEZONE
BEGIN:VEVENT
DTSTART;TZID=UTC:20290901T123000
DTEND;TZID=UTC:20290901T143000
DTSTAMP:20260424T111608
CREATED:20250118T124910Z
LAST-MODIFIED:20250131T110542Z
UID:10060018-1882960200-1882967400@myrtlelearning.com
SUMMARY:26AMA Myrtle 1
DESCRIPTION:This lesson covers A Level Mathematics \nSelect the button below to join the lesson online
URL:https://myrtlelearning.com/event/26ama-myrtle-1/2029-09-01/
LOCATION:Myrtle Learning Centre\, Pattens Gardens\, Rochester\, Kent\, ME1 2QP\, United Kingdom
CATEGORIES:26AMA Myrtle 1
ATTACH;FMTTYPE=image/jpeg:https://myrtlelearning.com/wp-content/uploads/2023/08/myrtle-icon-whitejpg.jpg
END:VEVENT
BEGIN:VEVENT
DTSTART;TZID=UTC:20290908T123000
DTEND;TZID=UTC:20290908T143000
DTSTAMP:20260424T111608
CREATED:20250118T124910Z
LAST-MODIFIED:20250131T110542Z
UID:10060019-1883565000-1883572200@myrtlelearning.com
SUMMARY:26AMA Myrtle 1
DESCRIPTION:This lesson covers A Level Mathematics \nSelect the button below to join the lesson online
URL:https://myrtlelearning.com/event/26ama-myrtle-1/2029-09-08/
LOCATION:Myrtle Learning Centre\, Pattens Gardens\, Rochester\, Kent\, ME1 2QP\, United Kingdom
CATEGORIES:26AMA Myrtle 1
ATTACH;FMTTYPE=image/jpeg:https://myrtlelearning.com/wp-content/uploads/2023/08/myrtle-icon-whitejpg.jpg
END:VEVENT
BEGIN:VEVENT
DTSTART;TZID=UTC:20290915T123000
DTEND;TZID=UTC:20290915T143000
DTSTAMP:20260424T111608
CREATED:20250118T124910Z
LAST-MODIFIED:20250131T110542Z
UID:10060020-1884169800-1884177000@myrtlelearning.com
SUMMARY:26AMA Myrtle 1
DESCRIPTION:This lesson covers A Level Mathematics \nSelect the button below to join the lesson online
URL:https://myrtlelearning.com/event/26ama-myrtle-1/2029-09-15/
LOCATION:Myrtle Learning Centre\, Pattens Gardens\, Rochester\, Kent\, ME1 2QP\, United Kingdom
CATEGORIES:26AMA Myrtle 1
ATTACH;FMTTYPE=image/jpeg:https://myrtlelearning.com/wp-content/uploads/2023/08/myrtle-icon-whitejpg.jpg
END:VEVENT
BEGIN:VEVENT
DTSTART;TZID=UTC:20290922T123000
DTEND;TZID=UTC:20290922T143000
DTSTAMP:20260424T111608
CREATED:20250118T124910Z
LAST-MODIFIED:20250131T110542Z
UID:10060021-1884774600-1884781800@myrtlelearning.com
SUMMARY:26AMA Myrtle 1
DESCRIPTION:This lesson covers A Level Mathematics \nSelect the button below to join the lesson online
URL:https://myrtlelearning.com/event/26ama-myrtle-1/2029-09-22/
LOCATION:Myrtle Learning Centre\, Pattens Gardens\, Rochester\, Kent\, ME1 2QP\, United Kingdom
CATEGORIES:26AMA Myrtle 1
ATTACH;FMTTYPE=image/jpeg:https://myrtlelearning.com/wp-content/uploads/2023/08/myrtle-icon-whitejpg.jpg
END:VEVENT
BEGIN:VEVENT
DTSTART;TZID=UTC:20290929T123000
DTEND;TZID=UTC:20290929T143000
DTSTAMP:20260424T111608
CREATED:20250118T124910Z
LAST-MODIFIED:20250131T110542Z
UID:10060022-1885379400-1885386600@myrtlelearning.com
SUMMARY:26AMA Myrtle 1
DESCRIPTION:This lesson covers A Level Mathematics \nSelect the button below to join the lesson online
URL:https://myrtlelearning.com/event/26ama-myrtle-1/2029-09-29/
LOCATION:Myrtle Learning Centre\, Pattens Gardens\, Rochester\, Kent\, ME1 2QP\, United Kingdom
CATEGORIES:26AMA Myrtle 1
ATTACH;FMTTYPE=image/jpeg:https://myrtlelearning.com/wp-content/uploads/2023/08/myrtle-icon-whitejpg.jpg
END:VEVENT
END:VCALENDAR