BEGIN:VCALENDAR
VERSION:2.0
PRODID:-//Myrtle Learning - ECPv6.15.3//NONSGML v1.0//EN
CALSCALE:GREGORIAN
METHOD:PUBLISH
X-ORIGINAL-URL:https://myrtlelearning.com
X-WR-CALDESC:Events for Myrtle Learning
REFRESH-INTERVAL;VALUE=DURATION:PT1H
X-Robots-Tag:noindex
X-PUBLISHED-TTL:PT1H
BEGIN:VTIMEZONE
TZID:UTC
BEGIN:STANDARD
TZOFFSETFROM:+0000
TZOFFSETTO:+0000
TZNAME:UTC
DTSTART:20260101T000000
END:STANDARD
END:VTIMEZONE
BEGIN:VEVENT
DTSTART;TZID=UTC:20260602T183000
DTEND;TZID=UTC:20260602T203000
DTSTAMP:20260421T235212
CREATED:20241023T111356Z
LAST-MODIFIED:20260317T183637Z
UID:10099170-1780425000-1780432200@myrtlelearning.com
SUMMARY:26EP Myrtle 1 EVR
DESCRIPTION:26EP Myrtle 1 EVR \nThese group is made of students preparing for their 11plus exams in 2026 \nSelect the button below to join the lesson online
URL:https://myrtlelearning.com/event/26ep-myrtle-1-ma-2/2026-06-02/
LOCATION:Online Session\, 25 Pattens Gardens\, Rochester\, Other\, ME1 2QP\, United Kingdom
CATEGORIES:26EP Myrtle 1 EVR
ATTACH;FMTTYPE=image/jpeg:https://myrtlelearning.com/wp-content/uploads/2023/08/myrtle-icon-whitejpg.jpg
END:VEVENT
BEGIN:VEVENT
DTSTART;TZID=UTC:20260609T183000
DTEND;TZID=UTC:20260609T203000
DTSTAMP:20260421T235212
CREATED:20241023T111356Z
LAST-MODIFIED:20260317T183637Z
UID:10099171-1781029800-1781037000@myrtlelearning.com
SUMMARY:26EP Myrtle 1 EVR
DESCRIPTION:26EP Myrtle 1 EVR \nThese group is made of students preparing for their 11plus exams in 2026 \nSelect the button below to join the lesson online
URL:https://myrtlelearning.com/event/26ep-myrtle-1-ma-2/2026-06-09/
LOCATION:Online Session\, 25 Pattens Gardens\, Rochester\, Other\, ME1 2QP\, United Kingdom
CATEGORIES:26EP Myrtle 1 EVR
ATTACH;FMTTYPE=image/jpeg:https://myrtlelearning.com/wp-content/uploads/2023/08/myrtle-icon-whitejpg.jpg
END:VEVENT
BEGIN:VEVENT
DTSTART;TZID=UTC:20260616T183000
DTEND;TZID=UTC:20260616T203000
DTSTAMP:20260421T235212
CREATED:20241023T111356Z
LAST-MODIFIED:20260317T183637Z
UID:10099172-1781634600-1781641800@myrtlelearning.com
SUMMARY:26EP Myrtle 1 EVR
DESCRIPTION:26EP Myrtle 1 EVR \nThese group is made of students preparing for their 11plus exams in 2026 \nSelect the button below to join the lesson online
URL:https://myrtlelearning.com/event/26ep-myrtle-1-ma-2/2026-06-16/
LOCATION:Online Session\, 25 Pattens Gardens\, Rochester\, Other\, ME1 2QP\, United Kingdom
CATEGORIES:26EP Myrtle 1 EVR
ATTACH;FMTTYPE=image/jpeg:https://myrtlelearning.com/wp-content/uploads/2023/08/myrtle-icon-whitejpg.jpg
END:VEVENT
BEGIN:VEVENT
DTSTART;TZID=UTC:20260623T183000
DTEND;TZID=UTC:20260623T203000
DTSTAMP:20260421T235212
CREATED:20241023T111356Z
LAST-MODIFIED:20260317T183637Z
UID:10099173-1782239400-1782246600@myrtlelearning.com
SUMMARY:26EP Myrtle 1 EVR
DESCRIPTION:26EP Myrtle 1 EVR \nThese group is made of students preparing for their 11plus exams in 2026 \nSelect the button below to join the lesson online
URL:https://myrtlelearning.com/event/26ep-myrtle-1-ma-2/2026-06-23/
LOCATION:Online Session\, 25 Pattens Gardens\, Rochester\, Other\, ME1 2QP\, United Kingdom
CATEGORIES:26EP Myrtle 1 EVR
ATTACH;FMTTYPE=image/jpeg:https://myrtlelearning.com/wp-content/uploads/2023/08/myrtle-icon-whitejpg.jpg
END:VEVENT
BEGIN:VEVENT
DTSTART;TZID=UTC:20260630T183000
DTEND;TZID=UTC:20260630T203000
DTSTAMP:20260421T235212
CREATED:20241023T111356Z
LAST-MODIFIED:20260317T183637Z
UID:10099174-1782844200-1782851400@myrtlelearning.com
SUMMARY:26EP Myrtle 1 EVR
DESCRIPTION:26EP Myrtle 1 EVR \nThese group is made of students preparing for their 11plus exams in 2026 \nSelect the button below to join the lesson online
URL:https://myrtlelearning.com/event/26ep-myrtle-1-ma-2/2026-06-30/
LOCATION:Online Session\, 25 Pattens Gardens\, Rochester\, Other\, ME1 2QP\, United Kingdom
CATEGORIES:26EP Myrtle 1 EVR
ATTACH;FMTTYPE=image/jpeg:https://myrtlelearning.com/wp-content/uploads/2023/08/myrtle-icon-whitejpg.jpg
END:VEVENT
END:VCALENDAR