BEGIN:VCALENDAR
VERSION:2.0
PRODID:-//Myrtle Learning - ECPv6.15.3//NONSGML v1.0//EN
CALSCALE:GREGORIAN
METHOD:PUBLISH
X-WR-CALNAME:Myrtle Learning
X-ORIGINAL-URL:https://myrtlelearning.com
X-WR-CALDESC:Events for Myrtle Learning
REFRESH-INTERVAL;VALUE=DURATION:PT1H
X-Robots-Tag:noindex
X-PUBLISHED-TTL:PT1H
BEGIN:VTIMEZONE
TZID:UTC
BEGIN:STANDARD
TZOFFSETFROM:+0000
TZOFFSETTO:+0000
TZNAME:UTC
DTSTART:20280101T000000
END:STANDARD
END:VTIMEZONE
BEGIN:VEVENT
DTSTART;TZID=UTC:20280502T183000
DTEND;TZID=UTC:20280502T203000
DTSTAMP:20260423T110215
CREATED:20241023T111356Z
LAST-MODIFIED:20260317T183637Z
UID:10099270-1840905000-1840912200@myrtlelearning.com
SUMMARY:26EP Myrtle 1 EVR
DESCRIPTION:26EP Myrtle 1 EVR \nThese group is made of students preparing for their 11plus exams in 2026 \nSelect the button below to join the lesson online
URL:https://myrtlelearning.com/event/26ep-myrtle-1-ma-2/2028-05-02/
LOCATION:Online Session\, 25 Pattens Gardens\, Rochester\, Other\, ME1 2QP\, United Kingdom
CATEGORIES:26EP Myrtle 1 EVR
ATTACH;FMTTYPE=image/jpeg:https://myrtlelearning.com/wp-content/uploads/2023/08/myrtle-icon-whitejpg.jpg
END:VEVENT
BEGIN:VEVENT
DTSTART;TZID=UTC:20280509T183000
DTEND;TZID=UTC:20280509T203000
DTSTAMP:20260423T110215
CREATED:20241023T111356Z
LAST-MODIFIED:20260317T183637Z
UID:10099271-1841509800-1841517000@myrtlelearning.com
SUMMARY:26EP Myrtle 1 EVR
DESCRIPTION:26EP Myrtle 1 EVR \nThese group is made of students preparing for their 11plus exams in 2026 \nSelect the button below to join the lesson online
URL:https://myrtlelearning.com/event/26ep-myrtle-1-ma-2/2028-05-09/
LOCATION:Online Session\, 25 Pattens Gardens\, Rochester\, Other\, ME1 2QP\, United Kingdom
CATEGORIES:26EP Myrtle 1 EVR
ATTACH;FMTTYPE=image/jpeg:https://myrtlelearning.com/wp-content/uploads/2023/08/myrtle-icon-whitejpg.jpg
END:VEVENT
BEGIN:VEVENT
DTSTART;TZID=UTC:20280516T183000
DTEND;TZID=UTC:20280516T203000
DTSTAMP:20260423T110215
CREATED:20241023T111356Z
LAST-MODIFIED:20260317T183637Z
UID:10099272-1842114600-1842121800@myrtlelearning.com
SUMMARY:26EP Myrtle 1 EVR
DESCRIPTION:26EP Myrtle 1 EVR \nThese group is made of students preparing for their 11plus exams in 2026 \nSelect the button below to join the lesson online
URL:https://myrtlelearning.com/event/26ep-myrtle-1-ma-2/2028-05-16/
LOCATION:Online Session\, 25 Pattens Gardens\, Rochester\, Other\, ME1 2QP\, United Kingdom
CATEGORIES:26EP Myrtle 1 EVR
ATTACH;FMTTYPE=image/jpeg:https://myrtlelearning.com/wp-content/uploads/2023/08/myrtle-icon-whitejpg.jpg
END:VEVENT
BEGIN:VEVENT
DTSTART;TZID=UTC:20280523T183000
DTEND;TZID=UTC:20280523T203000
DTSTAMP:20260423T110215
CREATED:20241023T111356Z
LAST-MODIFIED:20260317T183637Z
UID:10099273-1842719400-1842726600@myrtlelearning.com
SUMMARY:26EP Myrtle 1 EVR
DESCRIPTION:26EP Myrtle 1 EVR \nThese group is made of students preparing for their 11plus exams in 2026 \nSelect the button below to join the lesson online
URL:https://myrtlelearning.com/event/26ep-myrtle-1-ma-2/2028-05-23/
LOCATION:Online Session\, 25 Pattens Gardens\, Rochester\, Other\, ME1 2QP\, United Kingdom
CATEGORIES:26EP Myrtle 1 EVR
ATTACH;FMTTYPE=image/jpeg:https://myrtlelearning.com/wp-content/uploads/2023/08/myrtle-icon-whitejpg.jpg
END:VEVENT
BEGIN:VEVENT
DTSTART;TZID=UTC:20280530T183000
DTEND;TZID=UTC:20280530T203000
DTSTAMP:20260423T110215
CREATED:20241023T111356Z
LAST-MODIFIED:20260317T183637Z
UID:10099274-1843324200-1843331400@myrtlelearning.com
SUMMARY:26EP Myrtle 1 EVR
DESCRIPTION:26EP Myrtle 1 EVR \nThese group is made of students preparing for their 11plus exams in 2026 \nSelect the button below to join the lesson online
URL:https://myrtlelearning.com/event/26ep-myrtle-1-ma-2/2028-05-30/
LOCATION:Online Session\, 25 Pattens Gardens\, Rochester\, Other\, ME1 2QP\, United Kingdom
CATEGORIES:26EP Myrtle 1 EVR
ATTACH;FMTTYPE=image/jpeg:https://myrtlelearning.com/wp-content/uploads/2023/08/myrtle-icon-whitejpg.jpg
END:VEVENT
END:VCALENDAR