BEGIN:VCALENDAR
VERSION:2.0
PRODID:-//Myrtle Learning - ECPv6.15.3//NONSGML v1.0//EN
CALSCALE:GREGORIAN
METHOD:PUBLISH
X-ORIGINAL-URL:https://myrtlelearning.com
X-WR-CALDESC:Events for Myrtle Learning
REFRESH-INTERVAL;VALUE=DURATION:PT1H
X-Robots-Tag:noindex
X-PUBLISHED-TTL:PT1H
BEGIN:VTIMEZONE
TZID:UTC
BEGIN:STANDARD
TZOFFSETFROM:+0000
TZOFFSETTO:+0000
TZNAME:UTC
DTSTART:20270101T000000
END:STANDARD
END:VTIMEZONE
BEGIN:VEVENT
DTSTART;TZID=UTC:20270402T170000
DTEND;TZID=UTC:20270402T180000
DTSTAMP:20260422T193610
CREATED:20241107T185502Z
LAST-MODIFIED:20260126T120544Z
UID:10091058-1806685200-1806688800@myrtlelearning.com
SUMMARY:26EP Myrtle 1 Ma
DESCRIPTION:26EP Myrtle 1 Ma \nThese group is made of students preparing for their 11plus exams in 2026 \nSelect the button below to join the lesson online
URL:https://myrtlelearning.com/event/26ep-myrtle-1-ma-4/2027-04-02/
LOCATION:Myrtle Learning Centre\, Pattens Gardens\, Rochester\, Kent\, ME1 2QP\, United Kingdom
CATEGORIES:26EP Myrtle 1 Ma
ATTACH;FMTTYPE=image/jpeg:https://myrtlelearning.com/wp-content/uploads/2023/08/myrtle-icon-whitejpg.jpg
END:VEVENT
BEGIN:VEVENT
DTSTART;TZID=UTC:20270409T170000
DTEND;TZID=UTC:20270409T180000
DTSTAMP:20260422T193610
CREATED:20241107T185502Z
LAST-MODIFIED:20260126T120544Z
UID:10091059-1807290000-1807293600@myrtlelearning.com
SUMMARY:26EP Myrtle 1 Ma
DESCRIPTION:26EP Myrtle 1 Ma \nThese group is made of students preparing for their 11plus exams in 2026 \nSelect the button below to join the lesson online
URL:https://myrtlelearning.com/event/26ep-myrtle-1-ma-4/2027-04-09/
LOCATION:Myrtle Learning Centre\, Pattens Gardens\, Rochester\, Kent\, ME1 2QP\, United Kingdom
CATEGORIES:26EP Myrtle 1 Ma
ATTACH;FMTTYPE=image/jpeg:https://myrtlelearning.com/wp-content/uploads/2023/08/myrtle-icon-whitejpg.jpg
END:VEVENT
BEGIN:VEVENT
DTSTART;TZID=UTC:20270416T170000
DTEND;TZID=UTC:20270416T180000
DTSTAMP:20260422T193610
CREATED:20241107T185502Z
LAST-MODIFIED:20260126T120544Z
UID:10091060-1807894800-1807898400@myrtlelearning.com
SUMMARY:26EP Myrtle 1 Ma
DESCRIPTION:26EP Myrtle 1 Ma \nThese group is made of students preparing for their 11plus exams in 2026 \nSelect the button below to join the lesson online
URL:https://myrtlelearning.com/event/26ep-myrtle-1-ma-4/2027-04-16/
LOCATION:Myrtle Learning Centre\, Pattens Gardens\, Rochester\, Kent\, ME1 2QP\, United Kingdom
CATEGORIES:26EP Myrtle 1 Ma
ATTACH;FMTTYPE=image/jpeg:https://myrtlelearning.com/wp-content/uploads/2023/08/myrtle-icon-whitejpg.jpg
END:VEVENT
BEGIN:VEVENT
DTSTART;TZID=UTC:20270423T170000
DTEND;TZID=UTC:20270423T180000
DTSTAMP:20260422T193610
CREATED:20241107T185502Z
LAST-MODIFIED:20260126T120544Z
UID:10091061-1808499600-1808503200@myrtlelearning.com
SUMMARY:26EP Myrtle 1 Ma
DESCRIPTION:26EP Myrtle 1 Ma \nThese group is made of students preparing for their 11plus exams in 2026 \nSelect the button below to join the lesson online
URL:https://myrtlelearning.com/event/26ep-myrtle-1-ma-4/2027-04-23/
LOCATION:Myrtle Learning Centre\, Pattens Gardens\, Rochester\, Kent\, ME1 2QP\, United Kingdom
CATEGORIES:26EP Myrtle 1 Ma
ATTACH;FMTTYPE=image/jpeg:https://myrtlelearning.com/wp-content/uploads/2023/08/myrtle-icon-whitejpg.jpg
END:VEVENT
BEGIN:VEVENT
DTSTART;TZID=UTC:20270430T170000
DTEND;TZID=UTC:20270430T180000
DTSTAMP:20260422T193610
CREATED:20241107T185502Z
LAST-MODIFIED:20260126T120544Z
UID:10091062-1809104400-1809108000@myrtlelearning.com
SUMMARY:26EP Myrtle 1 Ma
DESCRIPTION:26EP Myrtle 1 Ma \nThese group is made of students preparing for their 11plus exams in 2026 \nSelect the button below to join the lesson online
URL:https://myrtlelearning.com/event/26ep-myrtle-1-ma-4/2027-04-30/
LOCATION:Myrtle Learning Centre\, Pattens Gardens\, Rochester\, Kent\, ME1 2QP\, United Kingdom
CATEGORIES:26EP Myrtle 1 Ma
ATTACH;FMTTYPE=image/jpeg:https://myrtlelearning.com/wp-content/uploads/2023/08/myrtle-icon-whitejpg.jpg
END:VEVENT
END:VCALENDAR