BEGIN:VCALENDAR
VERSION:2.0
PRODID:-//Myrtle Learning - ECPv6.15.3//NONSGML v1.0//EN
CALSCALE:GREGORIAN
METHOD:PUBLISH
X-ORIGINAL-URL:https://myrtlelearning.com
X-WR-CALDESC:Events for Myrtle Learning
REFRESH-INTERVAL;VALUE=DURATION:PT1H
X-Robots-Tag:noindex
X-PUBLISHED-TTL:PT1H
BEGIN:VTIMEZONE
TZID:UTC
BEGIN:STANDARD
TZOFFSETFROM:+0000
TZOFFSETTO:+0000
TZNAME:UTC
DTSTART:20260101T000000
END:STANDARD
END:VTIMEZONE
BEGIN:VEVENT
DTSTART;TZID=UTC:20260307T110000
DTEND;TZID=UTC:20260307T140000
DTSTAMP:20260421T003534
CREATED:20240914T164127Z
LAST-MODIFIED:20250131T104731Z
UID:10045288-1772881200-1772892000@myrtlelearning.com
SUMMARY:26EP Myrtle 2 Ma/EVR
DESCRIPTION:26EP Myrtle 2 Ma/EVR \nThese group is made of students preparing for their 11plus exams in 2026 \nSelect the button below to join the lesson online
URL:https://myrtlelearning.com/event/26ep-myrtle-2-ma-evr/2026-03-07/
LOCATION:Myrtle Learning Centre\, Pattens Gardens\, Rochester\, Kent\, ME1 2QP\, United Kingdom
CATEGORIES:26EP Myrtle 2 Ma/EVR
ATTACH;FMTTYPE=image/jpeg:https://myrtlelearning.com/wp-content/uploads/2023/08/myrtle-icon-whitejpg.jpg
END:VEVENT
BEGIN:VEVENT
DTSTART;TZID=UTC:20260314T110000
DTEND;TZID=UTC:20260314T140000
DTSTAMP:20260421T003534
CREATED:20240914T164127Z
LAST-MODIFIED:20250131T104731Z
UID:10045289-1773486000-1773496800@myrtlelearning.com
SUMMARY:26EP Myrtle 2 Ma/EVR
DESCRIPTION:26EP Myrtle 2 Ma/EVR \nThese group is made of students preparing for their 11plus exams in 2026 \nSelect the button below to join the lesson online
URL:https://myrtlelearning.com/event/26ep-myrtle-2-ma-evr/2026-03-14/
LOCATION:Myrtle Learning Centre\, Pattens Gardens\, Rochester\, Kent\, ME1 2QP\, United Kingdom
CATEGORIES:26EP Myrtle 2 Ma/EVR
ATTACH;FMTTYPE=image/jpeg:https://myrtlelearning.com/wp-content/uploads/2023/08/myrtle-icon-whitejpg.jpg
END:VEVENT
BEGIN:VEVENT
DTSTART;TZID=UTC:20260321T110000
DTEND;TZID=UTC:20260321T140000
DTSTAMP:20260421T003534
CREATED:20240914T164127Z
LAST-MODIFIED:20250131T104731Z
UID:10045290-1774090800-1774101600@myrtlelearning.com
SUMMARY:26EP Myrtle 2 Ma/EVR
DESCRIPTION:26EP Myrtle 2 Ma/EVR \nThese group is made of students preparing for their 11plus exams in 2026 \nSelect the button below to join the lesson online
URL:https://myrtlelearning.com/event/26ep-myrtle-2-ma-evr/2026-03-21/
LOCATION:Myrtle Learning Centre\, Pattens Gardens\, Rochester\, Kent\, ME1 2QP\, United Kingdom
CATEGORIES:26EP Myrtle 2 Ma/EVR
ATTACH;FMTTYPE=image/jpeg:https://myrtlelearning.com/wp-content/uploads/2023/08/myrtle-icon-whitejpg.jpg
END:VEVENT
BEGIN:VEVENT
DTSTART;TZID=UTC:20260328T110000
DTEND;TZID=UTC:20260328T140000
DTSTAMP:20260421T003534
CREATED:20240914T164127Z
LAST-MODIFIED:20250131T104731Z
UID:10045291-1774695600-1774706400@myrtlelearning.com
SUMMARY:26EP Myrtle 2 Ma/EVR
DESCRIPTION:26EP Myrtle 2 Ma/EVR \nThese group is made of students preparing for their 11plus exams in 2026 \nSelect the button below to join the lesson online
URL:https://myrtlelearning.com/event/26ep-myrtle-2-ma-evr/2026-03-28/
LOCATION:Myrtle Learning Centre\, Pattens Gardens\, Rochester\, Kent\, ME1 2QP\, United Kingdom
CATEGORIES:26EP Myrtle 2 Ma/EVR
ATTACH;FMTTYPE=image/jpeg:https://myrtlelearning.com/wp-content/uploads/2023/08/myrtle-icon-whitejpg.jpg
END:VEVENT
END:VCALENDAR