BEGIN:VCALENDAR
VERSION:2.0
PRODID:-//Myrtle Learning - ECPv6.15.3//NONSGML v1.0//EN
CALSCALE:GREGORIAN
METHOD:PUBLISH
X-ORIGINAL-URL:https://myrtlelearning.com
X-WR-CALDESC:Events for Myrtle Learning
REFRESH-INTERVAL;VALUE=DURATION:PT1H
X-Robots-Tag:noindex
X-PUBLISHED-TTL:PT1H
BEGIN:VTIMEZONE
TZID:UTC
BEGIN:STANDARD
TZOFFSETFROM:+0000
TZOFFSETTO:+0000
TZNAME:UTC
DTSTART:20270101T000000
END:STANDARD
END:VTIMEZONE
BEGIN:VEVENT
DTSTART;TZID=UTC:20270703T110000
DTEND;TZID=UTC:20270703T140000
DTSTAMP:20260422T114908
CREATED:20240914T164127Z
LAST-MODIFIED:20250131T104731Z
UID:10045357-1814612400-1814623200@myrtlelearning.com
SUMMARY:26EP Myrtle 2 Ma/EVR
DESCRIPTION:26EP Myrtle 2 Ma/EVR \nThese group is made of students preparing for their 11plus exams in 2026 \nSelect the button below to join the lesson online
URL:https://myrtlelearning.com/event/26ep-myrtle-2-ma-evr/2027-07-03/
LOCATION:Myrtle Learning Centre\, Pattens Gardens\, Rochester\, Kent\, ME1 2QP\, United Kingdom
CATEGORIES:26EP Myrtle 2 Ma/EVR
ATTACH;FMTTYPE=image/jpeg:https://myrtlelearning.com/wp-content/uploads/2023/08/myrtle-icon-whitejpg.jpg
END:VEVENT
BEGIN:VEVENT
DTSTART;TZID=UTC:20270710T110000
DTEND;TZID=UTC:20270710T140000
DTSTAMP:20260422T114908
CREATED:20240914T164127Z
LAST-MODIFIED:20250131T104731Z
UID:10045358-1815217200-1815228000@myrtlelearning.com
SUMMARY:26EP Myrtle 2 Ma/EVR
DESCRIPTION:26EP Myrtle 2 Ma/EVR \nThese group is made of students preparing for their 11plus exams in 2026 \nSelect the button below to join the lesson online
URL:https://myrtlelearning.com/event/26ep-myrtle-2-ma-evr/2027-07-10/
LOCATION:Myrtle Learning Centre\, Pattens Gardens\, Rochester\, Kent\, ME1 2QP\, United Kingdom
CATEGORIES:26EP Myrtle 2 Ma/EVR
ATTACH;FMTTYPE=image/jpeg:https://myrtlelearning.com/wp-content/uploads/2023/08/myrtle-icon-whitejpg.jpg
END:VEVENT
BEGIN:VEVENT
DTSTART;TZID=UTC:20270717T110000
DTEND;TZID=UTC:20270717T140000
DTSTAMP:20260422T114908
CREATED:20240914T164127Z
LAST-MODIFIED:20250131T104731Z
UID:10045359-1815822000-1815832800@myrtlelearning.com
SUMMARY:26EP Myrtle 2 Ma/EVR
DESCRIPTION:26EP Myrtle 2 Ma/EVR \nThese group is made of students preparing for their 11plus exams in 2026 \nSelect the button below to join the lesson online
URL:https://myrtlelearning.com/event/26ep-myrtle-2-ma-evr/2027-07-17/
LOCATION:Myrtle Learning Centre\, Pattens Gardens\, Rochester\, Kent\, ME1 2QP\, United Kingdom
CATEGORIES:26EP Myrtle 2 Ma/EVR
ATTACH;FMTTYPE=image/jpeg:https://myrtlelearning.com/wp-content/uploads/2023/08/myrtle-icon-whitejpg.jpg
END:VEVENT
BEGIN:VEVENT
DTSTART;TZID=UTC:20270724T110000
DTEND;TZID=UTC:20270724T140000
DTSTAMP:20260422T114908
CREATED:20240914T164127Z
LAST-MODIFIED:20250131T104731Z
UID:10045360-1816426800-1816437600@myrtlelearning.com
SUMMARY:26EP Myrtle 2 Ma/EVR
DESCRIPTION:26EP Myrtle 2 Ma/EVR \nThese group is made of students preparing for their 11plus exams in 2026 \nSelect the button below to join the lesson online
URL:https://myrtlelearning.com/event/26ep-myrtle-2-ma-evr/2027-07-24/
LOCATION:Myrtle Learning Centre\, Pattens Gardens\, Rochester\, Kent\, ME1 2QP\, United Kingdom
CATEGORIES:26EP Myrtle 2 Ma/EVR
ATTACH;FMTTYPE=image/jpeg:https://myrtlelearning.com/wp-content/uploads/2023/08/myrtle-icon-whitejpg.jpg
END:VEVENT
BEGIN:VEVENT
DTSTART;TZID=UTC:20270731T110000
DTEND;TZID=UTC:20270731T140000
DTSTAMP:20260422T114908
CREATED:20240914T164127Z
LAST-MODIFIED:20250131T104731Z
UID:10045361-1817031600-1817042400@myrtlelearning.com
SUMMARY:26EP Myrtle 2 Ma/EVR
DESCRIPTION:26EP Myrtle 2 Ma/EVR \nThese group is made of students preparing for their 11plus exams in 2026 \nSelect the button below to join the lesson online
URL:https://myrtlelearning.com/event/26ep-myrtle-2-ma-evr/2027-07-31/
LOCATION:Myrtle Learning Centre\, Pattens Gardens\, Rochester\, Kent\, ME1 2QP\, United Kingdom
CATEGORIES:26EP Myrtle 2 Ma/EVR
ATTACH;FMTTYPE=image/jpeg:https://myrtlelearning.com/wp-content/uploads/2023/08/myrtle-icon-whitejpg.jpg
END:VEVENT
END:VCALENDAR