BEGIN:VCALENDAR
VERSION:2.0
PRODID:-//Myrtle Learning - ECPv6.15.3//NONSGML v1.0//EN
CALSCALE:GREGORIAN
METHOD:PUBLISH
X-WR-CALNAME:Myrtle Learning
X-ORIGINAL-URL:https://myrtlelearning.com
X-WR-CALDESC:Events for Myrtle Learning
REFRESH-INTERVAL;VALUE=DURATION:PT1H
X-Robots-Tag:noindex
X-PUBLISHED-TTL:PT1H
BEGIN:VTIMEZONE
TZID:UTC
BEGIN:STANDARD
TZOFFSETFROM:+0000
TZOFFSETTO:+0000
TZNAME:UTC
DTSTART:20280101T000000
END:STANDARD
END:VTIMEZONE
BEGIN:VEVENT
DTSTART;TZID=UTC:20280401T110000
DTEND;TZID=UTC:20280401T140000
DTSTAMP:20260423T112724
CREATED:20240914T164127Z
LAST-MODIFIED:20250131T104731Z
UID:10045396-1838199600-1838210400@myrtlelearning.com
SUMMARY:26EP Myrtle 2 Ma/EVR
DESCRIPTION:26EP Myrtle 2 Ma/EVR \nThese group is made of students preparing for their 11plus exams in 2026 \nSelect the button below to join the lesson online
URL:https://myrtlelearning.com/event/26ep-myrtle-2-ma-evr/2028-04-01/
LOCATION:Myrtle Learning Centre\, Pattens Gardens\, Rochester\, Kent\, ME1 2QP\, United Kingdom
CATEGORIES:26EP Myrtle 2 Ma/EVR
ATTACH;FMTTYPE=image/jpeg:https://myrtlelearning.com/wp-content/uploads/2023/08/myrtle-icon-whitejpg.jpg
END:VEVENT
BEGIN:VEVENT
DTSTART;TZID=UTC:20280408T110000
DTEND;TZID=UTC:20280408T140000
DTSTAMP:20260423T112724
CREATED:20240914T164127Z
LAST-MODIFIED:20250131T104731Z
UID:10045397-1838804400-1838815200@myrtlelearning.com
SUMMARY:26EP Myrtle 2 Ma/EVR
DESCRIPTION:26EP Myrtle 2 Ma/EVR \nThese group is made of students preparing for their 11plus exams in 2026 \nSelect the button below to join the lesson online
URL:https://myrtlelearning.com/event/26ep-myrtle-2-ma-evr/2028-04-08/
LOCATION:Myrtle Learning Centre\, Pattens Gardens\, Rochester\, Kent\, ME1 2QP\, United Kingdom
CATEGORIES:26EP Myrtle 2 Ma/EVR
ATTACH;FMTTYPE=image/jpeg:https://myrtlelearning.com/wp-content/uploads/2023/08/myrtle-icon-whitejpg.jpg
END:VEVENT
BEGIN:VEVENT
DTSTART;TZID=UTC:20280415T110000
DTEND;TZID=UTC:20280415T140000
DTSTAMP:20260423T112724
CREATED:20240914T164127Z
LAST-MODIFIED:20250131T104731Z
UID:10045398-1839409200-1839420000@myrtlelearning.com
SUMMARY:26EP Myrtle 2 Ma/EVR
DESCRIPTION:26EP Myrtle 2 Ma/EVR \nThese group is made of students preparing for their 11plus exams in 2026 \nSelect the button below to join the lesson online
URL:https://myrtlelearning.com/event/26ep-myrtle-2-ma-evr/2028-04-15/
LOCATION:Myrtle Learning Centre\, Pattens Gardens\, Rochester\, Kent\, ME1 2QP\, United Kingdom
CATEGORIES:26EP Myrtle 2 Ma/EVR
ATTACH;FMTTYPE=image/jpeg:https://myrtlelearning.com/wp-content/uploads/2023/08/myrtle-icon-whitejpg.jpg
END:VEVENT
BEGIN:VEVENT
DTSTART;TZID=UTC:20280422T110000
DTEND;TZID=UTC:20280422T140000
DTSTAMP:20260423T112724
CREATED:20240914T164127Z
LAST-MODIFIED:20250131T104731Z
UID:10045399-1840014000-1840024800@myrtlelearning.com
SUMMARY:26EP Myrtle 2 Ma/EVR
DESCRIPTION:26EP Myrtle 2 Ma/EVR \nThese group is made of students preparing for their 11plus exams in 2026 \nSelect the button below to join the lesson online
URL:https://myrtlelearning.com/event/26ep-myrtle-2-ma-evr/2028-04-22/
LOCATION:Myrtle Learning Centre\, Pattens Gardens\, Rochester\, Kent\, ME1 2QP\, United Kingdom
CATEGORIES:26EP Myrtle 2 Ma/EVR
ATTACH;FMTTYPE=image/jpeg:https://myrtlelearning.com/wp-content/uploads/2023/08/myrtle-icon-whitejpg.jpg
END:VEVENT
BEGIN:VEVENT
DTSTART;TZID=UTC:20280429T110000
DTEND;TZID=UTC:20280429T140000
DTSTAMP:20260423T112724
CREATED:20240914T164127Z
LAST-MODIFIED:20250131T104731Z
UID:10045400-1840618800-1840629600@myrtlelearning.com
SUMMARY:26EP Myrtle 2 Ma/EVR
DESCRIPTION:26EP Myrtle 2 Ma/EVR \nThese group is made of students preparing for their 11plus exams in 2026 \nSelect the button below to join the lesson online
URL:https://myrtlelearning.com/event/26ep-myrtle-2-ma-evr/2028-04-29/
LOCATION:Myrtle Learning Centre\, Pattens Gardens\, Rochester\, Kent\, ME1 2QP\, United Kingdom
CATEGORIES:26EP Myrtle 2 Ma/EVR
ATTACH;FMTTYPE=image/jpeg:https://myrtlelearning.com/wp-content/uploads/2023/08/myrtle-icon-whitejpg.jpg
END:VEVENT
END:VCALENDAR